Back to Multiple platform build/check report for BioC 3.21: simplified long |
|
This page was generated on 2025-02-04 11:39 -0500 (Tue, 04 Feb 2025).
Hostname | OS | Arch (*) | R version | Installed pkgs |
---|---|---|---|---|
nebbiolo1 | Linux (Ubuntu 24.04.1 LTS) | x86_64 | R Under development (unstable) (2025-01-20 r87609) -- "Unsuffered Consequences" | 4716 |
palomino7 | Windows Server 2022 Datacenter | x64 | R Under development (unstable) (2025-01-21 r87610 ucrt) -- "Unsuffered Consequences" | 4478 |
lconway | macOS 12.7.1 Monterey | x86_64 | R Under development (unstable) (2025-01-22 r87618) -- "Unsuffered Consequences" | 4489 |
kjohnson3 | macOS 13.7.1 Ventura | arm64 | R Under development (unstable) (2025-01-20 r87609) -- "Unsuffered Consequences" | 4442 |
Click on any hostname to see more info about the system (e.g. compilers) (*) as reported by 'uname -p', except on Windows and Mac OS X |
Package 549/2295 | Hostname | OS / Arch | INSTALL | BUILD | CHECK | BUILD BIN | ||||||||
derfinder 1.41.0 (landing page) Leonardo Collado-Torres
| nebbiolo1 | Linux (Ubuntu 24.04.1 LTS) / x86_64 | OK | OK | OK | ![]() | ||||||||
palomino7 | Windows Server 2022 Datacenter / x64 | OK | OK | OK | OK | ![]() | ||||||||
lconway | macOS 12.7.1 Monterey / x86_64 | OK | OK | OK | OK | ![]() | ||||||||
kjohnson3 | macOS 13.7.1 Ventura / arm64 | OK | OK | OK | OK | ![]() | ||||||||
To the developers/maintainers of the derfinder package: - Allow up to 24 hours (and sometimes 48 hours) for your latest push to git@git.bioconductor.org:packages/derfinder.git to reflect on this report. See Troubleshooting Build Report for more information. - Use the following Renviron settings to reproduce errors and warnings. - If 'R CMD check' started to fail recently on the Linux builder(s) over a missing dependency, add the missing dependency to 'Suggests:' in your DESCRIPTION file. See Renviron.bioc for more information. |
Package: derfinder |
Version: 1.41.0 |
Command: /home/biocbuild/bbs-3.21-bioc/R/bin/R CMD check --install=check:derfinder.install-out.txt --library=/home/biocbuild/bbs-3.21-bioc/R/site-library --timings derfinder_1.41.0.tar.gz |
StartedAt: 2025-02-03 21:49:25 -0500 (Mon, 03 Feb 2025) |
EndedAt: 2025-02-03 22:00:38 -0500 (Mon, 03 Feb 2025) |
EllapsedTime: 672.8 seconds |
RetCode: 0 |
Status: OK |
CheckDir: derfinder.Rcheck |
Warnings: 0 |
############################################################################## ############################################################################## ### ### Running command: ### ### /home/biocbuild/bbs-3.21-bioc/R/bin/R CMD check --install=check:derfinder.install-out.txt --library=/home/biocbuild/bbs-3.21-bioc/R/site-library --timings derfinder_1.41.0.tar.gz ### ############################################################################## ############################################################################## * using log directory ‘/home/biocbuild/bbs-3.21-bioc/meat/derfinder.Rcheck’ * using R Under development (unstable) (2025-01-20 r87609) * using platform: x86_64-pc-linux-gnu * R was compiled by gcc (Ubuntu 13.3.0-6ubuntu2~24.04) 13.3.0 GNU Fortran (Ubuntu 13.3.0-6ubuntu2~24.04) 13.3.0 * running under: Ubuntu 24.04.1 LTS * using session charset: UTF-8 * checking for file ‘derfinder/DESCRIPTION’ ... OK * checking extension type ... Package * this is package ‘derfinder’ version ‘1.41.0’ * package encoding: UTF-8 * checking package namespace information ... OK * checking package dependencies ... OK * checking if this is a source package ... OK * checking if there is a namespace ... OK * checking for hidden files and directories ... OK * checking for portable file names ... OK * checking for sufficient/correct file permissions ... OK * checking whether package ‘derfinder’ can be installed ... OK * checking installed package size ... OK * checking package directory ... OK * checking ‘build’ directory ... OK * checking DESCRIPTION meta-information ... OK * checking top-level files ... OK * checking for left-over files ... OK * checking index information ... OK * checking package subdirectories ... OK * checking code files for non-ASCII characters ... OK * checking R files for syntax errors ... OK * checking whether the package can be loaded ... OK * checking whether the package can be loaded with stated dependencies ... OK * checking whether the package can be unloaded cleanly ... OK * checking whether the namespace can be loaded with stated dependencies ... OK * checking whether the namespace can be unloaded cleanly ... OK * checking loading without being on the library search path ... OK * checking dependencies in R code ... NOTE Unexported objects imported by ':::' calls: ‘GenomeInfoDb:::.guessSpeciesStyle’ ‘GenomeInfoDb:::.supportedSeqnameMappings’ See the note in ?`:::` about the use of this operator. There are ::: calls to the package's namespace in its code. A package almost never needs to use ::: for its own objects: ‘.smootherFstats’ * checking S3 generic/method consistency ... OK * checking replacement functions ... OK * checking foreign function calls ... OK * checking R code for possible problems ... OK * checking Rd files ... NOTE checkRd: (-1) createBwSample.Rd:59: Lost braces 59 | link{coerceGR} | ^ checkRd: (-1) derfinder-deprecated.Rd:30-31: Lost braces in \itemize; meant \describe ? checkRd: (-1) sampleDepth.Rd:41-47: Lost braces 41 | equal to quantiles of interest. The resulting values are transformed {log2(x | ^ * checking Rd metadata ... OK * checking Rd cross-references ... OK * checking for missing documentation entries ... OK * checking for code/documentation mismatches ... OK * checking Rd \usage sections ... OK * checking Rd contents ... OK * checking for unstated dependencies in examples ... OK * checking contents of ‘data’ directory ... OK * checking data for non-ASCII characters ... OK * checking LazyData ... OK * checking data for ASCII and uncompressed saves ... OK * checking files in ‘vignettes’ ... OK * checking examples ... OK Examples with CPU (user + system) or elapsed time > 5s user system elapsed railMatrix 7.611 0.285 7.917 coverageToExon 4.766 0.536 5.303 * checking for unstated dependencies in ‘tests’ ... OK * checking tests ... Running ‘test-all.R’ OK * checking for unstated dependencies in vignettes ... OK * checking package vignettes ... OK * checking re-building of vignette outputs ... OK * checking PDF version of manual ... OK * DONE Status: 2 NOTEs See ‘/home/biocbuild/bbs-3.21-bioc/meat/derfinder.Rcheck/00check.log’ for details.
derfinder.Rcheck/00install.out
############################################################################## ############################################################################## ### ### Running command: ### ### /home/biocbuild/bbs-3.21-bioc/R/bin/R CMD INSTALL derfinder ### ############################################################################## ############################################################################## * installing to library ‘/home/biocbuild/bbs-3.21-bioc/R/site-library’ * installing *source* package ‘derfinder’ ... ** this is package ‘derfinder’ version ‘1.41.0’ ** using staged installation ** R ** data *** moving datasets to lazyload DB ** inst ** byte-compile and prepare package for lazy loading ** help *** installing help indices ** building package indices ** installing vignettes ** testing if installed package can be loaded from temporary location ** testing if installed package can be loaded from final location ** testing if installed package keeps a record of temporary installation path * DONE (derfinder)
derfinder.Rcheck/tests/test-all.Rout
R Under development (unstable) (2025-01-20 r87609) -- "Unsuffered Consequences" Copyright (C) 2025 The R Foundation for Statistical Computing Platform: x86_64-pc-linux-gnu R is free software and comes with ABSOLUTELY NO WARRANTY. You are welcome to redistribute it under certain conditions. Type 'license()' or 'licence()' for distribution details. R is a collaborative project with many contributors. Type 'contributors()' for more information and 'citation()' on how to cite R or R packages in publications. Type 'demo()' for some demos, 'help()' for on-line help, or 'help.start()' for an HTML browser interface to help. Type 'q()' to quit R. > ## Disable the tests if the system variable 'R_DISABLE_TESTS' is set to TRUE > > flag <- as.logical(Sys.getenv("R_DISABLE_TESTS")) > if (is.na(flag) | flag == FALSE) { + library("testthat") + test_check("derfinder") + } Loading required package: derfinder class: SerialParam bpisup: FALSE; bpnworkers: 1; bptasks: 0; bpjobname: BPJOB bplog: FALSE; bpthreshold: INFO; bpstopOnError: TRUE bpRNGseed: ; bptimeout: NA; bpprogressbar: FALSE bpexportglobals: FALSE; bpexportvariables: FALSE; bpforceGC: FALSE bpfallback: FALSE bplogdir: NA bpresultdir: NA Error in x$.self$finalize() : attempt to apply non-function class: SerialParam bpisup: FALSE; bpnworkers: 1; bptasks: 0; bpjobname: BPJOB bplog: FALSE; bpthreshold: INFO; bpstopOnError: TRUE bpRNGseed: ; bptimeout: NA; bpprogressbar: FALSE bpexportglobals: FALSE; bpexportvariables: FALSE; bpforceGC: FALSE bpfallback: FALSE bplogdir: NA bpresultdir: NA class: SerialParam bpisup: FALSE; bpnworkers: 1; bptasks: 0; bpjobname: BPJOB bplog: FALSE; bpthreshold: INFO; bpstopOnError: TRUE bpRNGseed: ; bptimeout: NA; bpprogressbar: FALSE bpexportglobals: FALSE; bpexportvariables: FALSE; bpforceGC: FALSE bpfallback: FALSE bplogdir: NA bpresultdir: NA class: SerialParam bpisup: FALSE; bpnworkers: 1; bptasks: 0; bpjobname: BPJOB bplog: FALSE; bpthreshold: INFO; bpstopOnError: TRUE bpRNGseed: ; bptimeout: NA; bpprogressbar: FALSE bpexportglobals: FALSE; bpexportvariables: FALSE; bpforceGC: FALSE bpfallback: FALSE bplogdir: NA bpresultdir: NA class: SerialParam bpisup: FALSE; bpnworkers: 1; bptasks: 0; bpjobname: BPJOB bplog: FALSE; bpthreshold: INFO; bpstopOnError: TRUE bpRNGseed: ; bptimeout: NA; bpprogressbar: FALSE bpexportglobals: FALSE; bpexportvariables: FALSE; bpforceGC: FALSE bpfallback: FALSE bplogdir: NA bpresultdir: NA class: SerialParam bpisup: FALSE; bpnworkers: 1; bptasks: 0; bpjobname: BPJOB bplog: FALSE; bpthreshold: INFO; bpstopOnError: TRUE bpRNGseed: ; bptimeout: NA; bpprogressbar: FALSE bpexportglobals: FALSE; bpexportvariables: FALSE; bpforceGC: FALSE bpfallback: FALSE bplogdir: NA bpresultdir: NA class: SerialParam bpisup: FALSE; bpnworkers: 1; bptasks: 0; bpjobname: BPJOB bplog: FALSE; bpthreshold: INFO; bpstopOnError: TRUE bpRNGseed: ; bptimeout: NA; bpprogressbar: FALSE bpexportglobals: FALSE; bpexportvariables: FALSE; bpforceGC: FALSE bpfallback: FALSE bplogdir: NA bpresultdir: NA class: SerialParam bpisup: FALSE; bpnworkers: 1; bptasks: 0; bpjobname: BPJOB bplog: FALSE; bpthreshold: INFO; bpstopOnError: TRUE bpRNGseed: ; bptimeout: NA; bpprogressbar: FALSE bpexportglobals: FALSE; bpexportvariables: FALSE; bpforceGC: FALSE bpfallback: FALSE bplogdir: NA bpresultdir: NA [ FAIL 0 | WARN 3 | SKIP 0 | PASS 137 ] [ FAIL 0 | WARN 3 | SKIP 0 | PASS 137 ] Warning message: call dbDisconnect() when finished working with a connection > > proc.time() user system elapsed 169.089 6.118 175.402
derfinder.Rcheck/derfinder-Ex.timings
name | user | system | elapsed | |
analyzeChr | 1.051 | 0.144 | 1.196 | |
annotateRegions | 0.335 | 0.020 | 0.353 | |
calculatePvalues | 0.857 | 0.005 | 0.862 | |
calculateStats | 0.445 | 0.040 | 0.486 | |
coerceGR | 0.075 | 0.002 | 0.076 | |
collapseFullCoverage | 0.004 | 0.011 | 0.016 | |
coverageToExon | 4.766 | 0.536 | 5.303 | |
createBw | 0.163 | 0.002 | 0.167 | |
createBwSample | 0.06 | 0.00 | 0.06 | |
define_cluster | 0.005 | 0.000 | 0.006 | |
derfinder-deprecated | 0.002 | 0.000 | 0.002 | |
extendedMapSeqlevels | 0.066 | 0.004 | 0.069 | |
filterData | 0.138 | 0.015 | 0.152 | |
findRegions | 0.492 | 0.019 | 0.512 | |
fullCoverage | 0.254 | 0.016 | 0.272 | |
getRegionCoverage | 0.394 | 0.017 | 0.886 | |
getTotalMapped | 0.009 | 0.001 | 0.010 | |
loadCoverage | 0.152 | 0.010 | 0.162 | |
makeGenomicState | 3.646 | 0.048 | 3.695 | |
makeModels | 0.014 | 0.001 | 0.015 | |
mergeResults | 0.323 | 0.007 | 0.332 | |
preprocessCoverage | 0.316 | 0.003 | 0.319 | |
railMatrix | 7.611 | 0.285 | 7.917 | |
rawFiles | 0.002 | 0.001 | 0.003 | |
regionMatrix | 0.989 | 0.025 | 1.015 | |
sampleDepth | 0.013 | 0.000 | 0.013 | |