Back to Multiple platform build/check report for BioC 3.21:   simplified   long
ABCD[E]FGHIJKLMNOPQRSTUVWXYZ

This page was generated on 2025-02-04 11:40 -0500 (Tue, 04 Feb 2025).

HostnameOSArch (*)R versionInstalled pkgs
nebbiolo1Linux (Ubuntu 24.04.1 LTS)x86_64R Under development (unstable) (2025-01-20 r87609) -- "Unsuffered Consequences" 4716
palomino7Windows Server 2022 Datacenterx64R Under development (unstable) (2025-01-21 r87610 ucrt) -- "Unsuffered Consequences" 4478
lconwaymacOS 12.7.1 Montereyx86_64R Under development (unstable) (2025-01-22 r87618) -- "Unsuffered Consequences" 4489
kjohnson3macOS 13.7.1 Venturaarm64R Under development (unstable) (2025-01-20 r87609) -- "Unsuffered Consequences" 4442
Click on any hostname to see more info about the system (e.g. compilers)      (*) as reported by 'uname -p', except on Windows and Mac OS X

Package 650/2295HostnameOS / ArchINSTALLBUILDCHECKBUILD BIN
ensembldb 2.31.0  (landing page)
Johannes Rainer
Snapshot Date: 2025-02-03 13:40 -0500 (Mon, 03 Feb 2025)
git_url: https://git.bioconductor.org/packages/ensembldb
git_branch: devel
git_last_commit: 9c06161
git_last_commit_date: 2024-10-29 09:59:38 -0500 (Tue, 29 Oct 2024)
nebbiolo1Linux (Ubuntu 24.04.1 LTS) / x86_64  OK    OK    OK  UNNEEDED, same version is already published
palomino7Windows Server 2022 Datacenter / x64  OK    OK    OK    OK  UNNEEDED, same version is already published
lconwaymacOS 12.7.1 Monterey / x86_64  OK    OK    OK    OK  NO, package depends on 'rtracklayer' which is only available as a source package that needs compilation
kjohnson3macOS 13.7.1 Ventura / arm64  OK    OK    OK    OK  NO, package depends on 'rtracklayer' which is only available as a source package that needs compilation


CHECK results for ensembldb on nebbiolo1

To the developers/maintainers of the ensembldb package:
- Allow up to 24 hours (and sometimes 48 hours) for your latest push to git@git.bioconductor.org:packages/ensembldb.git to reflect on this report. See Troubleshooting Build Report for more information.
- Use the following Renviron settings to reproduce errors and warnings.
- If 'R CMD check' started to fail recently on the Linux builder(s) over a missing dependency, add the missing dependency to 'Suggests:' in your DESCRIPTION file. See Renviron.bioc for more information.

raw results


Summary

Package: ensembldb
Version: 2.31.0
Command: /home/biocbuild/bbs-3.21-bioc/R/bin/R CMD check --install=check:ensembldb.install-out.txt --library=/home/biocbuild/bbs-3.21-bioc/R/site-library --timings ensembldb_2.31.0.tar.gz
StartedAt: 2025-02-03 22:11:03 -0500 (Mon, 03 Feb 2025)
EndedAt: 2025-02-03 22:31:48 -0500 (Mon, 03 Feb 2025)
EllapsedTime: 1245.0 seconds
RetCode: 0
Status:   OK  
CheckDir: ensembldb.Rcheck
Warnings: 0

Command output

##############################################################################
##############################################################################
###
### Running command:
###
###   /home/biocbuild/bbs-3.21-bioc/R/bin/R CMD check --install=check:ensembldb.install-out.txt --library=/home/biocbuild/bbs-3.21-bioc/R/site-library --timings ensembldb_2.31.0.tar.gz
###
##############################################################################
##############################################################################


* using log directory ‘/home/biocbuild/bbs-3.21-bioc/meat/ensembldb.Rcheck’
* using R Under development (unstable) (2025-01-20 r87609)
* using platform: x86_64-pc-linux-gnu
* R was compiled by
    gcc (Ubuntu 13.3.0-6ubuntu2~24.04) 13.3.0
    GNU Fortran (Ubuntu 13.3.0-6ubuntu2~24.04) 13.3.0
* running under: Ubuntu 24.04.1 LTS
* using session charset: UTF-8
* checking for file ‘ensembldb/DESCRIPTION’ ... OK
* checking extension type ... Package
* this is package ‘ensembldb’ version ‘2.31.0’
* checking package namespace information ... OK
* checking package dependencies ... OK
* checking if this is a source package ... OK
* checking if there is a namespace ... OK
* checking for hidden files and directories ... OK
* checking for portable file names ... OK
* checking for sufficient/correct file permissions ... OK
* checking whether package ‘ensembldb’ can be installed ... OK
* checking installed package size ... OK
* checking package directory ... OK
* checking ‘build’ directory ... OK
* checking DESCRIPTION meta-information ... OK
* checking top-level files ... OK
* checking for left-over files ... OK
* checking index information ... OK
* checking package subdirectories ... OK
* checking code files for non-ASCII characters ... OK
* checking R files for syntax errors ... OK
* checking whether the package can be loaded ... OK
* checking whether the package can be loaded with stated dependencies ... OK
* checking whether the package can be unloaded cleanly ... OK
* checking whether the namespace can be loaded with stated dependencies ... OK
* checking whether the namespace can be unloaded cleanly ... OK
* checking loading without being on the library search path ... OK
* checking whether startup messages can be suppressed ... OK
* checking dependencies in R code ... OK
* checking S3 generic/method consistency ... OK
* checking replacement functions ... OK
* checking foreign function calls ... OK
* checking R code for possible problems ... OK
* checking Rd files ... OK
* checking Rd metadata ... OK
* checking Rd cross-references ... NOTE
Found the following Rd file(s) with Rd \link{} targets missing package
anchors:
  EnsDb-exonsBy.Rd: supportedFilters, GRangesFilter
  EnsDb-sequences.Rd: TwoBitFile-class
  Filter-classes.Rd: AnnotationFilter, supportedFilters, GeneIdFilter
  ProteinFunctionality.Rd: supportedFilters
  proteinToTranscript.Rd: fiveUTRsByTranscript
Please provide package anchors for all Rd \link{} targets not in the
package itself and the base packages.
* checking for missing documentation entries ... OK
* checking for code/documentation mismatches ... OK
* checking Rd \usage sections ... OK
* checking Rd contents ... OK
* checking for unstated dependencies in examples ... OK
* checking files in ‘vignettes’ ... OK
* checking examples ... OK
Examples with CPU (user + system) or elapsed time > 5s
                     user system elapsed
transcriptToGenome 42.223 11.376 254.192
cdsToTranscript    17.706  9.242  27.095
transcriptToCds    13.496  8.211  21.856
genomeToTranscript 11.400  7.403  62.121
proteinToGenome     4.206  0.837   5.044
* checking for unstated dependencies in ‘tests’ ... OK
* checking tests ...
  Running ‘testthat.R’
 OK
* checking for unstated dependencies in vignettes ... OK
* checking package vignettes ... OK
* checking re-building of vignette outputs ... OK
* checking PDF version of manual ... OK
* DONE

Status: 1 NOTE
See
  ‘/home/biocbuild/bbs-3.21-bioc/meat/ensembldb.Rcheck/00check.log’
for details.


Installation output

ensembldb.Rcheck/00install.out

##############################################################################
##############################################################################
###
### Running command:
###
###   /home/biocbuild/bbs-3.21-bioc/R/bin/R CMD INSTALL ensembldb
###
##############################################################################
##############################################################################


* installing to library ‘/home/biocbuild/bbs-3.21-bioc/R/site-library’
* installing *source* package ‘ensembldb’ ...
** this is package ‘ensembldb’ version ‘2.31.0’
** using staged installation
** R
** inst
** byte-compile and prepare package for lazy loading
Creating a generic function from function ‘.cds_for_id2’ in package ‘ensembldb’
** help
*** installing help indices
** building package indices
** installing vignettes
** testing if installed package can be loaded from temporary location
** testing if installed package can be loaded from final location
** testing if installed package keeps a record of temporary installation path
* DONE (ensembldb)

Tests output

ensembldb.Rcheck/tests/testthat.Rout


R Under development (unstable) (2025-01-20 r87609) -- "Unsuffered Consequences"
Copyright (C) 2025 The R Foundation for Statistical Computing
Platform: x86_64-pc-linux-gnu

R is free software and comes with ABSOLUTELY NO WARRANTY.
You are welcome to redistribute it under certain conditions.
Type 'license()' or 'licence()' for distribution details.

R is a collaborative project with many contributors.
Type 'contributors()' for more information and
'citation()' on how to cite R or R packages in publications.

Type 'demo()' for some demos, 'help()' for on-line help, or
'help.start()' for an HTML browser interface to help.
Type 'q()' to quit R.

> library(testthat)
> library(ensembldb)
Loading required package: BiocGenerics
Loading required package: generics

Attaching package: 'generics'

The following objects are masked from 'package:base':

    as.difftime, as.factor, as.ordered, intersect, is.element, setdiff,
    setequal, union


Attaching package: 'BiocGenerics'

The following objects are masked from 'package:stats':

    IQR, mad, sd, var, xtabs

The following objects are masked from 'package:base':

    Filter, Find, Map, Position, Reduce, anyDuplicated, aperm, append,
    as.data.frame, basename, cbind, colnames, dirname, do.call,
    duplicated, eval, evalq, get, grep, grepl, is.unsorted, lapply,
    mapply, match, mget, order, paste, pmax, pmax.int, pmin, pmin.int,
    rank, rbind, rownames, sapply, saveRDS, table, tapply, unique,
    unsplit, which.max, which.min

Loading required package: GenomicRanges
Loading required package: stats4
Loading required package: S4Vectors

Attaching package: 'S4Vectors'

The following object is masked from 'package:utils':

    findMatches

The following objects are masked from 'package:base':

    I, expand.grid, unname

Loading required package: IRanges
Loading required package: GenomeInfoDb
Loading required package: GenomicFeatures
Loading required package: AnnotationDbi
Loading required package: Biobase
Welcome to Bioconductor

    Vignettes contain introductory material; view with
    'browseVignettes()'. To cite Bioconductor, see
    'citation("Biobase")', and for packages 'citation("pkgname")'.

Loading required package: AnnotationFilter

Attaching package: 'AnnotationFilter'

The following object is masked from 'package:testthat':

    not


Attaching package: 'ensembldb'

The following object is masked from 'package:stats':

    filter

> library(EnsDb.Hsapiens.v86)
> edb <- EnsDb.Hsapiens.v86
> 
> test_check("ensembldb")
Creating package in /tmp/RtmpkcTkMI/EnsDb.Hsapiens.v75 

Comparing chromosome data:
 Sequence names: (180) common, (0) only in x, (0) only in y.
 Sequence lengths: (180) identical, (0) different.
Done. Result: OK

Comparing gene data:
 gene IDs: (4045) common, (0) only in x, (0) only in y.
 Sequence names: (4045) identical, (0) different.
 Gene start coordinates: (4045) identical, (0) different.
 Gene end coordinates: (4045) identical, (0) different.
 Gene strand: (4045) identical, (0) different.
 Gene names: (132) identical, (3913) different.
 Entrezgene IDs: (4045) identical, (0) different.
 Gene biotypes: (4045) identical, (0) different.
Done. Result: WARN

Comparing transcript data:
 transcript IDs: (4045) common, (0) only in x, (0) only in y.
 Transcript start coordinates: (4045) identical, (0) different.
 Transcript end coordinates: (4045) identical, (0) different.
 Transcript biotypes: (4045) identical, (0) different.
 Common transcripts with defined CDS: (3996) common, (0) only in x, (0) only in y.
 CDS start coordinates: (3996) identical, (0) different.
 CDS end coordinates: (3996) identical, (0) different.
 Associated gene IDs: (4045) identical, (0) different.
Done. Result: OK

Comparing exon data:
 exon IDs: (4045) common, (0) only in x, (0) only in y.
 Exon start coordinates: (4045) identical, (0) different.
 Exon end coordinates: (4045) identical, (0) different.
 Exon index in transcript models: (4045) identical, (0) different.
Done. Result: OK

Comparing metadata:
 Ensembl versions match.
 Genome builds match.
 All differences: <name>: <value x> != <value y>
  -  Creation time : Mon Feb  3 22:23:01 2025  !=  Mon Feb  3 22:22:55 2025 
  -  source_file : Devosia_geojensis.ASM96941v1.32.gtf.gz  !=  Devosia_geojensis.ASM96941v1.32.gff3.gz 
Done. Result: NOTE

Comparing chromosome data:
 Sequence names: (180) common, (0) only in x, (0) only in y.
 Sequence lengths: (180) identical, (0) different.
Done. Result: OK

Comparing gene data:
 gene IDs: (4045) common, (0) only in x, (0) only in y.
 Sequence names: (4045) identical, (0) different.
 Gene start coordinates: (4045) identical, (0) different.
 Gene end coordinates: (4045) identical, (0) different.
 Gene strand: (4045) identical, (0) different.
 Gene names: (132) identical, (3913) different.
 Entrezgene IDs: (4045) identical, (0) different.
 Gene biotypes: (4045) identical, (0) different.
Done. Result: WARN

Comparing transcript data:
 transcript IDs: (4045) common, (0) only in x, (0) only in y.
 Transcript start coordinates: (4045) identical, (0) different.
 Transcript end coordinates: (4045) identical, (0) different.
 Transcript biotypes: (4045) identical, (0) different.
 Common transcripts with defined CDS: (3996) common, (0) only in x, (0) only in y.
 CDS start coordinates: (3996) identical, (0) different.
 CDS end coordinates: (3996) identical, (0) different.
 Associated gene IDs: (4045) identical, (0) different.
Done. Result: OK

Comparing exon data:
 exon IDs: (4045) common, (0) only in x, (0) only in y.
 Exon start coordinates: (4045) identical, (0) different.
 Exon end coordinates: (4045) identical, (0) different.
 Exon index in transcript models: (4045) identical, (0) different.
Done. Result: OK

Comparing protein data:
 protein IDs: (103725) common, (0) only in x, (0) only in y.
 Transcript IDs: (103725) identical, (0) different.
 Protein sequence: (103725) identical, (0) different.
Done. Result: OK
[ FAIL 0 | WARN 75 | SKIP 3 | PASS 1632 ]

══ Skipped tests (3) ═══════════════════════════════════════════════════════════
• empty test (3): 'test_Methods.R:129:1', 'test_Methods.R:273:1',
  'test_seqLevelStyle.R:40:1'

[ FAIL 0 | WARN 75 | SKIP 3 | PASS 1632 ]
Warning message:
call dbDisconnect() when finished working with a connection 
> 
> proc.time()
   user  system elapsed 
308.052 115.874 465.012 

Example timings

ensembldb.Rcheck/ensembldb-Ex.timings

nameusersystemelapsed
EnsDb-AnnotationDbi1.9250.4152.593
EnsDb-class0.7350.1680.903
EnsDb-exonsBy1.9690.8212.916
EnsDb-lengths0.9270.4831.409
EnsDb-seqlevels0.0500.0410.091
EnsDb-sequences0.0120.0020.013
EnsDb-utils0.2340.0350.269
EnsDb0.8810.1861.067
Filter-classes2.0152.6164.975
ProteinFunctionality0.0600.0450.105
cdsToTranscript17.706 9.24227.095
convertFilter0.0200.0010.021
genomeToProtein3.4630.3993.861
genomeToTranscript11.400 7.40362.121
global-filters0.0980.0220.121
hasProteinData-EnsDb-method0.0100.0020.011
listEnsDbs0.0000.0000.001
makeEnsemblDbPackage0.5880.0540.644
proteinToGenome4.2060.8375.044
proteinToTranscript2.1290.5432.674
transcriptToCds13.496 8.21121.856
transcriptToGenome 42.223 11.376254.192
transcriptToProtein3.6270.7884.421
useMySQL-EnsDb-method0.0100.0000.011