Back to Multiple platform build/check report for BioC 3.21: simplified long |
|
This page was generated on 2025-02-04 11:41 -0500 (Tue, 04 Feb 2025).
Hostname | OS | Arch (*) | R version | Installed pkgs |
---|---|---|---|---|
nebbiolo1 | Linux (Ubuntu 24.04.1 LTS) | x86_64 | R Under development (unstable) (2025-01-20 r87609) -- "Unsuffered Consequences" | 4716 |
palomino7 | Windows Server 2022 Datacenter | x64 | R Under development (unstable) (2025-01-21 r87610 ucrt) -- "Unsuffered Consequences" | 4478 |
lconway | macOS 12.7.1 Monterey | x86_64 | R Under development (unstable) (2025-01-22 r87618) -- "Unsuffered Consequences" | 4489 |
kjohnson3 | macOS 13.7.1 Ventura | arm64 | R Under development (unstable) (2025-01-20 r87609) -- "Unsuffered Consequences" | 4442 |
Click on any hostname to see more info about the system (e.g. compilers) (*) as reported by 'uname -p', except on Windows and Mac OS X |
Package 690/2295 | Hostname | OS / Arch | INSTALL | BUILD | CHECK | BUILD BIN | ||||||||
fabia 2.53.0 (landing page) Andreas Mitterecker
| nebbiolo1 | Linux (Ubuntu 24.04.1 LTS) / x86_64 | OK | OK | WARNINGS | |||||||||
palomino7 | Windows Server 2022 Datacenter / x64 | OK | OK | WARNINGS | OK | |||||||||
lconway | macOS 12.7.1 Monterey / x86_64 | OK | OK | WARNINGS | OK | |||||||||
kjohnson3 | macOS 13.7.1 Ventura / arm64 | OK | OK | WARNINGS | OK | |||||||||
To the developers/maintainers of the fabia package: - Allow up to 24 hours (and sometimes 48 hours) for your latest push to git@git.bioconductor.org:packages/fabia.git to reflect on this report. See Troubleshooting Build Report for more information. - Use the following Renviron settings to reproduce errors and warnings. - If 'R CMD check' started to fail recently on the Linux builder(s) over a missing dependency, add the missing dependency to 'Suggests:' in your DESCRIPTION file. See Renviron.bioc for more information. |
Package: fabia |
Version: 2.53.0 |
Command: E:\biocbuild\bbs-3.21-bioc\R\bin\R.exe CMD INSTALL fabia |
StartedAt: 2025-02-03 15:36:26 -0500 (Mon, 03 Feb 2025) |
EndedAt: 2025-02-03 15:37:13 -0500 (Mon, 03 Feb 2025) |
EllapsedTime: 46.7 seconds |
RetCode: 0 |
Status: OK |
############################################################################## ############################################################################## ### ### Running command: ### ### E:\biocbuild\bbs-3.21-bioc\R\bin\R.exe CMD INSTALL fabia ### ############################################################################## ############################################################################## * installing to library 'E:/biocbuild/bbs-3.21-bioc/R/library' * installing *source* package 'fabia' ... ** this is package 'fabia' version '2.53.0' ** using staged installation ** libs running 'src/Makefile.win' ... E:/biocbuild/bbs-3.21-bioc/R/etc/x64/Makeconf:289: warning: overriding recipe for target '.c.o' E:/biocbuild/bbs-3.21-bioc/R/etc/x64/Makeconf:289: warning: ignoring old recipe for target '.c.o' E:/biocbuild/bbs-3.21-bioc/R/etc/x64/Makeconf:291: warning: overriding recipe for target '.c.d' E:/biocbuild/bbs-3.21-bioc/R/etc/x64/Makeconf:291: warning: ignoring old recipe for target '.c.d' E:/biocbuild/bbs-3.21-bioc/R/etc/x64/Makeconf:294: warning: overriding recipe for target '.cc.o' E:/biocbuild/bbs-3.21-bioc/R/etc/x64/Makeconf:294: warning: ignoring old recipe for target '.cc.o' E:/biocbuild/bbs-3.21-bioc/R/etc/x64/Makeconf:296: warning: overriding recipe for target '.cpp.o' E:/biocbuild/bbs-3.21-bioc/R/etc/x64/Makeconf:296: warning: ignoring old recipe for target '.cpp.o' E:/biocbuild/bbs-3.21-bioc/R/etc/x64/Makeconf:298: warning: overriding recipe for target '.cc.d' E:/biocbuild/bbs-3.21-bioc/R/etc/x64/Makeconf:298: warning: ignoring old recipe for target '.cc.d' E:/biocbuild/bbs-3.21-bioc/R/etc/x64/Makeconf:301: warning: overriding recipe for target '.cpp.d' E:/biocbuild/bbs-3.21-bioc/R/etc/x64/Makeconf:301: warning: ignoring old recipe for target '.cpp.d' E:/biocbuild/bbs-3.21-bioc/R/etc/x64/Makeconf:304: warning: overriding recipe for target '.m.o' E:/biocbuild/bbs-3.21-bioc/R/etc/x64/Makeconf:304: warning: ignoring old recipe for target '.m.o' E:/biocbuild/bbs-3.21-bioc/R/etc/x64/Makeconf:306: warning: overriding recipe for target '.m.d' E:/biocbuild/bbs-3.21-bioc/R/etc/x64/Makeconf:306: warning: ignoring old recipe for target '.m.d' E:/biocbuild/bbs-3.21-bioc/R/etc/x64/Makeconf:309: warning: overriding recipe for target '.mm.o' E:/biocbuild/bbs-3.21-bioc/R/etc/x64/Makeconf:309: warning: ignoring old recipe for target '.mm.o' E:/biocbuild/bbs-3.21-bioc/R/etc/x64/Makeconf:311: warning: overriding recipe for target '.M.o' E:/biocbuild/bbs-3.21-bioc/R/etc/x64/Makeconf:311: warning: ignoring old recipe for target '.M.o' E:/biocbuild/bbs-3.21-bioc/R/etc/x64/Makeconf:313: warning: overriding recipe for target '.f.o' E:/biocbuild/bbs-3.21-bioc/R/etc/x64/Makeconf:313: warning: ignoring old recipe for target '.f.o' E:/biocbuild/bbs-3.21-bioc/R/etc/x64/Makeconf:315: warning: overriding recipe for target '.f95.o' E:/biocbuild/bbs-3.21-bioc/R/etc/x64/Makeconf:315: warning: ignoring old recipe for target '.f95.o' E:/biocbuild/bbs-3.21-bioc/R/etc/x64/Makeconf:317: warning: overriding recipe for target '.f90.o' E:/biocbuild/bbs-3.21-bioc/R/etc/x64/Makeconf:317: warning: ignoring old recipe for target '.f90.o' rm -f fabia.o fabia.dll *.a *.o *.so *.dll gcc -c fabiac.c -o fabia.o -I"E:/biocbuild/bbs-3.21-bioc/R/include" -Wall -O3 gcc -shared -s -static-libgcc fabia.o -L"E:/biocbuild/bbs-3.21-bioc/R/bin/x64" -lR -o fabia.dll rm -f fabia.o *.a *.o *.so installing to E:/biocbuild/bbs-3.21-bioc/R/library/00LOCK-fabia/00new/fabia/libs/x64 ** R ** demo ** inst ** byte-compile and prepare package for lazy loading ** help *** installing help indices ** building package indices ** installing vignettes ** testing if installed package can be loaded from temporary location ** testing if installed package can be loaded from final location ** testing if installed package keeps a record of temporary installation path * DONE (fabia)