Back to Multiple platform build/check report for BioC 3.21:   simplified   long
ABCDEF[G]HIJKLMNOPQRSTUVWXYZ

This page was generated on 2025-02-06 11:42 -0500 (Thu, 06 Feb 2025).

HostnameOSArch (*)R versionInstalled pkgs
nebbiolo1Linux (Ubuntu 24.04.1 LTS)x86_64R Under development (unstable) (2025-01-20 r87609) -- "Unsuffered Consequences" 4719
palomino7Windows Server 2022 Datacenterx64R Under development (unstable) (2025-01-21 r87610 ucrt) -- "Unsuffered Consequences" 4480
lconwaymacOS 12.7.1 Montereyx86_64R Under development (unstable) (2025-01-22 r87618) -- "Unsuffered Consequences" 4491
kjohnson3macOS 13.7.1 Venturaarm64R Under development (unstable) (2025-01-20 r87609) -- "Unsuffered Consequences" 4444
Click on any hostname to see more info about the system (e.g. compilers)      (*) as reported by 'uname -p', except on Windows and Mac OS X

Package 773/2295HostnameOS / ArchINSTALLBUILDCHECKBUILD BIN
gCrisprTools 2.13.0  (landing page)
Russell Bainer
Snapshot Date: 2025-02-05 13:48 -0500 (Wed, 05 Feb 2025)
git_url: https://git.bioconductor.org/packages/gCrisprTools
git_branch: devel
git_last_commit: 1bb7f87
git_last_commit_date: 2024-10-29 10:13:45 -0500 (Tue, 29 Oct 2024)
nebbiolo1Linux (Ubuntu 24.04.1 LTS) / x86_64  OK    OK    OK  UNNEEDED, same version is already published
palomino7Windows Server 2022 Datacenter / x64  OK    OK    OK    OK  UNNEEDED, same version is already published
lconwaymacOS 12.7.1 Monterey / x86_64  OK    OK    OK    OK  UNNEEDED, same version is already published
kjohnson3macOS 13.7.1 Ventura / arm64  OK    OK    OK    OK  UNNEEDED, same version is already published


CHECK results for gCrisprTools on lconway

To the developers/maintainers of the gCrisprTools package:
- Allow up to 24 hours (and sometimes 48 hours) for your latest push to git@git.bioconductor.org:packages/gCrisprTools.git to reflect on this report. See Troubleshooting Build Report for more information.
- Use the following Renviron settings to reproduce errors and warnings.
- If 'R CMD check' started to fail recently on the Linux builder(s) over a missing dependency, add the missing dependency to 'Suggests:' in your DESCRIPTION file. See Renviron.bioc for more information.

raw results


Summary

Package: gCrisprTools
Version: 2.13.0
Command: /Library/Frameworks/R.framework/Resources/bin/R CMD check --install=check:gCrisprTools.install-out.txt --library=/Library/Frameworks/R.framework/Resources/library --no-vignettes --timings gCrisprTools_2.13.0.tar.gz
StartedAt: 2025-02-05 20:35:40 -0500 (Wed, 05 Feb 2025)
EndedAt: 2025-02-05 20:42:06 -0500 (Wed, 05 Feb 2025)
EllapsedTime: 385.7 seconds
RetCode: 0
Status:   OK  
CheckDir: gCrisprTools.Rcheck
Warnings: 0

Command output

##############################################################################
##############################################################################
###
### Running command:
###
###   /Library/Frameworks/R.framework/Resources/bin/R CMD check --install=check:gCrisprTools.install-out.txt --library=/Library/Frameworks/R.framework/Resources/library --no-vignettes --timings gCrisprTools_2.13.0.tar.gz
###
##############################################################################
##############################################################################


* using log directory ‘/Users/biocbuild/bbs-3.21-bioc/meat/gCrisprTools.Rcheck’
* using R Under development (unstable) (2025-01-22 r87618)
* using platform: x86_64-apple-darwin20
* R was compiled by
    Apple clang version 14.0.0 (clang-1400.0.29.202)
    GNU Fortran (GCC) 14.2.0
* running under: macOS Monterey 12.7.6
* using session charset: UTF-8
* using option ‘--no-vignettes’
* checking for file ‘gCrisprTools/DESCRIPTION’ ... OK
* checking extension type ... Package
* this is package ‘gCrisprTools’ version ‘2.13.0’
* package encoding: UTF-8
* checking package namespace information ... OK
* checking package dependencies ... OK
* checking if this is a source package ... OK
* checking if there is a namespace ... OK
* checking for hidden files and directories ... OK
* checking for portable file names ... OK
* checking for sufficient/correct file permissions ... OK
* checking whether package ‘gCrisprTools’ can be installed ... OK
* checking installed package size ... OK
* checking package directory ... OK
* checking ‘build’ directory ... OK
* checking DESCRIPTION meta-information ... OK
* checking top-level files ... OK
* checking for left-over files ... OK
* checking index information ... OK
* checking package subdirectories ... OK
* checking code files for non-ASCII characters ... OK
* checking R files for syntax errors ... OK
* checking whether the package can be loaded ... OK
* checking whether the package can be loaded with stated dependencies ... OK
* checking whether the package can be unloaded cleanly ... OK
* checking whether the namespace can be loaded with stated dependencies ... OK
* checking whether the namespace can be unloaded cleanly ... OK
* checking dependencies in R code ... NOTE
Namespace in Imports field not imported from: ‘RobustRankAggreg’
  All declared Imports should be used.
* checking S3 generic/method consistency ... OK
* checking replacement functions ... OK
* checking foreign function calls ... OK
* checking R code for possible problems ... OK
* checking Rd files ... OK
* checking Rd metadata ... OK
* checking Rd cross-references ... OK
* checking for missing documentation entries ... OK
* checking for code/documentation mismatches ... OK
* checking Rd \usage sections ... NOTE
Documented arguments not in \usage in Rd file 'ct.targetSetEnrichment.Rd':
  ‘pvalue.cutoff’ ‘organism’ ‘db.cut’ ‘species’

Functions with \usage entries need to have the appropriate \alias
entries, and all their arguments documented.
The \usage entries must correspond to syntactically valid R code.
See chapter ‘Writing R documentation files’ in the ‘Writing R
Extensions’ manual.
* checking Rd contents ... OK
* checking for unstated dependencies in examples ... OK
* checking contents of ‘data’ directory ... OK
* checking data for non-ASCII characters ... OK
* checking data for ASCII and uncompressed saves ... OK
* checking files in ‘vignettes’ ... OK
* checking examples ... OK
Examples with CPU (user + system) or elapsed time > 5s
                        user system elapsed
ct.GREATdb            27.366  1.655  29.276
ct.guideCDF           12.195 10.391  22.973
ct.makeReport         17.899  3.273  21.517
ct.makeContrastReport  8.392  1.764  10.517
ct.compareContrasts    9.163  0.909  10.206
ct.seas                8.388  0.919   9.259
ct.upSet               8.074  0.764   8.929
ct.contrastBarchart    6.736  0.197   7.008
ct.stackGuides         5.403  1.127   6.626
ct.GCbias              5.690  0.405   6.187
* checking for unstated dependencies in ‘tests’ ... OK
* checking tests ...
  Running ‘unit.tests.R’
 OK
* checking for unstated dependencies in vignettes ... OK
* checking package vignettes ... OK
* checking running R code from vignettes ... SKIPPED
* checking re-building of vignette outputs ... SKIPPED
* checking PDF version of manual ... OK
* DONE

Status: 2 NOTEs
See
  ‘/Users/biocbuild/bbs-3.21-bioc/meat/gCrisprTools.Rcheck/00check.log’
for details.


Installation output

gCrisprTools.Rcheck/00install.out

##############################################################################
##############################################################################
###
### Running command:
###
###   /Library/Frameworks/R.framework/Resources/bin/R CMD INSTALL gCrisprTools
###
##############################################################################
##############################################################################


* installing to library ‘/Library/Frameworks/R.framework/Versions/4.5-x86_64/Resources/library’
* installing *source* package ‘gCrisprTools’ ...
** this is package ‘gCrisprTools’ version ‘2.13.0’
** using staged installation
** R
** data
** inst
** byte-compile and prepare package for lazy loading
** help
*** installing help indices
** building package indices
** installing vignettes
** testing if installed package can be loaded from temporary location
** testing if installed package can be loaded from final location
** testing if installed package keeps a record of temporary installation path
* DONE (gCrisprTools)

Tests output

gCrisprTools.Rcheck/tests/unit.tests.Rout


R Under development (unstable) (2025-01-22 r87618) -- "Unsuffered Consequences"
Copyright (C) 2025 The R Foundation for Statistical Computing
Platform: x86_64-apple-darwin20

R is free software and comes with ABSOLUTELY NO WARRANTY.
You are welcome to redistribute it under certain conditions.
Type 'license()' or 'licence()' for distribution details.

R is a collaborative project with many contributors.
Type 'contributors()' for more information and
'citation()' on how to cite R or R packages in publications.

Type 'demo()' for some demos, 'help()' for on-line help, or
'help.start()' for an HTML browser interface to help.
Type 'q()' to quit R.

> #require("BiocGenerics", quietly = TRUE)
> BiocGenerics:::testPackage("gCrisprTools")


RUNIT TEST PROTOCOL -- Wed Feb  5 20:41:55 2025 
*********************************************** 
Number of test functions: 0 
Number of errors: 0 
Number of failures: 0 

 
1 Test Suite : 
gCrisprTools RUnit Tests - 0 test functions, 0 errors, 0 failures
Number of test functions: 0 
Number of errors: 0 
Number of failures: 0 
> 
> proc.time()
   user  system elapsed 
  8.344   0.476   8.910 

Example timings

gCrisprTools.Rcheck/gCrisprTools-Ex.timings

nameusersystemelapsed
aln0.0030.0020.005
ann0.0770.0050.085
ct.CAT1.8780.1522.062
ct.DirectionalTests0.2750.2690.552
ct.GCbias5.6900.4056.187
ct.GREATdb27.366 1.65529.276
ct.PRC2.4720.2822.799
ct.ROC1.4620.0251.508
ct.RRAaPvals0.3100.0130.326
ct.RRAalpha0.2250.0110.238
ct.alignmentChart0.0060.0010.008
ct.alphaBeta0.0010.0000.001
ct.applyAlpha0.0020.0070.010
ct.buildSE0.4020.0210.436
ct.compareContrasts 9.163 0.90910.206
ct.contrastBarchart6.7360.1977.008
ct.expandAnnotation0.0680.0030.071
ct.filterReads0.2390.0130.254
ct.gRNARankByReplicate0.3850.0340.425
ct.generateResults0.4400.0190.462
ct.guideCDF12.19510.39122.973
ct.keyCheck0.1160.0110.128
ct.makeContrastReport 8.392 1.76410.517
ct.makeQCReport3.9900.5024.612
ct.makeReport17.899 3.27321.517
ct.makeRhoNull0.0010.0000.001
ct.normalizeBySlope1.3070.0761.400
ct.normalizeFQ0.7620.0640.838
ct.normalizeGuides2.8260.2533.120
ct.normalizeMedians0.6810.0800.787
ct.normalizeNTC0.7850.0660.863
ct.normalizeSpline0.8860.0680.972
ct.parseGeneSymbol0.0020.0010.003
ct.prepareAnnotation0.5420.0230.570
ct.preprocessFit1.9500.4192.402
ct.rankSimple3.9990.0424.087
ct.rawCountDensities0.1560.0140.172
ct.regularizeContrasts0.1040.0030.107
ct.resultCheck0.0590.0030.062
ct.scatter0.3820.0070.395
ct.seas8.3880.9199.259
ct.seasPrep3.4600.4483.943
ct.signalSummary1.4260.0421.483
ct.simpleResult1.4400.0941.549
ct.softLog0.0000.0000.001
ct.stackGuides5.4031.1276.626
ct.targetSetEnrichment1.2740.6071.903
ct.topTargets0.2820.0130.298
ct.upSet8.0740.7648.929
ct.viewControls0.2410.0140.258
ct.viewGuides0.3190.1000.427
es0.0500.0070.058
essential.genes0.0010.0010.002
fit0.1340.0100.145
resultsDF0.0660.0030.069