Back to Multiple platform build/check report for BioC 3.21:   simplified   long
ABCDEF[G]HIJKLMNOPQRSTUVWXYZ

This page was generated on 2025-02-06 11:40 -0500 (Thu, 06 Feb 2025).

HostnameOSArch (*)R versionInstalled pkgs
nebbiolo1Linux (Ubuntu 24.04.1 LTS)x86_64R Under development (unstable) (2025-01-20 r87609) -- "Unsuffered Consequences" 4719
palomino7Windows Server 2022 Datacenterx64R Under development (unstable) (2025-01-21 r87610 ucrt) -- "Unsuffered Consequences" 4480
lconwaymacOS 12.7.1 Montereyx86_64R Under development (unstable) (2025-01-22 r87618) -- "Unsuffered Consequences" 4491
kjohnson3macOS 13.7.1 Venturaarm64R Under development (unstable) (2025-01-20 r87609) -- "Unsuffered Consequences" 4444
Click on any hostname to see more info about the system (e.g. compilers)      (*) as reported by 'uname -p', except on Windows and Mac OS X

Package 781/2295HostnameOS / ArchINSTALLBUILDCHECKBUILD BIN
gDRutils 1.5.9  (landing page)
Arkadiusz Gladki
Snapshot Date: 2025-02-05 13:48 -0500 (Wed, 05 Feb 2025)
git_url: https://git.bioconductor.org/packages/gDRutils
git_branch: devel
git_last_commit: b3cd981
git_last_commit_date: 2025-02-03 05:06:53 -0500 (Mon, 03 Feb 2025)
nebbiolo1Linux (Ubuntu 24.04.1 LTS) / x86_64  OK    OK    OK  UNNEEDED, same version is already published
palomino7Windows Server 2022 Datacenter / x64  OK    OK    OK    OK  UNNEEDED, same version is already published
lconwaymacOS 12.7.1 Monterey / x86_64  OK    OK    OK    OK  UNNEEDED, same version is already published
kjohnson3macOS 13.7.1 Ventura / arm64  OK    OK    OK    OK  UNNEEDED, same version is already published


CHECK results for gDRutils on palomino7

To the developers/maintainers of the gDRutils package:
- Allow up to 24 hours (and sometimes 48 hours) for your latest push to git@git.bioconductor.org:packages/gDRutils.git to reflect on this report. See Troubleshooting Build Report for more information.
- Use the following Renviron settings to reproduce errors and warnings.
- If 'R CMD check' started to fail recently on the Linux builder(s) over a missing dependency, add the missing dependency to 'Suggests:' in your DESCRIPTION file. See Renviron.bioc for more information.

raw results


Summary

Package: gDRutils
Version: 1.5.9
Command: E:\biocbuild\bbs-3.21-bioc\R\bin\R.exe CMD check --no-multiarch --install=check:gDRutils.install-out.txt --library=E:\biocbuild\bbs-3.21-bioc\R\library --no-vignettes --timings gDRutils_1.5.9.tar.gz
StartedAt: 2025-02-06 01:48:24 -0500 (Thu, 06 Feb 2025)
EndedAt: 2025-02-06 01:52:55 -0500 (Thu, 06 Feb 2025)
EllapsedTime: 271.1 seconds
RetCode: 0
Status:   OK  
CheckDir: gDRutils.Rcheck
Warnings: 0

Command output

##############################################################################
##############################################################################
###
### Running command:
###
###   E:\biocbuild\bbs-3.21-bioc\R\bin\R.exe CMD check --no-multiarch --install=check:gDRutils.install-out.txt --library=E:\biocbuild\bbs-3.21-bioc\R\library --no-vignettes --timings gDRutils_1.5.9.tar.gz
###
##############################################################################
##############################################################################


* using log directory 'E:/biocbuild/bbs-3.21-bioc/meat/gDRutils.Rcheck'
* using R Under development (unstable) (2025-01-21 r87610 ucrt)
* using platform: x86_64-w64-mingw32
* R was compiled by
    gcc.exe (GCC) 13.3.0
    GNU Fortran (GCC) 13.3.0
* running under: Windows Server 2022 x64 (build 20348)
* using session charset: UTF-8
* using option '--no-vignettes'
* checking for file 'gDRutils/DESCRIPTION' ... OK
* checking extension type ... Package
* this is package 'gDRutils' version '1.5.9'
* package encoding: UTF-8
* checking package namespace information ... OK
* checking package dependencies ... OK
* checking if this is a source package ... OK
* checking if there is a namespace ... OK
* checking for hidden files and directories ... OK
* checking for portable file names ... OK
* checking whether package 'gDRutils' can be installed ... OK
* checking installed package size ... OK
* checking package directory ... OK
* checking 'build' directory ... OK
* checking DESCRIPTION meta-information ... OK
* checking top-level files ... OK
* checking for left-over files ... OK
* checking index information ... OK
* checking package subdirectories ... OK
* checking code files for non-ASCII characters ... OK
* checking R files for syntax errors ... OK
* checking whether the package can be loaded ... OK
* checking whether the package can be loaded with stated dependencies ... OK
* checking whether the package can be unloaded cleanly ... OK
* checking whether the namespace can be loaded with stated dependencies ... OK
* checking whether the namespace can be unloaded cleanly ... OK
* checking dependencies in R code ... OK
* checking S3 generic/method consistency ... OK
* checking replacement functions ... OK
* checking foreign function calls ... OK
* checking R code for possible problems ... OK
* checking Rd files ... OK
* checking Rd metadata ... OK
* checking Rd cross-references ... NOTE
Found the following Rd file(s) with Rd \link{} targets missing package
anchors:
  SE_metadata.Rd: SummarizedExperiment-class
  convert_mae_assay_to_dt.Rd: SummarizedExperiment-class,
    MultiAssayExperiment-class
  convert_se_assay_to_dt.Rd: SummarizedExperiment-class
  is_exp_empty.Rd: SummarizedExperiment-class
  split_SE_components.Rd: SummarizedExperiment-class
  validate_se_assay_name.Rd: SummarizedExperiment-class
Please provide package anchors for all Rd \link{} targets not in the
package itself and the base packages.
* checking for missing documentation entries ... OK
* checking for code/documentation mismatches ... OK
* checking Rd \usage sections ... OK
* checking Rd contents ... OK
* checking for unstated dependencies in examples ... OK
* checking files in 'vignettes' ... OK
* checking examples ... OK
* checking for unstated dependencies in 'tests' ... OK
* checking tests ...
  Running 'testthat.R'
 OK
* checking for unstated dependencies in vignettes ... OK
* checking package vignettes ... OK
* checking running R code from vignettes ... SKIPPED
* checking re-building of vignette outputs ... SKIPPED
* checking PDF version of manual ... OK
* DONE

Status: 1 NOTE
See
  'E:/biocbuild/bbs-3.21-bioc/meat/gDRutils.Rcheck/00check.log'
for details.


Installation output

gDRutils.Rcheck/00install.out

##############################################################################
##############################################################################
###
### Running command:
###
###   E:\biocbuild\bbs-3.21-bioc\R\bin\R.exe CMD INSTALL gDRutils
###
##############################################################################
##############################################################################


* installing to library 'E:/biocbuild/bbs-3.21-bioc/R/library'
* installing *source* package 'gDRutils' ...
** this is package 'gDRutils' version '1.5.9'
** using staged installation
** R
** inst
** byte-compile and prepare package for lazy loading
** help
*** installing help indices
** building package indices
** installing vignettes
** testing if installed package can be loaded from temporary location
** testing if installed package can be loaded from final location
** testing if installed package keeps a record of temporary installation path
* DONE (gDRutils)

Tests output

gDRutils.Rcheck/tests/testthat.Rout


R Under development (unstable) (2025-01-21 r87610 ucrt) -- "Unsuffered Consequences"
Copyright (C) 2025 The R Foundation for Statistical Computing
Platform: x86_64-w64-mingw32/x64

R is free software and comes with ABSOLUTELY NO WARRANTY.
You are welcome to redistribute it under certain conditions.
Type 'license()' or 'licence()' for distribution details.

R is a collaborative project with many contributors.
Type 'contributors()' for more information and
'citation()' on how to cite R or R packages in publications.

Type 'demo()' for some demos, 'help()' for on-line help, or
'help.start()' for an HTML browser interface to help.
Type 'q()' to quit R.

> library("gDRutils")
> library("testthat")
> 
> test_check("gDRutils")
[ FAIL 0 | WARN 0 | SKIP 0 | PASS 725 ]
> 
> proc.time()
   user  system elapsed 
  55.53    1.78   75.35 

Example timings

gDRutils.Rcheck/gDRutils-Ex.timings

nameusersystemelapsed
MAEpply0.550.050.59
SE_metadata0.050.010.06
addClass000
aggregate_assay0.640.020.65
apply_bumpy_function1.830.121.96
assert_choices000
average_biological_replicates_dt0.080.000.07
calc_sd000
capVals0.280.050.33
cap_assay_infinities0.220.000.22
cap_xc50000
convert_colData_to_json0.030.000.03
convert_combo_data_to_dt0.960.030.99
convert_combo_field_to_assay000
convert_mae_assay_to_dt0.060.000.06
convert_mae_to_json0.010.000.01
convert_metadata_to_json0.020.000.02
convert_rowData_to_json000
convert_se_assay_to_custom_dt0.530.030.56
convert_se_assay_to_dt0.060.000.06
convert_se_to_json0.020.000.02
define_matrix_grid_positions0.060.000.06
demote_fields0.420.020.46
df_to_bm_assay0.140.000.14
dot-set_invalid_fit_params000
extend_normalization_type_name000
fit_curves0.160.030.19
flatten000
gen_synthetic_data0.010.000.02
geometric_mean000
get_MAE_identifiers0.030.000.03
get_additional_variables0.020.000.01
get_assay_dt_duplicated_rows0.120.020.14
get_assay_names000
get_assay_req_uniq_cols0.080.000.08
get_combo_assay_names000
get_combo_base_assay_names000
get_combo_excess_field_names0.020.000.02
get_combo_score_assay_names000
get_combo_score_field_names000
get_default_identifiers000
get_duplicated_rows000
get_env_assay_names000
get_env_var000
get_expect_one_identifiers000
get_experiment_groups000
get_identifiers_dt0.010.000.01
get_idfs_synonyms000
get_isobologram_columns0.050.000.05
get_non_empty_assays0.050.000.05
get_required_identifiers000
get_settings_from_json000
get_supported_experiments000
get_synthetic_data0.020.000.02
get_testdata0.110.010.12
get_testdata_codilution0.090.000.11
get_testdata_combo0.270.020.30
has_assay_dt_duplicated_rows0.110.000.11
has_dt_duplicated_rows000
has_single_codrug_data0.130.000.13
has_valid_codrug_data0.140.000.14
headers0.000.010.03
identifiers000
identify_unique_se_metadata_fields000
is_any_exp_empty0.040.000.04
is_combo_data0.160.000.15
is_exp_empty0.080.000.08
is_mae_empty0.060.000.07
logisticFit0.030.000.03
loop000
mcolData0.020.000.01
merge_SE2.000.032.03
merge_assay0.420.000.43
merge_metadata0.020.000.01
modifyData0.120.000.13
mrowData0.020.000.01
predict_conc_from_efficacy000
predict_efficacy_from_conc000
prettify_flat_metrics0.030.000.03
promote_fields0.230.000.23
refine_coldata0.020.000.02
refine_rowdata0.090.000.09
remove_codrug_data0.060.000.06
remove_drug_batch0.020.000.02
rename_DFrame0.020.000.02
rename_bumpy0.040.000.04
round_concentration000
set_constant_fit_params000
set_unique_cl_names0.080.000.08
set_unique_cl_names_dt0.030.000.03
set_unique_drug_names0.10.00.1
set_unique_drug_names_dt0.060.000.06
set_unique_identifiers0.340.020.37
set_unique_names_dt0.030.000.03
shorten_normalization_type_name000
split_SE_components0.10.00.1
standardize_mae0.170.000.17
standardize_se0.030.000.03
throw_msg_if_duplicates0.090.020.11
update_env_idfs_from_mae000
update_idfs_synonyms000
validate_MAE0.080.000.08
validate_SE0.030.000.03
validate_identifiers000
validate_json000
validate_mae_with_schema0.330.090.84
validate_se_assay_name000