Back to Multiple platform build/check report for BioC 3.21:   simplified   long
ABCDEF[G]HIJKLMNOPQRSTUVWXYZ

This page was generated on 2025-02-04 11:40 -0500 (Tue, 04 Feb 2025).

HostnameOSArch (*)R versionInstalled pkgs
nebbiolo1Linux (Ubuntu 24.04.1 LTS)x86_64R Under development (unstable) (2025-01-20 r87609) -- "Unsuffered Consequences" 4716
palomino7Windows Server 2022 Datacenterx64R Under development (unstable) (2025-01-21 r87610 ucrt) -- "Unsuffered Consequences" 4478
lconwaymacOS 12.7.1 Montereyx86_64R Under development (unstable) (2025-01-22 r87618) -- "Unsuffered Consequences" 4489
kjohnson3macOS 13.7.1 Venturaarm64R Under development (unstable) (2025-01-20 r87609) -- "Unsuffered Consequences" 4442
Click on any hostname to see more info about the system (e.g. compilers)      (*) as reported by 'uname -p', except on Windows and Mac OS X

Package 871/2295HostnameOS / ArchINSTALLBUILDCHECKBUILD BIN
glmGamPoi 1.19.2  (landing page)
Constantin Ahlmann-Eltze
Snapshot Date: 2025-02-03 13:40 -0500 (Mon, 03 Feb 2025)
git_url: https://git.bioconductor.org/packages/glmGamPoi
git_branch: devel
git_last_commit: e8799cb
git_last_commit_date: 2024-12-09 18:01:38 -0500 (Mon, 09 Dec 2024)
nebbiolo1Linux (Ubuntu 24.04.1 LTS) / x86_64  OK    OK    ERROR  
palomino7Windows Server 2022 Datacenter / x64  OK    OK    ERROR    OK  
lconwaymacOS 12.7.1 Monterey / x86_64  OK    OK    ERROR    OK  
kjohnson3macOS 13.7.1 Ventura / arm64  OK    OK    ERROR    OK  


CHECK results for glmGamPoi on nebbiolo1

To the developers/maintainers of the glmGamPoi package:
- Allow up to 24 hours (and sometimes 48 hours) for your latest push to git@git.bioconductor.org:packages/glmGamPoi.git to reflect on this report. See Troubleshooting Build Report for more information.
- Use the following Renviron settings to reproduce errors and warnings.
- If 'R CMD check' started to fail recently on the Linux builder(s) over a missing dependency, add the missing dependency to 'Suggests:' in your DESCRIPTION file. See Renviron.bioc for more information.

raw results


Summary

Package: glmGamPoi
Version: 1.19.2
Command: /home/biocbuild/bbs-3.21-bioc/R/bin/R CMD check --install=check:glmGamPoi.install-out.txt --library=/home/biocbuild/bbs-3.21-bioc/R/site-library --timings glmGamPoi_1.19.2.tar.gz
StartedAt: 2025-02-03 22:55:41 -0500 (Mon, 03 Feb 2025)
EndedAt: 2025-02-03 23:05:32 -0500 (Mon, 03 Feb 2025)
EllapsedTime: 590.8 seconds
RetCode: 1
Status:   ERROR  
CheckDir: glmGamPoi.Rcheck
Warnings: NA

Command output

##############################################################################
##############################################################################
###
### Running command:
###
###   /home/biocbuild/bbs-3.21-bioc/R/bin/R CMD check --install=check:glmGamPoi.install-out.txt --library=/home/biocbuild/bbs-3.21-bioc/R/site-library --timings glmGamPoi_1.19.2.tar.gz
###
##############################################################################
##############################################################################


* using log directory ‘/home/biocbuild/bbs-3.21-bioc/meat/glmGamPoi.Rcheck’
* using R Under development (unstable) (2025-01-20 r87609)
* using platform: x86_64-pc-linux-gnu
* R was compiled by
    gcc (Ubuntu 13.3.0-6ubuntu2~24.04) 13.3.0
    GNU Fortran (Ubuntu 13.3.0-6ubuntu2~24.04) 13.3.0
* running under: Ubuntu 24.04.1 LTS
* using session charset: UTF-8
* checking for file ‘glmGamPoi/DESCRIPTION’ ... OK
* checking extension type ... Package
* this is package ‘glmGamPoi’ version ‘1.19.2’
* package encoding: UTF-8
* checking package namespace information ... OK
* checking package dependencies ... OK
* checking if this is a source package ... OK
* checking if there is a namespace ... OK
* checking for hidden files and directories ... OK
* checking for portable file names ... OK
* checking for sufficient/correct file permissions ... OK
* checking whether package ‘glmGamPoi’ can be installed ... OK
* used C++ compiler: ‘g++ (Ubuntu 13.3.0-6ubuntu2~24.04) 13.3.0’
* checking C++ specification ... OK
* checking installed package size ... OK
* checking package directory ... OK
* checking ‘build’ directory ... OK
* checking DESCRIPTION meta-information ... OK
* checking top-level files ... OK
* checking for left-over files ... OK
* checking index information ... OK
* checking package subdirectories ... OK
* checking code files for non-ASCII characters ... OK
* checking R files for syntax errors ... OK
* checking whether the package can be loaded ... OK
* checking whether the package can be loaded with stated dependencies ... OK
* checking whether the package can be unloaded cleanly ... OK
* checking whether the namespace can be loaded with stated dependencies ... OK
* checking whether the namespace can be unloaded cleanly ... OK
* checking loading without being on the library search path ... OK
* checking dependencies in R code ... NOTE
Namespace in Imports field not imported from: ‘Matrix’
  All declared Imports should be used.
* checking S3 generic/method consistency ... OK
* checking replacement functions ... OK
* checking foreign function calls ... OK
* checking R code for possible problems ... OK
* checking Rd files ... OK
* checking Rd metadata ... OK
* checking Rd cross-references ... NOTE
Found the following Rd file(s) with Rd \link{} targets missing package
anchors:
  glm_gp.Rd: DelayedArray, HDF5Matrix, SummarizedExperiment
  glm_gp_impl.Rd: DelayedArray, HDF5Matrix
Please provide package anchors for all Rd \link{} targets not in the
package itself and the base packages.
* checking for missing documentation entries ... OK
* checking for code/documentation mismatches ... OK
* checking Rd \usage sections ... OK
* checking Rd contents ... OK
* checking for unstated dependencies in examples ... OK
* checking line endings in C/C++/Fortran sources/headers ... OK
* checking line endings in Makefiles ... OK
* checking compilation flags in Makevars ... OK
* checking for GNU extensions in Makefiles ... OK
* checking for portable use of $(BLAS_LIBS) and $(LAPACK_LIBS) ... OK
* checking use of PKG_*FLAGS in Makefiles ... OK
* checking compiled code ... NOTE
Note: information on .o files is not available
* checking files in ‘vignettes’ ... OK
* checking examples ... OK
* checking for unstated dependencies in ‘tests’ ... OK
* checking tests ...
  Running ‘testthat.R’
 ERROR
Running the tests in ‘tests/testthat.R’ failed.
Last 13 lines of output:
   11.                     └─S4Arrays:::.read_block(x, viewport, as.sparse = as.sparse)
   12.                       ├─SparseArray::read_block_as_sparse(x, viewport)
   13.                       └─SparseArray::read_block_as_sparse(x, viewport)
   14.                         ├─SparseArray::extract_sparse_array(x, Nindex)
   15.                         └─DelayedArray::extract_sparse_array(x, Nindex)
   16.                           ├─SparseArray::extract_sparse_array(x@seed, index)
   17.                           └─DelayedArray::extract_sparse_array(x@seed, index)
   18.                             ├─SparseArray::extract_sparse_array(x@seed, seed_index)
   19.                             └─DelayedArray::extract_sparse_array(x@seed, seed_index)
   20.                               ├─BiocGenerics::do.call(x@OP, c(Largs, list(svt), Rargs))
   21.                               └─base::do.call(x@OP, c(Largs, list(svt), Rargs))
  
  [ FAIL 1 | WARN 15 | SKIP 5 | PASS 444 ]
  Error: Test failures
  Execution halted
* checking for unstated dependencies in vignettes ... OK
* checking package vignettes ... OK
* checking re-building of vignette outputs ... OK
* checking PDF version of manual ... OK
* DONE

Status: 1 ERROR, 3 NOTEs
See
  ‘/home/biocbuild/bbs-3.21-bioc/meat/glmGamPoi.Rcheck/00check.log’
for details.


Installation output

glmGamPoi.Rcheck/00install.out

##############################################################################
##############################################################################
###
### Running command:
###
###   /home/biocbuild/bbs-3.21-bioc/R/bin/R CMD INSTALL glmGamPoi
###
##############################################################################
##############################################################################


* installing to library ‘/home/biocbuild/bbs-3.21-bioc/R/site-library’
* installing *source* package ‘glmGamPoi’ ...
** this is package ‘glmGamPoi’ version ‘1.19.2’
** using staged installation
** libs
using C++ compiler: ‘g++ (Ubuntu 13.3.0-6ubuntu2~24.04) 13.3.0’
using C++17
g++ -std=gnu++17 -I"/home/biocbuild/bbs-3.21-bioc/R/include" -DNDEBUG -I../inst/include/ -I'/home/biocbuild/bbs-3.21-bioc/R/site-library/Rcpp/include' -I'/home/biocbuild/bbs-3.21-bioc/R/site-library/RcppArmadillo/include' -I'/home/biocbuild/bbs-3.21-bioc/R/site-library/beachmat/include' -I'/home/biocbuild/bbs-3.21-bioc/R/site-library/assorthead/include' -I/usr/local/include    -fpic  -g -O2  -DR_NO_REMAP -c RcppExports.cpp -o RcppExports.o
g++ -std=gnu++17 -I"/home/biocbuild/bbs-3.21-bioc/R/include" -DNDEBUG -I../inst/include/ -I'/home/biocbuild/bbs-3.21-bioc/R/site-library/Rcpp/include' -I'/home/biocbuild/bbs-3.21-bioc/R/site-library/RcppArmadillo/include' -I'/home/biocbuild/bbs-3.21-bioc/R/site-library/beachmat/include' -I'/home/biocbuild/bbs-3.21-bioc/R/site-library/assorthead/include' -I/usr/local/include    -fpic  -g -O2  -DR_NO_REMAP -c beta_estimation.cpp -o beta_estimation.o
g++ -std=gnu++17 -I"/home/biocbuild/bbs-3.21-bioc/R/include" -DNDEBUG -I../inst/include/ -I'/home/biocbuild/bbs-3.21-bioc/R/site-library/Rcpp/include' -I'/home/biocbuild/bbs-3.21-bioc/R/site-library/RcppArmadillo/include' -I'/home/biocbuild/bbs-3.21-bioc/R/site-library/beachmat/include' -I'/home/biocbuild/bbs-3.21-bioc/R/site-library/assorthead/include' -I/usr/local/include    -fpic  -g -O2  -DR_NO_REMAP -c deviance.cpp -o deviance.o
g++ -std=gnu++17 -I"/home/biocbuild/bbs-3.21-bioc/R/include" -DNDEBUG -I../inst/include/ -I'/home/biocbuild/bbs-3.21-bioc/R/site-library/Rcpp/include' -I'/home/biocbuild/bbs-3.21-bioc/R/site-library/RcppArmadillo/include' -I'/home/biocbuild/bbs-3.21-bioc/R/site-library/beachmat/include' -I'/home/biocbuild/bbs-3.21-bioc/R/site-library/assorthead/include' -I/usr/local/include    -fpic  -g -O2  -DR_NO_REMAP -c overdispersion.cpp -o overdispersion.o
g++ -std=gnu++17 -I"/home/biocbuild/bbs-3.21-bioc/R/include" -DNDEBUG -I../inst/include/ -I'/home/biocbuild/bbs-3.21-bioc/R/site-library/Rcpp/include' -I'/home/biocbuild/bbs-3.21-bioc/R/site-library/RcppArmadillo/include' -I'/home/biocbuild/bbs-3.21-bioc/R/site-library/beachmat/include' -I'/home/biocbuild/bbs-3.21-bioc/R/site-library/assorthead/include' -I/usr/local/include    -fpic  -g -O2  -DR_NO_REMAP -c utils.cpp -o utils.o
g++ -std=gnu++17 -shared -L/home/biocbuild/bbs-3.21-bioc/R/lib -L/usr/local/lib -o glmGamPoi.so RcppExports.o beta_estimation.o deviance.o overdispersion.o utils.o -llapack -L/home/biocbuild/bbs-3.21-bioc/R/lib -lRblas -lgfortran -lm -lquadmath -L/home/biocbuild/bbs-3.21-bioc/R/lib -lR
installing to /home/biocbuild/bbs-3.21-bioc/R/site-library/00LOCK-glmGamPoi/00new/glmGamPoi/libs
** R
** inst
** byte-compile and prepare package for lazy loading
** help
*** installing help indices
*** copying figures
** building package indices
** installing vignettes
** testing if installed package can be loaded from temporary location
** checking absolute paths in shared objects and dynamic libraries
** testing if installed package can be loaded from final location
** testing if installed package keeps a record of temporary installation path
* DONE (glmGamPoi)

Tests output

glmGamPoi.Rcheck/tests/testthat.Rout.fail


R Under development (unstable) (2025-01-20 r87609) -- "Unsuffered Consequences"
Copyright (C) 2025 The R Foundation for Statistical Computing
Platform: x86_64-pc-linux-gnu

R is free software and comes with ABSOLUTELY NO WARRANTY.
You are welcome to redistribute it under certain conditions.
Type 'license()' or 'licence()' for distribution details.

R is a collaborative project with many contributors.
Type 'contributors()' for more information and
'citation()' on how to cite R or R packages in publications.

Type 'demo()' for some demos, 'help()' for on-line help, or
'help.start()' for an HTML browser interface to help.
Type 'q()' to quit R.

> library(testthat)
> library(glmGamPoi)
> 
> test_check("glmGamPoi")
[ FAIL 1 | WARN 15 | SKIP 5 | PASS 444 ]

══ Skipped tests (5) ═══════════════════════════════════════════════════════════
• Beta estimation is unprecise on Non-MacOS architectures (1):
  'test-estimate_betas.R:228:3'
• Printing tests should be run interactively (1): 'test-printing.R:1:1'
• empty test (2): 'test-test_de.R:60:1', 'test-test_de.R:93:1'
• isNamespaceLoaded("devtools") is not TRUE (1): 'test-glm_gp.R:413:3'

══ Failed tests ════════════════════════════════════════════════════════════════
── Error ('test-residuals.R:48:3'): residual calculation works with Delayed Matrix ──
Error in `.Primitive("+")(new("COO_SparseMatrix", nzcoo = structure(integer(0), dim = c(0L, 
2L)), nzdata = numeric(0), dim = c(4L, 2L), dimnames = list(NULL, 
    NULL)), c(0, 0, 0, 0))`: non-numeric argument to binary operator
Backtrace:
     ▆
  1. └─glmGamPoi::glm_gp(Y_hdf5, X, size_factors = FALSE, overdispersion = 1/0.7) at test-residuals.R:48:3
  2.   └─glmGamPoi:::glm_gp_impl(...)
  3.     └─glmGamPoi:::combine_size_factors_and_offset(...)
  4.       └─HDF5Array::writeHDF5Array(offset_matrix)
  5.         └─DelayedArray::BLOCK_write_to_sink(sink, x, verbose = verbose)
  6.           └─DelayedArray::sinkApply(...)
  7.             └─DelayedArray::gridReduce(FUN_WRAPPER, grid, sink, FUN, ..., verbose = verbose)
  8.               └─DelayedArray (local) FUN(viewport, init, ...)
  9.                 └─DelayedArray (local) FUN(init, viewport, ...)
 10.                   └─S4Arrays::read_block(x, viewport, as.sparse = NA)
 11.                     └─S4Arrays:::.read_block(x, viewport, as.sparse = as.sparse)
 12.                       ├─SparseArray::read_block_as_sparse(x, viewport)
 13.                       └─SparseArray::read_block_as_sparse(x, viewport)
 14.                         ├─SparseArray::extract_sparse_array(x, Nindex)
 15.                         └─DelayedArray::extract_sparse_array(x, Nindex)
 16.                           ├─SparseArray::extract_sparse_array(x@seed, index)
 17.                           └─DelayedArray::extract_sparse_array(x@seed, index)
 18.                             ├─SparseArray::extract_sparse_array(x@seed, seed_index)
 19.                             └─DelayedArray::extract_sparse_array(x@seed, seed_index)
 20.                               ├─BiocGenerics::do.call(x@OP, c(Largs, list(svt), Rargs))
 21.                               └─base::do.call(x@OP, c(Largs, list(svt), Rargs))

[ FAIL 1 | WARN 15 | SKIP 5 | PASS 444 ]
Error: Test failures
Execution halted

Example timings

glmGamPoi.Rcheck/glmGamPoi-Ex.timings

nameusersystemelapsed
glm_gp0.6430.0580.701
loc_median_fit0.0640.0010.066
overdispersion_mle0.0100.0010.011
overdispersion_shrinkage0.1460.0020.148
predict.glmGamPoi0.0590.0180.076
pseudobulk0.9820.0411.023
test_de0.5090.0050.514