Back to Multiple platform build/check report for BioC 3.21:   simplified   long
ABCDEFGHIJK[L]MNOPQRSTUVWXYZ

This page was generated on 2025-02-05 11:41 -0500 (Wed, 05 Feb 2025).

HostnameOSArch (*)R versionInstalled pkgs
nebbiolo1Linux (Ubuntu 24.04.1 LTS)x86_64R Under development (unstable) (2025-01-20 r87609) -- "Unsuffered Consequences" 4717
palomino7Windows Server 2022 Datacenterx64R Under development (unstable) (2025-01-21 r87610 ucrt) -- "Unsuffered Consequences" 4478
lconwaymacOS 12.7.1 Montereyx86_64R Under development (unstable) (2025-01-22 r87618) -- "Unsuffered Consequences" 4489
kjohnson3macOS 13.7.1 Venturaarm64R Under development (unstable) (2025-01-20 r87609) -- "Unsuffered Consequences" 4442
Click on any hostname to see more info about the system (e.g. compilers)      (*) as reported by 'uname -p', except on Windows and Mac OS X

Package 1127/2295HostnameOS / ArchINSTALLBUILDCHECKBUILD BIN
lute 1.3.0  (landing page)
Sean K Maden
Snapshot Date: 2025-02-04 13:40 -0500 (Tue, 04 Feb 2025)
git_url: https://git.bioconductor.org/packages/lute
git_branch: devel
git_last_commit: 449b0aa
git_last_commit_date: 2024-10-29 11:25:42 -0500 (Tue, 29 Oct 2024)
nebbiolo1Linux (Ubuntu 24.04.1 LTS) / x86_64  OK    OK    OK  UNNEEDED, same version is already published
palomino7Windows Server 2022 Datacenter / x64  OK    OK    OK    OK  UNNEEDED, same version is already published
lconwaymacOS 12.7.1 Monterey / x86_64  OK    OK    OK    OK  UNNEEDED, same version is already published
kjohnson3macOS 13.7.1 Ventura / arm64  OK    OK    OK    OK  UNNEEDED, same version is already published


CHECK results for lute on palomino7

To the developers/maintainers of the lute package:
- Allow up to 24 hours (and sometimes 48 hours) for your latest push to git@git.bioconductor.org:packages/lute.git to reflect on this report. See Troubleshooting Build Report for more information.
- Use the following Renviron settings to reproduce errors and warnings.
- If 'R CMD check' started to fail recently on the Linux builder(s) over a missing dependency, add the missing dependency to 'Suggests:' in your DESCRIPTION file. See Renviron.bioc for more information.

raw results


Summary

Package: lute
Version: 1.3.0
Command: E:\biocbuild\bbs-3.21-bioc\R\bin\R.exe CMD check --no-multiarch --install=check:lute.install-out.txt --library=E:\biocbuild\bbs-3.21-bioc\R\library --no-vignettes --timings lute_1.3.0.tar.gz
StartedAt: 2025-02-05 02:54:49 -0500 (Wed, 05 Feb 2025)
EndedAt: 2025-02-05 02:58:50 -0500 (Wed, 05 Feb 2025)
EllapsedTime: 240.8 seconds
RetCode: 0
Status:   OK  
CheckDir: lute.Rcheck
Warnings: 0

Command output

##############################################################################
##############################################################################
###
### Running command:
###
###   E:\biocbuild\bbs-3.21-bioc\R\bin\R.exe CMD check --no-multiarch --install=check:lute.install-out.txt --library=E:\biocbuild\bbs-3.21-bioc\R\library --no-vignettes --timings lute_1.3.0.tar.gz
###
##############################################################################
##############################################################################


* using log directory 'E:/biocbuild/bbs-3.21-bioc/meat/lute.Rcheck'
* using R Under development (unstable) (2025-01-21 r87610 ucrt)
* using platform: x86_64-w64-mingw32
* R was compiled by
    gcc.exe (GCC) 13.3.0
    GNU Fortran (GCC) 13.3.0
* running under: Windows Server 2022 x64 (build 20348)
* using session charset: UTF-8
* using option '--no-vignettes'
* checking for file 'lute/DESCRIPTION' ... OK
* this is package 'lute' version '1.3.0'
* package encoding: UTF-8
* checking package namespace information ... OK
* checking package dependencies ... OK
* checking if this is a source package ... OK
* checking if there is a namespace ... OK
* checking for hidden files and directories ... OK
* checking for portable file names ... OK
* checking whether package 'lute' can be installed ... OK
* checking installed package size ... OK
* checking package directory ... OK
* checking 'build' directory ... OK
* checking DESCRIPTION meta-information ... OK
* checking top-level files ... OK
* checking for left-over files ... NOTE
The following files look like leftovers:
  'lute/NEWS.Rd'
Please remove them from your package.
* checking index information ... OK
* checking package subdirectories ... OK
* checking code files for non-ASCII characters ... OK
* checking R files for syntax errors ... OK
* checking whether the package can be loaded ... OK
* checking whether the package can be loaded with stated dependencies ... OK
* checking whether the package can be unloaded cleanly ... OK
* checking whether the namespace can be loaded with stated dependencies ... OK
* checking whether the namespace can be unloaded cleanly ... OK
* checking dependencies in R code ... NOTE
Namespace in Imports field not imported from: 'ggplot2'
  All declared Imports should be used.
* checking S3 generic/method consistency ... OK
* checking replacement functions ... OK
* checking foreign function calls ... OK
* checking R code for possible problems ... OK
* checking Rd files ... OK
* checking Rd metadata ... OK
* checking Rd cross-references ... NOTE
Found the following Rd file(s) with Rd \link{} targets missing package
anchors:
  lute.Rd: SummarizedExperiment-class
  nnlsParam.Rd: ExpressionSet-class
  ypb_from_sce.Rd: SingleCellExperiment-class
  z_matrix_from_sce.Rd: SingleCellExperiment-class
Please provide package anchors for all Rd \link{} targets not in the
package itself and the base packages.
* checking for missing documentation entries ... OK
* checking for code/documentation mismatches ... OK
* checking Rd \usage sections ... OK
* checking Rd contents ... OK
* checking for unstated dependencies in examples ... OK
* checking files in 'vignettes' ... OK
* checking examples ... OK
* checking for unstated dependencies in vignettes ... OK
* checking package vignettes ... OK
* checking running R code from vignettes ... SKIPPED
* checking re-building of vignette outputs ... SKIPPED
* checking PDF version of manual ... OK
* DONE

Status: 3 NOTEs
See
  'E:/biocbuild/bbs-3.21-bioc/meat/lute.Rcheck/00check.log'
for details.


Installation output

lute.Rcheck/00install.out

##############################################################################
##############################################################################
###
### Running command:
###
###   E:\biocbuild\bbs-3.21-bioc\R\bin\R.exe CMD INSTALL lute
###
##############################################################################
##############################################################################


* installing to library 'E:/biocbuild/bbs-3.21-bioc/R/library'
* installing *source* package 'lute' ...
** this is package 'lute' version '1.3.0'
** using staged installation
** R
** inst
** byte-compile and prepare package for lazy loading
** help
*** installing help indices
** building package indices
** installing vignettes
** testing if installed package can be loaded from temporary location
** testing if installed package can be loaded from final location
** testing if installed package keeps a record of temporary installation path
* DONE (lute)

Tests output


Example timings

lute.Rcheck/lute-Ex.timings

nameusersystemelapsed
bisqueParam-class3.120.053.34
bisqueParam2.140.082.22
cellProportionsPredictions-class0.010.000.02
cellProportionsPredictions000
deconvolution-bisqueParam-method2.050.162.20
deconvolution-deconvolutionParam-method000
deconvolution-independentbulkParam-method000
deconvolution-nnlsParam-method0.020.000.01
deconvolution-referencebasedParam-method000
deconvolution0.010.000.02
deconvolutionParam-class000
eset_to_sce0.520.020.53
eset_to_se0.370.000.38
findmarkersParam-class0.800.030.82
findmarkersParam0.670.050.72
getDeconvolutionExampleData000
getDeconvolutionExampleDataBisque0.380.010.39
getDeconvolutionExampleDataSCDC0.120.000.13
get_celltypes_from_sce000
get_csf_reference000
get_eset_from_matrix000
independentbulkParam-class000
independentbulkParam000
lute0.160.000.16
luteSupportedDeconvolutionAlgorithms0.000.020.02
new_workflow_table000
nnlsParam-class0.010.000.01
nnlsParam000
parseDeconvolutionPredictionsResults000
proportionsVectorsList000
randomMarkersVectorsList000
randomSingleCellExperiment0.080.000.07
referenceFromSingleCellExperiment000
referencebasedParam-class000
referencebasedParam000
rmse000
rmseTest000
sce_to_eset0.120.000.13
sce_to_se0.080.000.08
se_to_eset0.090.000.09
se_to_sce0.080.000.08
show-bisqueParam-method0.450.000.45
show-cellProportionsPredictions-method000
show-deconvolutionParam-method000
show-findmarkersParam-method0.650.030.67
show-independentbulkParam-method0.010.000.02
show-nnlsParam-method000
show-referencebasedParam-method000
show-typemarkersParam-method000
sub-sub-deconvolutionParam-ANY-ANY-method000
sub-sub-typemarkersParam-ANY-ANY-method000
typemarkers-findmarkersParam-method0.780.000.78
typemarkers-typemarkersParam-method000
typemarkers000
typemarkersParam-class000
typemarkersParam000
ypb_from_sce0.110.000.11
z_matrix_from_sce0.100.000.09