Back to Multiple platform build/check report for BioC 3.21:   simplified   long
ABCDEFGHIJKL[M]NOPQRSTUVWXYZ

This page was generated on 2025-02-06 11:39 -0500 (Thu, 06 Feb 2025).

HostnameOSArch (*)R versionInstalled pkgs
nebbiolo1Linux (Ubuntu 24.04.1 LTS)x86_64R Under development (unstable) (2025-01-20 r87609) -- "Unsuffered Consequences" 4719
palomino7Windows Server 2022 Datacenterx64R Under development (unstable) (2025-01-21 r87610 ucrt) -- "Unsuffered Consequences" 4480
lconwaymacOS 12.7.1 Montereyx86_64R Under development (unstable) (2025-01-22 r87618) -- "Unsuffered Consequences" 4491
kjohnson3macOS 13.7.1 Venturaarm64R Under development (unstable) (2025-01-20 r87609) -- "Unsuffered Consequences" 4444
Click on any hostname to see more info about the system (e.g. compilers)      (*) as reported by 'uname -p', except on Windows and Mac OS X

Package 1169/2295HostnameOS / ArchINSTALLBUILDCHECKBUILD BIN
matter 2.9.1  (landing page)
Kylie A. Bemis
Snapshot Date: 2025-02-05 13:48 -0500 (Wed, 05 Feb 2025)
git_url: https://git.bioconductor.org/packages/matter
git_branch: devel
git_last_commit: bcfe9fb
git_last_commit_date: 2024-12-04 18:32:57 -0500 (Wed, 04 Dec 2024)
nebbiolo1Linux (Ubuntu 24.04.1 LTS) / x86_64  OK    OK    OK  UNNEEDED, same version is already published
palomino7Windows Server 2022 Datacenter / x64  OK    OK    OK    OK  UNNEEDED, same version is already published
lconwaymacOS 12.7.1 Monterey / x86_64  OK    OK    ERROR    OK  
kjohnson3macOS 13.7.1 Ventura / arm64  OK    OK    OK    OK  UNNEEDED, same version is already published


CHECK results for matter on nebbiolo1

To the developers/maintainers of the matter package:
- Allow up to 24 hours (and sometimes 48 hours) for your latest push to git@git.bioconductor.org:packages/matter.git to reflect on this report. See Troubleshooting Build Report for more information.
- Use the following Renviron settings to reproduce errors and warnings.
- If 'R CMD check' started to fail recently on the Linux builder(s) over a missing dependency, add the missing dependency to 'Suggests:' in your DESCRIPTION file. See Renviron.bioc for more information.

raw results


Summary

Package: matter
Version: 2.9.1
Command: /home/biocbuild/bbs-3.21-bioc/R/bin/R CMD check --install=check:matter.install-out.txt --library=/home/biocbuild/bbs-3.21-bioc/R/site-library --timings matter_2.9.1.tar.gz
StartedAt: 2025-02-05 23:50:57 -0500 (Wed, 05 Feb 2025)
EndedAt: 2025-02-05 23:54:38 -0500 (Wed, 05 Feb 2025)
EllapsedTime: 221.3 seconds
RetCode: 0
Status:   OK  
CheckDir: matter.Rcheck
Warnings: 0

Command output

##############################################################################
##############################################################################
###
### Running command:
###
###   /home/biocbuild/bbs-3.21-bioc/R/bin/R CMD check --install=check:matter.install-out.txt --library=/home/biocbuild/bbs-3.21-bioc/R/site-library --timings matter_2.9.1.tar.gz
###
##############################################################################
##############################################################################


* using log directory ‘/home/biocbuild/bbs-3.21-bioc/meat/matter.Rcheck’
* using R Under development (unstable) (2025-01-20 r87609)
* using platform: x86_64-pc-linux-gnu
* R was compiled by
    gcc (Ubuntu 13.3.0-6ubuntu2~24.04) 13.3.0
    GNU Fortran (Ubuntu 13.3.0-6ubuntu2~24.04) 13.3.0
* running under: Ubuntu 24.04.1 LTS
* using session charset: UTF-8
* checking for file ‘matter/DESCRIPTION’ ... OK
* checking extension type ... Package
* this is package ‘matter’ version ‘2.9.1’
* checking package namespace information ... OK
* checking package dependencies ... OK
* checking if this is a source package ... OK
* checking if there is a namespace ... OK
* checking for hidden files and directories ... OK
* checking for portable file names ... OK
* checking for sufficient/correct file permissions ... OK
* checking whether package ‘matter’ can be installed ... OK
* used C++ compiler: ‘g++ (Ubuntu 13.3.0-6ubuntu2~24.04) 13.3.0’
* checking installed package size ... OK
* checking package directory ... OK
* checking ‘build’ directory ... OK
* checking DESCRIPTION meta-information ... OK
* checking top-level files ... OK
* checking for left-over files ... OK
* checking index information ... OK
* checking package subdirectories ... OK
* checking code files for non-ASCII characters ... OK
* checking R files for syntax errors ... OK
* checking whether the package can be loaded ... OK
* checking whether the package can be loaded with stated dependencies ... OK
* checking whether the package can be unloaded cleanly ... OK
* checking whether the namespace can be loaded with stated dependencies ... OK
* checking whether the namespace can be unloaded cleanly ... OK
* checking loading without being on the library search path ... OK
* checking whether startup messages can be suppressed ... OK
* checking dependencies in R code ... OK
* checking S3 generic/method consistency ... OK
* checking replacement functions ... OK
* checking foreign function calls ... OK
* checking R code for possible problems ... OK
* checking Rd files ... OK
* checking Rd metadata ... OK
* checking Rd cross-references ... NOTE
Found the following Rd file(s) with Rd \link{} targets missing package
anchors:
  SnowfastParam-class.Rd: SnowParam, BiocParallelParam, MulticoreParam
  checksum.Rd: digest
  chunkApply.Rd: bplapply
  colscale.Rd: bplapply
  cv_do.Rd: bplapply
  matter-options.Rd: bplapply
  nscentroids.Rd: bplapply
  pls.Rd: bplapply
  prcomp.Rd: bplapply
  rowDists.Rd: bplapply
  rowStats.Rd: bplapply
  sgmix.Rd: bplapply
Please provide package anchors for all Rd \link{} targets not in the
package itself and the base packages.
* checking for missing documentation entries ... OK
* checking for code/documentation mismatches ... OK
* checking Rd \usage sections ... OK
* checking Rd contents ... OK
* checking for unstated dependencies in examples ... OK
* checking line endings in C/C++/Fortran sources/headers ... OK
* checking compiled code ... NOTE
Note: information on .o files is not available
File ‘matter/libs/matter.so’:
  Found non-API calls to R: ‘R_tryWrap’, ‘STRING_PTR’

Compiled code should not call non-API entry points in R.

See ‘Writing portable packages’ in the ‘Writing R Extensions’ manual,
and section ‘Moving into C API compliance’ for issues with the use of
non-API entry points.
* checking files in ‘vignettes’ ... OK
* checking examples ... OK
* checking for unstated dependencies in ‘tests’ ... OK
* checking tests ...
  Running ‘testthat.R’
 OK
* checking for unstated dependencies in vignettes ... OK
* checking package vignettes ... OK
* checking re-building of vignette outputs ... OK
* checking PDF version of manual ... OK
* DONE

Status: 2 NOTEs
See
  ‘/home/biocbuild/bbs-3.21-bioc/meat/matter.Rcheck/00check.log’
for details.


Installation output

matter.Rcheck/00install.out

##############################################################################
##############################################################################
###
### Running command:
###
###   /home/biocbuild/bbs-3.21-bioc/R/bin/R CMD INSTALL matter
###
##############################################################################
##############################################################################


* installing to library ‘/home/biocbuild/bbs-3.21-bioc/R/site-library’
* installing *source* package ‘matter’ ...
** this is package ‘matter’ version ‘2.9.1’
** using staged installation
** libs
using C++ compiler: ‘g++ (Ubuntu 13.3.0-6ubuntu2~24.04) 13.3.0’
g++ -std=gnu++17 -I"/home/biocbuild/bbs-3.21-bioc/R/include" -DNDEBUG  -I'/home/biocbuild/bbs-3.21-bioc/R/site-library/BH/include' -I/usr/local/include    -fpic  -g -O2  -DR_NO_REMAP -c altrep.cpp -o altrep.o
g++ -std=gnu++17 -I"/home/biocbuild/bbs-3.21-bioc/R/include" -DNDEBUG  -I'/home/biocbuild/bbs-3.21-bioc/R/site-library/BH/include' -I/usr/local/include    -fpic  -g -O2  -DR_NO_REMAP -c init.cpp -o init.o
g++ -std=gnu++17 -I"/home/biocbuild/bbs-3.21-bioc/R/include" -DNDEBUG  -I'/home/biocbuild/bbs-3.21-bioc/R/site-library/BH/include' -I/usr/local/include    -fpic  -g -O2  -DR_NO_REMAP -c matterExports.cpp -o matterExports.o
g++ -std=gnu++17 -shared -L/home/biocbuild/bbs-3.21-bioc/R/lib -L/usr/local/lib -o matter.so altrep.o init.o matterExports.o -L/home/biocbuild/bbs-3.21-bioc/R/lib -lR
installing to /home/biocbuild/bbs-3.21-bioc/R/site-library/00LOCK-matter/00new/matter/libs
** R
** byte-compile and prepare package for lazy loading
** help
*** installing help indices
** building package indices
** installing vignettes
** testing if installed package can be loaded from temporary location
** checking absolute paths in shared objects and dynamic libraries
** testing if installed package can be loaded from final location
** testing if installed package keeps a record of temporary installation path
* DONE (matter)

Tests output

matter.Rcheck/tests/testthat.Rout


R Under development (unstable) (2025-01-20 r87609) -- "Unsuffered Consequences"
Copyright (C) 2025 The R Foundation for Statistical Computing
Platform: x86_64-pc-linux-gnu

R is free software and comes with ABSOLUTELY NO WARRANTY.
You are welcome to redistribute it under certain conditions.
Type 'license()' or 'licence()' for distribution details.

R is a collaborative project with many contributors.
Type 'contributors()' for more information and
'citation()' on how to cite R or R packages in publications.

Type 'demo()' for some demos, 'help()' for on-line help, or
'help.start()' for an HTML browser interface to help.
Type 'q()' to quit R.

> library(testthat)
> library(matter)
Loading required package: BiocParallel
Loading required package: Matrix
> 
> test_check("matter")

  |                                                                            
  |                                                                      |   0%
  |                                                                            
  |====                                                                  |   5%
  |                                                                            
  |=======                                                               |  10%
  |                                                                            
  |==========                                                            |  15%
  |                                                                            
  |==============                                                        |  20%
  |                                                                            
  |==================                                                    |  25%
  |                                                                            
  |=====================                                                 |  30%
  |                                                                            
  |========================                                              |  35%
  |                                                                            
  |============================                                          |  40%
  |                                                                            
  |================================                                      |  45%
  |                                                                            
  |===================================                                   |  50%
  |                                                                            
  |======================================                                |  55%
  |                                                                            
  |==========================================                            |  60%
  |                                                                            
  |==============================================                        |  65%
  |                                                                            
  |=================================================                     |  70%
  |                                                                            
  |====================================================                  |  75%
  |                                                                            
  |========================================================              |  80%
  |                                                                            
  |============================================================          |  85%
  |                                                                            
  |===============================================================       |  90%
  |                                                                            
  |==================================================================    |  95%
  |                                                                            
  |======================================================================| 100%

[ FAIL 0 | WARN 0 | SKIP 0 | PASS 2079 ]
> 
> proc.time()
   user  system elapsed 
 76.813   2.733  94.973 

Example timings

matter.Rcheck/matter-Ex.timings

nameusersystemelapsed
RNGStreams1.0590.0051.065
SnowfastParam-class0.2040.0192.603
approx10.0020.0010.003
approx20.0040.0010.005
avg0.0020.0000.002
binpeaks0.0040.0020.006
binvec0.0010.0000.001
bsearch0.0010.0000.001
checksum0.0230.0050.028
chunkApply0.1900.0210.211
chunked-class0.0060.0010.007
colscale0.1590.0020.161
colsweep0.0210.0010.022
convolve_at0.0780.0030.081
coscore0.0350.0080.042
cpal0.0030.0000.003
cv_do0.1550.0020.157
deferred-ops0.2040.0120.216
downsample0.0340.0010.035
drle-class0.0010.0010.002
enhance0.0200.0030.023
estbase0.0120.0010.013
estdim0.0040.0000.004
estnoise0.0340.0040.038
estres0.0010.0000.001
fastmap0.1110.0020.114
fetch0.0900.0050.096
filt10.0320.0000.033
filt20.0230.0000.023
filtn0.0030.0010.004
findpeaks0.0270.0010.028
findpeaks_cwt0.1230.0060.128
findpeaks_knn0.0030.0000.003
iQuote0.0010.0000.000
inpoly0.0030.0010.004
isofun0.0220.0010.023
knnsearch0.0020.0000.001
matter-class0.0220.0020.023
matter_arr-class0.0260.0000.026
matter_fct-class0.0160.0010.016
matter_list-class0.0090.0010.009
matter_str-class0.0190.0010.019
mem0.3890.0040.392
mi_learn0.5140.0020.516
nnmf0.0390.0010.039
nscentroids0.0860.0020.087
peakwidths0.0010.0010.001
pinv0.0010.0020.002
plot_signal0.4470.0090.456
pls0.0370.0000.037
prcomp0.0880.0000.087
predscore0.0010.0000.001
rescale0.0010.0000.000
rocscore0.0020.0010.003
rollvec0.0020.0000.001
rowDists0.0790.0010.079
rowStats0.0950.0040.099
seq_rel0.0010.0010.002
sgmix2.1970.0132.210
shingles0.0010.0030.003
simple_logger-class0.0040.0020.005
simspec0.0380.0010.038
sparse_arr-class0.0070.0010.008
stream_stat0.0050.0010.006
struct0.0050.0010.006
summary-stats0.3040.0040.308
to_raster0.0020.0020.004
trans2d0.0390.0010.040
uuid0.0010.0000.002
vizi-functions0.0510.0030.055
warp10.0300.0040.034
warp20.8340.0020.836