Back to Multiple platform build/check report for BioC 3.21:   simplified   long
ABCDEFGHIJKL[M]NOPQRSTUVWXYZ

This page was generated on 2025-02-06 11:42 -0500 (Thu, 06 Feb 2025).

HostnameOSArch (*)R versionInstalled pkgs
nebbiolo1Linux (Ubuntu 24.04.1 LTS)x86_64R Under development (unstable) (2025-01-20 r87609) -- "Unsuffered Consequences" 4719
palomino7Windows Server 2022 Datacenterx64R Under development (unstable) (2025-01-21 r87610 ucrt) -- "Unsuffered Consequences" 4480
lconwaymacOS 12.7.1 Montereyx86_64R Under development (unstable) (2025-01-22 r87618) -- "Unsuffered Consequences" 4491
kjohnson3macOS 13.7.1 Venturaarm64R Under development (unstable) (2025-01-20 r87609) -- "Unsuffered Consequences" 4444
Click on any hostname to see more info about the system (e.g. compilers)      (*) as reported by 'uname -p', except on Windows and Mac OS X

Package 1290/2295HostnameOS / ArchINSTALLBUILDCHECKBUILD BIN
mitch 1.19.3  (landing page)
Mark Ziemann
Snapshot Date: 2025-02-05 13:48 -0500 (Wed, 05 Feb 2025)
git_url: https://git.bioconductor.org/packages/mitch
git_branch: devel
git_last_commit: 6550cbb
git_last_commit_date: 2024-11-26 07:10:05 -0500 (Tue, 26 Nov 2024)
nebbiolo1Linux (Ubuntu 24.04.1 LTS) / x86_64  OK    OK    OK  UNNEEDED, same version is already published
palomino7Windows Server 2022 Datacenter / x64  OK    OK    OK    OK  UNNEEDED, same version is already published
lconwaymacOS 12.7.1 Monterey / x86_64  OK    OK    OK    OK  UNNEEDED, same version is already published
kjohnson3macOS 13.7.1 Ventura / arm64  OK    OK    OK    OK  UNNEEDED, same version is already published


CHECK results for mitch on lconway

To the developers/maintainers of the mitch package:
- Allow up to 24 hours (and sometimes 48 hours) for your latest push to git@git.bioconductor.org:packages/mitch.git to reflect on this report. See Troubleshooting Build Report for more information.
- Use the following Renviron settings to reproduce errors and warnings.
- If 'R CMD check' started to fail recently on the Linux builder(s) over a missing dependency, add the missing dependency to 'Suggests:' in your DESCRIPTION file. See Renviron.bioc for more information.

raw results


Summary

Package: mitch
Version: 1.19.3
Command: /Library/Frameworks/R.framework/Resources/bin/R CMD check --install=check:mitch.install-out.txt --library=/Library/Frameworks/R.framework/Resources/library --no-vignettes --timings mitch_1.19.3.tar.gz
StartedAt: 2025-02-05 21:43:04 -0500 (Wed, 05 Feb 2025)
EndedAt: 2025-02-05 21:47:10 -0500 (Wed, 05 Feb 2025)
EllapsedTime: 246.6 seconds
RetCode: 0
Status:   OK  
CheckDir: mitch.Rcheck
Warnings: 0

Command output

##############################################################################
##############################################################################
###
### Running command:
###
###   /Library/Frameworks/R.framework/Resources/bin/R CMD check --install=check:mitch.install-out.txt --library=/Library/Frameworks/R.framework/Resources/library --no-vignettes --timings mitch_1.19.3.tar.gz
###
##############################################################################
##############################################################################


* using log directory ‘/Users/biocbuild/bbs-3.21-bioc/meat/mitch.Rcheck’
* using R Under development (unstable) (2025-01-22 r87618)
* using platform: x86_64-apple-darwin20
* R was compiled by
    Apple clang version 14.0.0 (clang-1400.0.29.202)
    GNU Fortran (GCC) 14.2.0
* running under: macOS Monterey 12.7.6
* using session charset: UTF-8
* using option ‘--no-vignettes’
* checking for file ‘mitch/DESCRIPTION’ ... OK
* this is package ‘mitch’ version ‘1.19.3’
* package encoding: UTF-8
* checking package namespace information ... OK
* checking package dependencies ... OK
* checking if this is a source package ... OK
* checking if there is a namespace ... OK
* checking for hidden files and directories ... OK
* checking for portable file names ... OK
* checking for sufficient/correct file permissions ... OK
* checking whether package ‘mitch’ can be installed ... OK
* checking installed package size ... OK
* checking package directory ... OK
* checking ‘build’ directory ... OK
* checking DESCRIPTION meta-information ... OK
* checking top-level files ... OK
* checking for left-over files ... OK
* checking index information ... OK
* checking package subdirectories ... OK
* checking code files for non-ASCII characters ... OK
* checking R files for syntax errors ... OK
* checking whether the package can be loaded ... OK
* checking whether the package can be loaded with stated dependencies ... OK
* checking whether the package can be unloaded cleanly ... OK
* checking whether the namespace can be loaded with stated dependencies ... OK
* checking whether the namespace can be unloaded cleanly ... OK
* checking dependencies in R code ... OK
* checking S3 generic/method consistency ... OK
* checking replacement functions ... OK
* checking foreign function calls ... OK
* checking R code for possible problems ... OK
* checking Rd files ... OK
* checking Rd metadata ... OK
* checking Rd cross-references ... OK
* checking for missing documentation entries ... OK
* checking for code/documentation mismatches ... OK
* checking Rd \usage sections ... OK
* checking Rd contents ... OK
* checking for unstated dependencies in examples ... OK
* checking contents of ‘data’ directory ... OK
* checking data for non-ASCII characters ... OK
* checking data for ASCII and uncompressed saves ... OK
* checking files in ‘vignettes’ ... OK
* checking examples ... OK
Examples with CPU (user + system) or elapsed time > 5s
               user system elapsed
mitch        55.065  1.419  56.970
mitch_report 30.668  0.820  31.816
mitch_plots  23.838  0.404  24.382
* checking for unstated dependencies in ‘tests’ ... OK
* checking tests ...
  Running ‘test-mitch.R’
 OK
* checking for unstated dependencies in vignettes ... OK
* checking package vignettes ... OK
* checking running R code from vignettes ... SKIPPED
* checking re-building of vignette outputs ... SKIPPED
* checking PDF version of manual ... OK
* DONE

Status: OK


Installation output

mitch.Rcheck/00install.out

##############################################################################
##############################################################################
###
### Running command:
###
###   /Library/Frameworks/R.framework/Resources/bin/R CMD INSTALL mitch
###
##############################################################################
##############################################################################


* installing to library ‘/Library/Frameworks/R.framework/Versions/4.5-x86_64/Resources/library’
* installing *source* package ‘mitch’ ...
** this is package ‘mitch’ version ‘1.19.3’
** using staged installation
** R
** data
** inst
** byte-compile and prepare package for lazy loading
** help
*** installing help indices
** building package indices
** installing vignettes
** testing if installed package can be loaded from temporary location
** testing if installed package can be loaded from final location
** testing if installed package keeps a record of temporary installation path
* DONE (mitch)

Tests output

mitch.Rcheck/tests/test-mitch.Rout


R Under development (unstable) (2025-01-22 r87618) -- "Unsuffered Consequences"
Copyright (C) 2025 The R Foundation for Statistical Computing
Platform: x86_64-apple-darwin20

R is free software and comes with ABSOLUTELY NO WARRANTY.
You are welcome to redistribute it under certain conditions.
Type 'license()' or 'licence()' for distribution details.

R is a collaborative project with many contributors.
Type 'contributors()' for more information and
'citation()' on how to cite R or R packages in publications.

Type 'demo()' for some demos, 'help()' for on-line help, or
'help.start()' for an HTML browser interface to help.
Type 'q()' to quit R.

> library("mitch")
> library("testthat")
> 
> test_that("multiplication works", {
+     expect_equal(2 * 2, 4)
+ })
Test passed 🥇
> 
> # 1d
> data(rna,genesetsExample)
> y<-mitch_import(rna,DEtype="edgeR")
The input is a single dataframe; one contrast only. Converting
        it to a list for you.
Note: Mean no. genes in input = 1000
Note: no. genes in output = 1000
Note: estimated proportion of input genes in output = 1
> res<-mitch_calc(y,genesetsExample,cores=2)
Note: When prioritising by significance (ie: small
            p-values), large effect sizes might be missed.
> mitch_plots(res,outfile="1d.pdf") 
null device 
          1 
> if (file.exists("1d.html")) { unlink("1d.html") } 
> mitch_report(res,"1d.html")
Dataset saved as " /tmp/RtmpeToVqr/1d.rds ".


processing file: mitch.Rmd
2025-02-05 21:45:50.716 R[29643:102527243] XType: com.apple.fonts is not accessible.
2025-02-05 21:45:50.716 R[29643:102527243] XType: XTFontStaticRegistry is enabled.
output file: /Users/biocbuild/bbs-3.21-bioc/meat/mitch.Rcheck/tests/mitch.knit.md

/usr/local/bin/pandoc +RTS -K512m -RTS /Users/biocbuild/bbs-3.21-bioc/meat/mitch.Rcheck/tests/mitch.knit.md --to html4 --from markdown+autolink_bare_uris+tex_math_single_backslash --output /tmp/RtmpeToVqr/mitch_report.html --lua-filter /Library/Frameworks/R.framework/Versions/4.5-x86_64/Resources/library/rmarkdown/rmarkdown/lua/pagebreak.lua --lua-filter /Library/Frameworks/R.framework/Versions/4.5-x86_64/Resources/library/rmarkdown/rmarkdown/lua/latex-div.lua --self-contained --variable bs3=TRUE --section-divs --template /Library/Frameworks/R.framework/Versions/4.5-x86_64/Resources/library/rmarkdown/rmd/h/default.html --no-highlight --variable highlightjs=1 --variable theme=bootstrap --mathjax --variable 'mathjax-url=https://mathjax.rstudio.com/latest/MathJax.js?config=TeX-AMS-MML_HTMLorMML' --include-in-header /tmp/RtmpeToVqr/rmarkdown-str73cb67f1ae60.html 

Output created: /tmp/RtmpeToVqr/mitch_report.html
[1] TRUE
> 
> test_that("1d works", {
+     expect_equal(  length(which(res$enrichment_result$p.adjustANOVA<0.1)) ,1)
+     expect_true(file.info("1d.pdf")$size>10000)
+     expect_true(file.info("1d.html")$size>1000000)
+ })
Test passed 🥳
> 
> unlink("1d.html")
> unlink("1d.pdf")
> 
> 
> # 1d part 2 to make sure that saving files at a different location works
> MYPATH=paste(getwd(),"/1d.html",sep="")
> if (file.exists("1d.html")) { unlink("1d.html") }
> mitch_report(res,MYPATH)
Dataset saved as " /tmp/RtmpeToVqr/1d.rds ".


processing file: mitch.Rmd
output file: /Users/biocbuild/bbs-3.21-bioc/meat/mitch.Rcheck/tests/mitch.knit.md

/usr/local/bin/pandoc +RTS -K512m -RTS /Users/biocbuild/bbs-3.21-bioc/meat/mitch.Rcheck/tests/mitch.knit.md --to html4 --from markdown+autolink_bare_uris+tex_math_single_backslash --output /tmp/RtmpeToVqr/mitch_report.html --lua-filter /Library/Frameworks/R.framework/Versions/4.5-x86_64/Resources/library/rmarkdown/rmarkdown/lua/pagebreak.lua --lua-filter /Library/Frameworks/R.framework/Versions/4.5-x86_64/Resources/library/rmarkdown/rmarkdown/lua/latex-div.lua --self-contained --variable bs3=TRUE --section-divs --template /Library/Frameworks/R.framework/Versions/4.5-x86_64/Resources/library/rmarkdown/rmd/h/default.html --no-highlight --variable highlightjs=1 --variable theme=bootstrap --mathjax --variable 'mathjax-url=https://mathjax.rstudio.com/latest/MathJax.js?config=TeX-AMS-MML_HTMLorMML' --include-in-header /tmp/RtmpeToVqr/rmarkdown-str73cb3e51bc6c.html 

Output created: /tmp/RtmpeToVqr/mitch_report.html
[1] TRUE
> 
> test_that("1d works", {
+     expect_true(file.info("1d.html")$size>1000000)
+ })
Test passed 🎊
> 
> unlink("1d.html")
> 
> 
> 
> # 2d
> data(rna,k9a,genesetsExample)
> x<-list("rna"=rna,"k9a"=k9a)
> y<-mitch_import(x,DEtype="edgeR")
Note: Mean no. genes in input = 1000
Note: no. genes in output = 1000
Note: estimated proportion of input genes in output = 1
> res<-mitch_calc(y,genesetsExample,cores=2)
Note: When prioritising by significance (ie: small 
            p-values), large effect sizes might be missed.
> mitch_plots(res,outfile="2d.pdf")
null device 
          1 
> if (file.exists("2d.html")) { unlink("2d.html") }
> mitch_report(res,"2d.html")
Dataset saved as " /tmp/RtmpeToVqr/2d.rds ".


processing file: mitch.Rmd
output file: /Users/biocbuild/bbs-3.21-bioc/meat/mitch.Rcheck/tests/mitch.knit.md

/usr/local/bin/pandoc +RTS -K512m -RTS /Users/biocbuild/bbs-3.21-bioc/meat/mitch.Rcheck/tests/mitch.knit.md --to html4 --from markdown+autolink_bare_uris+tex_math_single_backslash --output /tmp/RtmpeToVqr/mitch_report.html --lua-filter /Library/Frameworks/R.framework/Versions/4.5-x86_64/Resources/library/rmarkdown/rmarkdown/lua/pagebreak.lua --lua-filter /Library/Frameworks/R.framework/Versions/4.5-x86_64/Resources/library/rmarkdown/rmarkdown/lua/latex-div.lua --self-contained --variable bs3=TRUE --section-divs --template /Library/Frameworks/R.framework/Versions/4.5-x86_64/Resources/library/rmarkdown/rmd/h/default.html --no-highlight --variable highlightjs=1 --variable theme=bootstrap --mathjax --variable 'mathjax-url=https://mathjax.rstudio.com/latest/MathJax.js?config=TeX-AMS-MML_HTMLorMML' --include-in-header /tmp/RtmpeToVqr/rmarkdown-str73cb2b5ed79e.html 

Output created: /tmp/RtmpeToVqr/mitch_report.html
[1] TRUE
> 
> test_that("2d works", {
+     expect_equal(  length(which(res$enrichment_result$p.adjustMANOVA<0.1)) ,1)
+     expect_true(file.info("2d.pdf")$size>100000)
+     expect_true(file.info("2d.html")$size>1000000)
+ })
Test passed 😸
> 
> unlink("2d.html")
> unlink("2d.pdf")
> 
> # 3d
> data(rna,k9a,k36a,genesetsExample)
> x<-list("rna"=rna,"k9a"=k9a,"k36a"=k36a)
> y<-mitch_import(x,DEtype="edgeR")
Note: Mean no. genes in input = 1000
Note: no. genes in output = 1000
Note: estimated proportion of input genes in output = 1
> res<-mitch_calc(y,genesetsExample,cores=2)
Note: When prioritising by significance (ie: small 
            p-values), large effect sizes might be missed.
> mitch_plots(res,outfile="3d.pdf")
null device 
          1 
There were 16 warnings (use warnings() to see them)
> if (file.exists("3d.html")) { unlink("3d.html") }
> mitch_report(res,"3d.html")
Dataset saved as " /tmp/RtmpeToVqr/3d.rds ".


processing file: mitch.Rmd
output file: /Users/biocbuild/bbs-3.21-bioc/meat/mitch.Rcheck/tests/mitch.knit.md

/usr/local/bin/pandoc +RTS -K512m -RTS /Users/biocbuild/bbs-3.21-bioc/meat/mitch.Rcheck/tests/mitch.knit.md --to html4 --from markdown+autolink_bare_uris+tex_math_single_backslash --output /tmp/RtmpeToVqr/mitch_report.html --lua-filter /Library/Frameworks/R.framework/Versions/4.5-x86_64/Resources/library/rmarkdown/rmarkdown/lua/pagebreak.lua --lua-filter /Library/Frameworks/R.framework/Versions/4.5-x86_64/Resources/library/rmarkdown/rmarkdown/lua/latex-div.lua --self-contained --variable bs3=TRUE --section-divs --template /Library/Frameworks/R.framework/Versions/4.5-x86_64/Resources/library/rmarkdown/rmd/h/default.html --no-highlight --variable highlightjs=1 --variable theme=bootstrap --mathjax --variable 'mathjax-url=https://mathjax.rstudio.com/latest/MathJax.js?config=TeX-AMS-MML_HTMLorMML' --include-in-header /tmp/RtmpeToVqr/rmarkdown-str73cb407ecafe.html 

Output created: /tmp/RtmpeToVqr/mitch_report.html
[1] TRUE
> 
> test_that("3d works", {
+     expect_equal(  length(which(res$enrichment_result$p.adjustMANOVA<0.1)) ,1)
+     expect_true(file.info("3d.pdf")$size>100000)
+     expect_true(file.info("3d.html")$size>1000000)
+ })
Test passed 🎉
> 
> unlink("3d.html")
> unlink("3d.pdf")
> 
> 
> 
> proc.time()
   user  system elapsed 
 71.114   3.555  75.536 

Example timings

mitch.Rcheck/mitch-Ex.timings

nameusersystemelapsed
genesetsExample0.0090.0020.011
gmt_import0.0150.0020.018
k36a0.0040.0010.005
k9a0.0030.0010.004
mitch55.065 1.41956.970
mitch_calc0.3720.3610.447
mitch_import0.0190.0040.023
mitch_plots23.838 0.40424.382
mitch_report30.668 0.82031.816
myImportedData0.0040.0010.005
myList0.0060.0020.007
resExample0.0110.0010.012
rna0.0040.0010.005