Back to Multiple platform build/check report for BioC 3.21:   simplified   long
ABCDEFGHIJKLMNOPQ[R]STUVWXYZ

This page was generated on 2025-02-10 11:41 -0500 (Mon, 10 Feb 2025).

HostnameOSArch (*)R versionInstalled pkgs
nebbiolo1Linux (Ubuntu 24.04.1 LTS)x86_64R Under development (unstable) (2025-01-20 r87609) -- "Unsuffered Consequences" 4719
palomino7Windows Server 2022 Datacenterx64R Under development (unstable) (2025-01-21 r87610 ucrt) -- "Unsuffered Consequences" 4480
lconwaymacOS 12.7.1 Montereyx86_64R Under development (unstable) (2025-01-22 r87618) -- "Unsuffered Consequences" 4491
kjohnson3macOS 13.7.1 Venturaarm64R Under development (unstable) (2025-01-20 r87609) -- "Unsuffered Consequences" 4444
Click on any hostname to see more info about the system (e.g. compilers)      (*) as reported by 'uname -p', except on Windows and Mac OS X

Package 1683/2295HostnameOS / ArchINSTALLBUILDCHECKBUILD BIN
rCGH 1.37.0  (landing page)
Frederic Commo
Snapshot Date: 2025-02-09 13:40 -0500 (Sun, 09 Feb 2025)
git_url: https://git.bioconductor.org/packages/rCGH
git_branch: devel
git_last_commit: f2bf7cc
git_last_commit_date: 2024-10-29 10:02:24 -0500 (Tue, 29 Oct 2024)
nebbiolo1Linux (Ubuntu 24.04.1 LTS) / x86_64  OK    OK    OK  UNNEEDED, same version is already published
palomino7Windows Server 2022 Datacenter / x64  OK    OK    OK    OK  UNNEEDED, same version is already published
lconwaymacOS 12.7.1 Monterey / x86_64  OK    OK    OK    OK  UNNEEDED, same version is already published
kjohnson3macOS 13.7.1 Ventura / arm64  OK    OK    OK    OK  UNNEEDED, same version is already published


CHECK results for rCGH on palomino7

To the developers/maintainers of the rCGH package:
- Allow up to 24 hours (and sometimes 48 hours) for your latest push to git@git.bioconductor.org:packages/rCGH.git to reflect on this report. See Troubleshooting Build Report for more information.
- Use the following Renviron settings to reproduce errors and warnings.
- If 'R CMD check' started to fail recently on the Linux builder(s) over a missing dependency, add the missing dependency to 'Suggests:' in your DESCRIPTION file. See Renviron.bioc for more information.

raw results


Summary

Package: rCGH
Version: 1.37.0
Command: E:\biocbuild\bbs-3.21-bioc\R\bin\R.exe CMD check --no-multiarch --install=check:rCGH.install-out.txt --library=E:\biocbuild\bbs-3.21-bioc\R\library --no-vignettes --timings rCGH_1.37.0.tar.gz
StartedAt: 2025-02-10 04:31:59 -0500 (Mon, 10 Feb 2025)
EndedAt: 2025-02-10 04:40:12 -0500 (Mon, 10 Feb 2025)
EllapsedTime: 493.0 seconds
RetCode: 0
Status:   OK  
CheckDir: rCGH.Rcheck
Warnings: 0

Command output

##############################################################################
##############################################################################
###
### Running command:
###
###   E:\biocbuild\bbs-3.21-bioc\R\bin\R.exe CMD check --no-multiarch --install=check:rCGH.install-out.txt --library=E:\biocbuild\bbs-3.21-bioc\R\library --no-vignettes --timings rCGH_1.37.0.tar.gz
###
##############################################################################
##############################################################################


* using log directory 'E:/biocbuild/bbs-3.21-bioc/meat/rCGH.Rcheck'
* using R Under development (unstable) (2025-01-21 r87610 ucrt)
* using platform: x86_64-w64-mingw32
* R was compiled by
    gcc.exe (GCC) 13.3.0
    GNU Fortran (GCC) 13.3.0
* running under: Windows Server 2022 x64 (build 20348)
* using session charset: UTF-8
* using option '--no-vignettes'
* checking for file 'rCGH/DESCRIPTION' ... OK
* checking extension type ... Package
* this is package 'rCGH' version '1.37.0'
* checking package namespace information ... OK
* checking package dependencies ... OK
* checking if this is a source package ... OK
* checking if there is a namespace ... OK
* checking for hidden files and directories ... OK
* checking for portable file names ... OK
* checking whether package 'rCGH' can be installed ... OK
* checking installed package size ... OK
* checking package directory ... OK
* checking 'build' directory ... OK
* checking DESCRIPTION meta-information ... OK
* checking top-level files ... OK
* checking for left-over files ... OK
* checking index information ... OK
* checking package subdirectories ... NOTE
Problems with news in 'NEWS':
  Cannot process chunk/lines:
    rCGH 1.1.8 has been released as rCGH-1.2.2
  Cannot process chunk/lines:
    Cleaner version from 1.1.4.
  Cannot process chunk/lines:
    Should not give any warning due to functions masked by imported packages
  Cannot process chunk/lines:
    Not submitted!
  Cannot process chunk/lines:
    New bioconductor devel versioning after release cycle.
  Cannot process chunk/lines:
    The first and corresponding bioconductor release version is 1.0.0.
* checking code files for non-ASCII characters ... OK
* checking R files for syntax errors ... OK
* checking whether the package can be loaded ... OK
* checking whether the package can be loaded with stated dependencies ... OK
* checking whether the package can be unloaded cleanly ... OK
* checking whether the namespace can be loaded with stated dependencies ... OK
* checking whether the namespace can be unloaded cleanly ... OK
* checking whether startup messages can be suppressed ... OK
* checking dependencies in R code ... OK
* checking S3 generic/method consistency ... OK
* checking replacement functions ... OK
* checking foreign function calls ... OK
* checking R code for possible problems ... OK
* checking Rd files ... OK
* checking Rd metadata ... OK
* checking Rd cross-references ... OK
* checking for missing documentation entries ... OK
* checking for code/documentation mismatches ... OK
* checking Rd \usage sections ... OK
* checking Rd contents ... OK
* checking for unstated dependencies in examples ... OK
* checking contents of 'data' directory ... OK
* checking data for non-ASCII characters ... OK
* checking LazyData ... OK
* checking data for ASCII and uncompressed saves ... OK
* checking sizes of PDF files under 'inst/doc' ... OK
* checking installed files from 'inst/doc' ... OK
* checking files in 'vignettes' ... NOTE
The following directory looks like a leftover from 'knitr':
  'figure'
Please remove from your package.
* checking examples ... OK
Examples with CPU (user + system) or elapsed time > 5s
              user system elapsed
byGeneTable  15.80   0.35   16.17
multiplot    14.36   0.22   14.58
plotProfile  12.52   0.14   12.65
rCGH-package 10.32   0.10   10.43
EMnormalize   8.20   0.08    8.57
plotLOH       8.18   0.05    8.24
plotDensity   8.16   0.04    8.20
recenter      7.97   0.14    8.11
view          7.47   0.07    7.54
adjustSignal  6.81   0.04    6.86
segmentCGH    6.73   0.11    6.86
* checking for unstated dependencies in 'tests' ... OK
* checking tests ...
  Running 'runTests.R'
 OK
* checking for unstated dependencies in vignettes ... OK
* checking package vignettes ... OK
* checking running R code from vignettes ... SKIPPED
* checking re-building of vignette outputs ... SKIPPED
* checking PDF version of manual ... OK
* DONE

Status: 2 NOTEs
See
  'E:/biocbuild/bbs-3.21-bioc/meat/rCGH.Rcheck/00check.log'
for details.


Installation output

rCGH.Rcheck/00install.out

##############################################################################
##############################################################################
###
### Running command:
###
###   E:\biocbuild\bbs-3.21-bioc\R\bin\R.exe CMD INSTALL rCGH
###
##############################################################################
##############################################################################


* installing to library 'E:/biocbuild/bbs-3.21-bioc/R/library'
* installing *source* package 'rCGH' ...
** this is package 'rCGH' version '1.37.0'
** using staged installation
** R
** data
*** moving datasets to lazyload DB
** inst
** byte-compile and prepare package for lazy loading
** help
*** installing help indices
** building package indices
** installing vignettes
** testing if installed package can be loaded from temporary location
** testing if installed package can be loaded from final location
** testing if installed package keeps a record of temporary installation path
* DONE (rCGH)

Tests output

rCGH.Rcheck/tests/runTests.Rout


R Under development (unstable) (2025-01-21 r87610 ucrt) -- "Unsuffered Consequences"
Copyright (C) 2025 The R Foundation for Statistical Computing
Platform: x86_64-w64-mingw32/x64

R is free software and comes with ABSOLUTELY NO WARRANTY.
You are welcome to redistribute it under certain conditions.
Type 'license()' or 'licence()' for distribution details.

R is a collaborative project with many contributors.
Type 'contributors()' for more information and
'citation()' on how to cite R or R packages in publications.

Type 'demo()' for some demos, 'help()' for on-line help, or
'help.start()' for an HTML browser interface to help.
Type 'q()' to quit R.

> BiocGenerics:::testPackage("rCGH")

	********************************************************
	Current version: 1.37.0
	This version may contain important changes.
	Use news(Version == '1.37.0', package = 'rCGH').
	********************************************************

SNP probes will be used.
Reading information...
Reading values...
Adding presettings...
Genome build: hg19
Log2Ratios QCs:
	dLRs: 0.162
	MAD: 0.128

Scaling...
Signal filtering...
Modeling allelic Difference...
Computing LRR segmentation using UndoSD: 0.179
Merging segments shorter than 10Kb.
Number of segments: 25
Merging peaks closer than 0.1 ...
Gaussian mixture estimation:
n.peaks =  3

Group parameters:
Grp 1:
prop: 0.504,	mean: -0.061,	Sd: 0.149,	peak height: 1.344
Grp 2:
prop: 0.481,	mean: 0.861,	Sd: 0.149,	peak height: 1.284
Grp 3:
prop: 0.015,	mean: 2.04,	Sd: 0.149,	peak height: 0.041

Correction value:  -0.061
Use plotDensity() to visualize the LRR densities.
  403 genes were dropped because they have exons located on both strands of the
  same reference sequence or on more than one reference sequence, so cannot be
  represented by a single genomic range.
  Use 'single.strand.genes.only=FALSE' to get all the genes in a GRangesList
  object, or use suppressMessages() to suppress this message.
Creating byGene table...
SNP probes will be used.
Reading information...
Reading values...
Adding presettings...
Genome build: hg19
SNP probes will be used.
Reading information...
Reading values...
Adding presettings...
Genome build: hg19


RUNIT TEST PROTOCOL -- Mon Feb 10 04:39:55 2025 
*********************************************** 
Number of test functions: 11 
Number of errors: 0 
Number of failures: 0 

 
1 Test Suite : 
rCGH RUnit Tests - 11 test functions, 0 errors, 0 failures
Number of test functions: 11 
Number of errors: 0 
Number of failures: 0 
> 
> proc.time()
   user  system elapsed 
  30.93    1.28   32.68 

Example timings

rCGH.Rcheck/rCGH-Ex.timings

nameusersystemelapsed
AllAccessors0.700.001.03
EMnormalize8.200.088.57
adjustSignal6.810.046.86
byGeneTable15.80 0.3516.17
hg18000
hg190.010.000.02
hg38000
multiplot14.36 0.2214.58
plotDensity8.160.048.20
plotLOH8.180.058.24
plotProfile12.52 0.1412.65
rCGH-Agilent-class000
rCGH-SNP6-class000
rCGH-class0.020.000.02
rCGH-cytoScan-class000
rCGH-generic-class000
rCGH-oncoScan-class000
rCGH-package10.32 0.1010.43
readAffyCytoScan0.490.000.49
readAffyOncoScan0.010.000.01
readAffySNP60.460.000.47
readAgilent0.480.000.49
readGeneric0.020.000.01
recenter7.970.148.11
segmentCGH6.730.116.86
setInfo0.370.000.38
view7.470.077.54