Back to Multiple platform build/check report for BioC 3.21:   simplified   long
ABCDEFGHIJKLMNOPQ[R]STUVWXYZ

This page was generated on 2025-02-04 11:41 -0500 (Tue, 04 Feb 2025).

HostnameOSArch (*)R versionInstalled pkgs
nebbiolo1Linux (Ubuntu 24.04.1 LTS)x86_64R Under development (unstable) (2025-01-20 r87609) -- "Unsuffered Consequences" 4716
palomino7Windows Server 2022 Datacenterx64R Under development (unstable) (2025-01-21 r87610 ucrt) -- "Unsuffered Consequences" 4478
lconwaymacOS 12.7.1 Montereyx86_64R Under development (unstable) (2025-01-22 r87618) -- "Unsuffered Consequences" 4489
kjohnson3macOS 13.7.1 Venturaarm64R Under development (unstable) (2025-01-20 r87609) -- "Unsuffered Consequences" 4442
Click on any hostname to see more info about the system (e.g. compilers)      (*) as reported by 'uname -p', except on Windows and Mac OS X

Package 1654/2295HostnameOS / ArchINSTALLBUILDCHECKBUILD BIN
raer 1.5.0  (landing page)
Kent Riemondy
Snapshot Date: 2025-02-03 13:40 -0500 (Mon, 03 Feb 2025)
git_url: https://git.bioconductor.org/packages/raer
git_branch: devel
git_last_commit: 438c245
git_last_commit_date: 2024-10-29 11:24:55 -0500 (Tue, 29 Oct 2024)
nebbiolo1Linux (Ubuntu 24.04.1 LTS) / x86_64  OK    OK    OK  UNNEEDED, same version is already published
palomino7Windows Server 2022 Datacenter / x64  OK    OK    OK    OK  UNNEEDED, same version is already published
lconwaymacOS 12.7.1 Monterey / x86_64  OK    OK    OK    OK  NO, package depends on 'rtracklayer' which is only available as a source package that needs compilation
kjohnson3macOS 13.7.1 Ventura / arm64  OK    OK    OK    OK  NO, package depends on 'rtracklayer' which is only available as a source package that needs compilation


INSTALL results for raer on palomino7

To the developers/maintainers of the raer package:
- Allow up to 24 hours (and sometimes 48 hours) for your latest push to git@git.bioconductor.org:packages/raer.git to reflect on this report. See Troubleshooting Build Report for more information.
- Use the following Renviron settings to reproduce errors and warnings.
- If 'R CMD check' started to fail recently on the Linux builder(s) over a missing dependency, add the missing dependency to 'Suggests:' in your DESCRIPTION file. See Renviron.bioc for more information.

raw results


Summary

Package: raer
Version: 1.5.0
Command: E:\biocbuild\bbs-3.21-bioc\R\bin\R.exe CMD INSTALL raer
StartedAt: 2025-02-03 16:47:26 -0500 (Mon, 03 Feb 2025)
EndedAt: 2025-02-03 16:48:43 -0500 (Mon, 03 Feb 2025)
EllapsedTime: 77.1 seconds
RetCode: 0
Status:   OK  

Command output

##############################################################################
##############################################################################
###
### Running command:
###
###   E:\biocbuild\bbs-3.21-bioc\R\bin\R.exe CMD INSTALL raer
###
##############################################################################
##############################################################################


* installing to library 'E:/biocbuild/bbs-3.21-bioc/R/library'
* installing *source* package 'raer' ...
** this is package 'raer' version '1.5.0'
** using staged installation
** libs
using C compiler: 'gcc.exe (GCC) 13.3.0'
gcc  -I"E:/biocbuild/bbs-3.21-bioc/R/include" -DNDEBUG -D_FILE_OFFSET_BITS=64 -I'E:/biocbuild/bbs-3.21-bioc/R/library/Rhtslib/include'   -I"C:/rtools44/x86_64-w64-mingw32.static.posix/include"      -O2 -Wall  -mfpmath=sse -msse2 -mstackrealign   -c init.c -o init.o
gcc  -I"E:/biocbuild/bbs-3.21-bioc/R/include" -DNDEBUG -D_FILE_OFFSET_BITS=64 -I'E:/biocbuild/bbs-3.21-bioc/R/library/Rhtslib/include'   -I"C:/rtools44/x86_64-w64-mingw32.static.posix/include"      -O2 -Wall  -mfpmath=sse -msse2 -mstackrealign   -c plp.c -o plp.o
gcc  -I"E:/biocbuild/bbs-3.21-bioc/R/include" -DNDEBUG -D_FILE_OFFSET_BITS=64 -I'E:/biocbuild/bbs-3.21-bioc/R/library/Rhtslib/include'   -I"C:/rtools44/x86_64-w64-mingw32.static.posix/include"      -O2 -Wall  -mfpmath=sse -msse2 -mstackrealign   -c plp_data.c -o plp_data.o
gcc  -I"E:/biocbuild/bbs-3.21-bioc/R/include" -DNDEBUG -D_FILE_OFFSET_BITS=64 -I'E:/biocbuild/bbs-3.21-bioc/R/library/Rhtslib/include'   -I"C:/rtools44/x86_64-w64-mingw32.static.posix/include"      -O2 -Wall  -mfpmath=sse -msse2 -mstackrealign   -c plp_utils.c -o plp_utils.o
gcc  -I"E:/biocbuild/bbs-3.21-bioc/R/include" -DNDEBUG -D_FILE_OFFSET_BITS=64 -I'E:/biocbuild/bbs-3.21-bioc/R/library/Rhtslib/include'   -I"C:/rtools44/x86_64-w64-mingw32.static.posix/include"      -O2 -Wall  -mfpmath=sse -msse2 -mstackrealign   -c regfile.c -o regfile.o
gcc  -I"E:/biocbuild/bbs-3.21-bioc/R/include" -DNDEBUG -D_FILE_OFFSET_BITS=64 -I'E:/biocbuild/bbs-3.21-bioc/R/library/Rhtslib/include'   -I"C:/rtools44/x86_64-w64-mingw32.static.posix/include"      -O2 -Wall  -mfpmath=sse -msse2 -mstackrealign   -c sc-plp.c -o sc-plp.o
gcc  -I"E:/biocbuild/bbs-3.21-bioc/R/include" -DNDEBUG -D_FILE_OFFSET_BITS=64 -I'E:/biocbuild/bbs-3.21-bioc/R/library/Rhtslib/include'   -I"C:/rtools44/x86_64-w64-mingw32.static.posix/include"      -O2 -Wall  -mfpmath=sse -msse2 -mstackrealign   -c utils.c -o utils.o
gcc  -I"E:/biocbuild/bbs-3.21-bioc/R/include" -DNDEBUG -D_FILE_OFFSET_BITS=64 -I'E:/biocbuild/bbs-3.21-bioc/R/library/Rhtslib/include'   -I"C:/rtools44/x86_64-w64-mingw32.static.posix/include"      -O2 -Wall  -mfpmath=sse -msse2 -mstackrealign   -c ext/bcftools/bcftools-ext.c -o ext/bcftools/bcftools-ext.o
gcc  -I"E:/biocbuild/bbs-3.21-bioc/R/include" -DNDEBUG -D_FILE_OFFSET_BITS=64 -I'E:/biocbuild/bbs-3.21-bioc/R/library/Rhtslib/include'   -I"C:/rtools44/x86_64-w64-mingw32.static.posix/include"      -O2 -Wall  -mfpmath=sse -msse2 -mstackrealign   -c ext/htsbox/htsbox-ext.c -o ext/htsbox/htsbox-ext.o
gcc  -I"E:/biocbuild/bbs-3.21-bioc/R/include" -DNDEBUG -D_FILE_OFFSET_BITS=64 -I'E:/biocbuild/bbs-3.21-bioc/R/library/Rhtslib/include'   -I"C:/rtools44/x86_64-w64-mingw32.static.posix/include"      -O2 -Wall  -mfpmath=sse -msse2 -mstackrealign   -c ext/samtools/samtools-ext.c -o ext/samtools/samtools-ext.o
gcc -shared -s -static-libgcc -o raer.dll tmp.def init.o plp.o plp_data.o plp_utils.o regfile.o sc-plp.o utils.o ext/bcftools/bcftools-ext.o ext/htsbox/htsbox-ext.o ext/samtools/samtools-ext.o E:/biocbuild/bbs-3.21-bioc/R/library/Rhtslib/usrlib/x64/libhts.a -lm -lbz2 -llzma -lcurl -lpsl -lbrotlidec -lbrotlicommon -lbcrypt -lidn2 -lunistring -liconv -lssl -lcrypto -lz -lcrypt32 -lwsock32 -lwldap32 -lssh2 -lgcrypt -lgpg-error -lws2_32 -lzstd -lregex -LC:/rtools44/x86_64-w64-mingw32.static.posix/lib/x64 -LC:/rtools44/x86_64-w64-mingw32.static.posix/lib -LE:/biocbuild/bbs-3.21-bioc/R/bin/x64 -lR
installing to E:/biocbuild/bbs-3.21-bioc/R/library/00LOCK-raer/00new/raer/libs/x64
** R
** inst
** byte-compile and prepare package for lazy loading
** help
*** installing help indices
*** copying figures
** building package indices
** installing vignettes
** testing if installed package can be loaded from temporary location
** testing if installed package can be loaded from final location
** testing if installed package keeps a record of temporary installation path
* DONE (raer)