Back to Multiple platform build/check report for BioC 3.21:   simplified   long
ABCDEFGHIJKLMNOPQR[S]TUVWXYZ

This page was generated on 2025-02-04 11:42 -0500 (Tue, 04 Feb 2025).

HostnameOSArch (*)R versionInstalled pkgs
nebbiolo1Linux (Ubuntu 24.04.1 LTS)x86_64R Under development (unstable) (2025-01-20 r87609) -- "Unsuffered Consequences" 4716
palomino7Windows Server 2022 Datacenterx64R Under development (unstable) (2025-01-21 r87610 ucrt) -- "Unsuffered Consequences" 4478
lconwaymacOS 12.7.1 Montereyx86_64R Under development (unstable) (2025-01-22 r87618) -- "Unsuffered Consequences" 4489
kjohnson3macOS 13.7.1 Venturaarm64R Under development (unstable) (2025-01-20 r87609) -- "Unsuffered Consequences" 4442
Click on any hostname to see more info about the system (e.g. compilers)      (*) as reported by 'uname -p', except on Windows and Mac OS X

Package 1860/2295HostnameOS / ArchINSTALLBUILDCHECKBUILD BIN
scBubbletree 1.9.0  (landing page)
Simo Kitanovski
Snapshot Date: 2025-02-03 13:40 -0500 (Mon, 03 Feb 2025)
git_url: https://git.bioconductor.org/packages/scBubbletree
git_branch: devel
git_last_commit: 2950075
git_last_commit_date: 2024-10-29 11:14:42 -0500 (Tue, 29 Oct 2024)
nebbiolo1Linux (Ubuntu 24.04.1 LTS) / x86_64  OK    OK    OK  UNNEEDED, same version is already published
palomino7Windows Server 2022 Datacenter / x64  OK    OK    OK    OK  UNNEEDED, same version is already published
lconwaymacOS 12.7.1 Monterey / x86_64  OK    OK    OK    OK  UNNEEDED, same version is already published
kjohnson3macOS 13.7.1 Ventura / arm64  OK    OK    OK    OK  UNNEEDED, same version is already published


CHECK results for scBubbletree on palomino7

To the developers/maintainers of the scBubbletree package:
- Allow up to 24 hours (and sometimes 48 hours) for your latest push to git@git.bioconductor.org:packages/scBubbletree.git to reflect on this report. See Troubleshooting Build Report for more information.
- Use the following Renviron settings to reproduce errors and warnings.
- If 'R CMD check' started to fail recently on the Linux builder(s) over a missing dependency, add the missing dependency to 'Suggests:' in your DESCRIPTION file. See Renviron.bioc for more information.

raw results


Summary

Package: scBubbletree
Version: 1.9.0
Command: E:\biocbuild\bbs-3.21-bioc\R\bin\R.exe CMD check --no-multiarch --install=check:scBubbletree.install-out.txt --library=E:\biocbuild\bbs-3.21-bioc\R\library --no-vignettes --timings scBubbletree_1.9.0.tar.gz
StartedAt: 2025-02-04 05:30:10 -0500 (Tue, 04 Feb 2025)
EndedAt: 2025-02-04 05:40:28 -0500 (Tue, 04 Feb 2025)
EllapsedTime: 617.9 seconds
RetCode: 0
Status:   OK  
CheckDir: scBubbletree.Rcheck
Warnings: 0

Command output

##############################################################################
##############################################################################
###
### Running command:
###
###   E:\biocbuild\bbs-3.21-bioc\R\bin\R.exe CMD check --no-multiarch --install=check:scBubbletree.install-out.txt --library=E:\biocbuild\bbs-3.21-bioc\R\library --no-vignettes --timings scBubbletree_1.9.0.tar.gz
###
##############################################################################
##############################################################################


* using log directory 'E:/biocbuild/bbs-3.21-bioc/meat/scBubbletree.Rcheck'
* using R Under development (unstable) (2025-01-21 r87610 ucrt)
* using platform: x86_64-w64-mingw32
* R was compiled by
    gcc.exe (GCC) 13.3.0
    GNU Fortran (GCC) 13.3.0
* running under: Windows Server 2022 x64 (build 20348)
* using session charset: UTF-8
* using option '--no-vignettes'
* checking for file 'scBubbletree/DESCRIPTION' ... OK
* checking extension type ... Package
* this is package 'scBubbletree' version '1.9.0'
* package encoding: UTF-8
* checking package namespace information ... OK
* checking package dependencies ... OK
* checking if this is a source package ... OK
* checking if there is a namespace ... OK
* checking for hidden files and directories ... OK
* checking for portable file names ... OK
* checking whether package 'scBubbletree' can be installed ... OK
* checking installed package size ... OK
* checking package directory ... OK
* checking 'build' directory ... OK
* checking DESCRIPTION meta-information ... OK
* checking top-level files ... OK
* checking for left-over files ... OK
* checking index information ... OK
* checking package subdirectories ... OK
* checking code files for non-ASCII characters ... OK
* checking R files for syntax errors ... OK
* checking whether the package can be loaded ... OK
* checking whether the package can be loaded with stated dependencies ... OK
* checking whether the package can be unloaded cleanly ... OK
* checking whether the namespace can be loaded with stated dependencies ... OK
* checking whether the namespace can be unloaded cleanly ... OK
* checking dependencies in R code ... NOTE
Namespace in Imports field not imported from: 'base'
  All declared Imports should be used.
* checking S3 generic/method consistency ... OK
* checking replacement functions ... OK
* checking foreign function calls ... OK
* checking R code for possible problems ... NOTE
compare_bubbletrees: no visible binding for global variable 'isTip'
compare_bubbletrees: no visible binding for global variable 'Cells'
compare_bubbletrees: no visible binding for global variable 'lab_short'
compare_bubbletrees: no visible binding for global variable 'label'
compare_bubbletrees: no visible binding for global variable 'JD'
compare_bubbletrees: no visible binding for global variable
  'intersection'
get_dendrogram: no visible binding for global variable 'isTip'
get_dendrogram: no visible binding for global variable 'Cells'
get_dendrogram: no visible binding for global variable 'label'
get_dendrogram: no visible binding for global variable 'lab_short'
get_dendrogram: no visible binding for global variable 'lab_long'
get_num_cell_tiles: no visible binding for global variable 'cluster'
ggplot_cat_tiles: no visible binding for global variable 'feature'
ggplot_cat_tiles: no visible binding for global variable 'cluster'
ggplot_cat_tiles: no visible binding for global variable 'percent'
ggplot_num_cell_tiles: no visible binding for global variable 'cluster'
ggplot_num_cell_tiles: no visible binding for global variable 'f'
ggplot_num_tiles: no visible binding for global variable 'feature'
ggplot_num_tiles: no visible binding for global variable 'cluster'
ggplot_num_tiles: no visible binding for global variable 'value'
ggplot_num_violins: no visible binding for global variable 'cluster'
ggplot_num_violins: no visible binding for global variable 'value'
Undefined global functions or variables:
  Cells JD cluster f feature intersection isTip lab_long lab_short
  label percent value
* checking Rd files ... OK
* checking Rd metadata ... OK
* checking Rd cross-references ... OK
* checking for missing documentation entries ... OK
* checking for code/documentation mismatches ... OK
* checking Rd \usage sections ... OK
* checking Rd contents ... OK
* checking for unstated dependencies in examples ... OK
* checking contents of 'data' directory ... OK
* checking data for non-ASCII characters ... OK
* checking data for ASCII and uncompressed saves ... OK
* checking files in 'vignettes' ... OK
* checking examples ... OK
Examples with CPU (user + system) or elapsed time > 5s
                           user system elapsed
get_bubbletree_comparison 28.31   0.36   28.68
get_num_tiles             19.97   0.22   20.18
get_r                     18.30   0.75   19.06
get_num_violins           18.45   0.22   18.69
get_num_cell_tiles        17.41   0.18   17.60
get_bubbletree_kmeans     17.44   0.12   17.57
get_bubbletree_graph      14.67   0.25   14.92
get_cat_tiles             13.10   0.27   13.36
get_gini_k                10.87   0.35   11.22
get_bubbletree_dummy       9.23   0.21    9.44
* checking for unstated dependencies in 'tests' ... OK
* checking tests ...
  Running 'testthat.R'
 OK
* checking for unstated dependencies in vignettes ... OK
* checking package vignettes ... OK
* checking running R code from vignettes ... SKIPPED
* checking re-building of vignette outputs ... SKIPPED
* checking PDF version of manual ... OK
* DONE

Status: 2 NOTEs
See
  'E:/biocbuild/bbs-3.21-bioc/meat/scBubbletree.Rcheck/00check.log'
for details.


Installation output

scBubbletree.Rcheck/00install.out

##############################################################################
##############################################################################
###
### Running command:
###
###   E:\biocbuild\bbs-3.21-bioc\R\bin\R.exe CMD INSTALL scBubbletree
###
##############################################################################
##############################################################################


* installing to library 'E:/biocbuild/bbs-3.21-bioc/R/library'
* installing *source* package 'scBubbletree' ...
** this is package 'scBubbletree' version '1.9.0'
** using staged installation
** R
** data
** inst
** byte-compile and prepare package for lazy loading
** help
*** installing help indices
** building package indices
** installing vignettes
** testing if installed package can be loaded from temporary location
** testing if installed package can be loaded from final location
** testing if installed package keeps a record of temporary installation path
* DONE (scBubbletree)

Tests output

scBubbletree.Rcheck/tests/testthat.Rout


R Under development (unstable) (2025-01-21 r87610 ucrt) -- "Unsuffered Consequences"
Copyright (C) 2025 The R Foundation for Statistical Computing
Platform: x86_64-w64-mingw32/x64

R is free software and comes with ABSOLUTELY NO WARRANTY.
You are welcome to redistribute it under certain conditions.
Type 'license()' or 'licence()' for distribution details.

R is a collaborative project with many contributors.
Type 'contributors()' for more information and
'citation()' on how to cite R or R packages in publications.

Type 'demo()' for some demos, 'help()' for on-line help, or
'help.start()' for an HTML browser interface to help.
Type 'q()' to quit R.

> library(testthat)
> library(scBubbletree)
> 
> test_check("scBubbletree")
Tests input rules of get_bubbletree_graph 
Tests input rules of get_bubbletree_kmeans 
Tests input rules of get_cat_tiles 
Tests input rules of get_gini_k 
Tests input rules of get_gini 
Tests input rules of get_k 
Tests input rules of get_num_tiles 
Tests input rules of get_num_violins 
Tests input rules of get_r 
Tests input rules of util 
[ FAIL 0 | WARN 118 | SKIP 0 | PASS 477 ]

[ FAIL 0 | WARN 118 | SKIP 0 | PASS 477 ]
> 
> proc.time()
   user  system elapsed 
 292.65   10.84  303.90 

Example timings

scBubbletree.Rcheck/scBubbletree-Ex.timings

nameusersystemelapsed
d_5000.010.000.02
d_ccl0.000.010.02
get_bubbletree_comparison28.31 0.3628.68
get_bubbletree_dummy9.230.219.44
get_bubbletree_graph14.67 0.2514.92
get_bubbletree_kmeans17.44 0.1217.57
get_cat_tiles13.10 0.2713.36
get_gini000
get_gini_k10.87 0.3511.22
get_k2.560.142.70
get_num_cell_tiles17.41 0.1817.60
get_num_tiles19.97 0.2220.18
get_num_violins18.45 0.2218.69
get_r18.30 0.7519.06