Back to Multiple platform build/check report for BioC 3.21:   simplified   long
ABCDEFGHIJKLMNOPQR[S]TUVWXYZ

This page was generated on 2025-02-05 11:40 -0500 (Wed, 05 Feb 2025).

HostnameOSArch (*)R versionInstalled pkgs
nebbiolo1Linux (Ubuntu 24.04.1 LTS)x86_64R Under development (unstable) (2025-01-20 r87609) -- "Unsuffered Consequences" 4717
palomino7Windows Server 2022 Datacenterx64R Under development (unstable) (2025-01-21 r87610 ucrt) -- "Unsuffered Consequences" 4478
lconwaymacOS 12.7.1 Montereyx86_64R Under development (unstable) (2025-01-22 r87618) -- "Unsuffered Consequences" 4489
kjohnson3macOS 13.7.1 Venturaarm64R Under development (unstable) (2025-01-20 r87609) -- "Unsuffered Consequences" 4442
Click on any hostname to see more info about the system (e.g. compilers)      (*) as reported by 'uname -p', except on Windows and Mac OS X

Package 1870/2295HostnameOS / ArchINSTALLBUILDCHECKBUILD BIN
scDiagnostics 1.1.0  (landing page)
Anthony Christidis
Snapshot Date: 2025-02-04 13:40 -0500 (Tue, 04 Feb 2025)
git_url: https://git.bioconductor.org/packages/scDiagnostics
git_branch: devel
git_last_commit: 1b71ee2
git_last_commit_date: 2024-10-29 11:33:29 -0500 (Tue, 29 Oct 2024)
nebbiolo1Linux (Ubuntu 24.04.1 LTS) / x86_64  OK    OK    OK  UNNEEDED, same version is already published
palomino7Windows Server 2022 Datacenter / x64  OK    OK    OK    OK  UNNEEDED, same version is already published
lconwaymacOS 12.7.1 Monterey / x86_64  OK    OK    OK    OK  UNNEEDED, same version is already published
kjohnson3macOS 13.7.1 Ventura / arm64  OK    OK    OK    OK  UNNEEDED, same version is already published


CHECK results for scDiagnostics on nebbiolo1

To the developers/maintainers of the scDiagnostics package:
- Allow up to 24 hours (and sometimes 48 hours) for your latest push to git@git.bioconductor.org:packages/scDiagnostics.git to reflect on this report. See Troubleshooting Build Report for more information.
- Use the following Renviron settings to reproduce errors and warnings.
- If 'R CMD check' started to fail recently on the Linux builder(s) over a missing dependency, add the missing dependency to 'Suggests:' in your DESCRIPTION file. See Renviron.bioc for more information.

raw results


Summary

Package: scDiagnostics
Version: 1.1.0
Command: /home/biocbuild/bbs-3.21-bioc/R/bin/R CMD check --install=check:scDiagnostics.install-out.txt --library=/home/biocbuild/bbs-3.21-bioc/R/site-library --timings scDiagnostics_1.1.0.tar.gz
StartedAt: 2025-02-05 02:24:52 -0500 (Wed, 05 Feb 2025)
EndedAt: 2025-02-05 02:35:27 -0500 (Wed, 05 Feb 2025)
EllapsedTime: 635.6 seconds
RetCode: 0
Status:   OK  
CheckDir: scDiagnostics.Rcheck
Warnings: 0

Command output

##############################################################################
##############################################################################
###
### Running command:
###
###   /home/biocbuild/bbs-3.21-bioc/R/bin/R CMD check --install=check:scDiagnostics.install-out.txt --library=/home/biocbuild/bbs-3.21-bioc/R/site-library --timings scDiagnostics_1.1.0.tar.gz
###
##############################################################################
##############################################################################


* using log directory ‘/home/biocbuild/bbs-3.21-bioc/meat/scDiagnostics.Rcheck’
* using R Under development (unstable) (2025-01-20 r87609)
* using platform: x86_64-pc-linux-gnu
* R was compiled by
    gcc (Ubuntu 13.3.0-6ubuntu2~24.04) 13.3.0
    GNU Fortran (Ubuntu 13.3.0-6ubuntu2~24.04) 13.3.0
* running under: Ubuntu 24.04.1 LTS
* using session charset: UTF-8
* checking for file ‘scDiagnostics/DESCRIPTION’ ... OK
* checking extension type ... Package
* this is package ‘scDiagnostics’ version ‘1.1.0’
* package encoding: UTF-8
* checking package namespace information ... OK
* checking package dependencies ... OK
* checking if this is a source package ... OK
* checking if there is a namespace ... OK
* checking for hidden files and directories ... OK
* checking for portable file names ... OK
* checking for sufficient/correct file permissions ... OK
* checking whether package ‘scDiagnostics’ can be installed ... OK
* checking installed package size ... OK
* checking package directory ... OK
* checking ‘build’ directory ... OK
* checking DESCRIPTION meta-information ... OK
* checking top-level files ... OK
* checking for left-over files ... OK
* checking index information ... OK
* checking package subdirectories ... OK
* checking code files for non-ASCII characters ... OK
* checking R files for syntax errors ... OK
* checking whether the package can be loaded ... OK
* checking whether the package can be loaded with stated dependencies ... OK
* checking whether the package can be unloaded cleanly ... OK
* checking whether the namespace can be loaded with stated dependencies ... OK
* checking whether the namespace can be unloaded cleanly ... OK
* checking loading without being on the library search path ... OK
* checking dependencies in R code ... OK
* checking S3 generic/method consistency ... OK
* checking replacement functions ... OK
* checking foreign function calls ... OK
* checking R code for possible problems ... OK
* checking Rd files ... OK
* checking Rd metadata ... OK
* checking Rd cross-references ... NOTE
Found the following Rd file(s) with Rd \link{} targets missing package
anchors:
  argumentCheck.Rd: SingleCellExperiment-class
  boxplotPCA.Rd: SingleCellExperiment-class
  calculateAveragePairwiseCorrelation.Rd: SingleCellExperiment-class
  calculateCellDistances.Rd: SingleCellExperiment-class
  calculateCellDistancesSimilarity.Rd: SingleCellExperiment-class
  calculateCellSimilarityPCA.Rd: SingleCellExperiment-class
  calculateCramerPValue.Rd: SingleCellExperiment-class
  calculateDiscriminantSpace.Rd: SingleCellExperiment-class
  calculateHotellingPValue.Rd: SingleCellExperiment-class
  calculateNearestNeighborProbabilities.Rd: SingleCellExperiment-class
  calculateSIRSpace.Rd: SingleCellExperiment-class
  calculateVarImpOverlap.Rd: SingleCellExperiment-class
  calculateWassersteinDistance.Rd: SingleCellExperiment-class
  compareCCA.Rd: SingleCellExperiment-class
  comparePCA.Rd: SingleCellExperiment-class
  comparePCASubspace.Rd: SingleCellExperiment-class
  detectAnomaly.Rd: SingleCellExperiment-class
  histQCvsAnnotation.Rd: SingleCellExperiment-class
  plotCellTypeMDS.Rd: SingleCellExperiment-class
  plotCellTypePCA.Rd: SingleCellExperiment-class
  plotGeneExpressionDimred.Rd: SingleCellExperiment-class
  plotGeneSetScores.Rd: SingleCellExperiment-class
  plotMarkerExpression.Rd: SingleCellExperiment-class
  plotPairwiseDistancesDensity.Rd: SingleCellExperiment-class
  plotQCvsAnnotation.Rd: SingleCellExperiment-class
  projectPCA.Rd: SingleCellExperiment-class
  projectSIR.Rd: SingleCellExperiment-class
  regressPC.Rd: SingleCellExperiment-class
Please provide package anchors for all Rd \link{} targets not in the
package itself and the base packages.
* checking for missing documentation entries ... OK
* checking for code/documentation mismatches ... OK
* checking Rd \usage sections ... OK
* checking Rd contents ... OK
* checking for unstated dependencies in examples ... OK
* checking contents of ‘data’ directory ... OK
* checking data for non-ASCII characters ... OK
* checking LazyData ... NOTE
  'LazyDataCompression' is specified without 'LazyData'
* checking data for ASCII and uncompressed saves ... OK
* checking files in ‘vignettes’ ... OK
* checking examples ... OK
Examples with CPU (user + system) or elapsed time > 5s
                                        user system elapsed
plotCellTypeMDS                       18.255  0.425  18.680
calculateCellDistances                15.132  0.607  15.236
calculateCramerPValue                 10.599  2.337  12.937
calculateCellDistancesSimilarity       5.971  0.172   5.448
calculateNearestNeighborProbabilities  4.984  0.220   5.204
calculateVarImpOverlap                 4.970  0.049   3.209
* checking for unstated dependencies in ‘tests’ ... OK
* checking tests ...
  Running ‘testthat.R’
 OK
* checking for unstated dependencies in vignettes ... OK
* checking package vignettes ... OK
* checking re-building of vignette outputs ... OK
* checking PDF version of manual ... OK
* DONE

Status: 2 NOTEs
See
  ‘/home/biocbuild/bbs-3.21-bioc/meat/scDiagnostics.Rcheck/00check.log’
for details.


Installation output

scDiagnostics.Rcheck/00install.out

##############################################################################
##############################################################################
###
### Running command:
###
###   /home/biocbuild/bbs-3.21-bioc/R/bin/R CMD INSTALL scDiagnostics
###
##############################################################################
##############################################################################


* installing to library ‘/home/biocbuild/bbs-3.21-bioc/R/site-library’
* installing *source* package ‘scDiagnostics’ ...
** this is package ‘scDiagnostics’ version ‘1.1.0’
** using staged installation
** R
** data
** inst
** byte-compile and prepare package for lazy loading
** help
*** installing help indices
** building package indices
** installing vignettes
** testing if installed package can be loaded from temporary location
** testing if installed package can be loaded from final location
** testing if installed package keeps a record of temporary installation path
* DONE (scDiagnostics)

Tests output

scDiagnostics.Rcheck/tests/testthat.Rout


R Under development (unstable) (2025-01-20 r87609) -- "Unsuffered Consequences"
Copyright (C) 2025 The R Foundation for Statistical Computing
Platform: x86_64-pc-linux-gnu

R is free software and comes with ABSOLUTELY NO WARRANTY.
You are welcome to redistribute it under certain conditions.
Type 'license()' or 'licence()' for distribution details.

R is a collaborative project with many contributors.
Type 'contributors()' for more information and
'citation()' on how to cite R or R packages in publications.

Type 'demo()' for some demos, 'help()' for on-line help, or
'help.start()' for an HTML browser interface to help.
Type 'q()' to quit R.

> # This file is part of the standard setup for testthat.
> # It is recommended that you do not modify it.
> #
> # Where should you do additional test configuration?
> # Learn more about the roles of various files in:
> # * https://r-pkgs.org/testing-design.html#sec-tests-files-overview
> # * https://testthat.r-lib.org/articles/special-files.html
> 
> library(testthat)
> library(scDiagnostics)
> 
> test_check("scDiagnostics")
[ FAIL 0 | WARN 0 | SKIP 0 | PASS 276 ]
> 
> proc.time()
   user  system elapsed 
136.361   8.207 135.993 

Example timings

scDiagnostics.Rcheck/scDiagnostics-Ex.timings

nameusersystemelapsed
boxplotPCA2.5660.0182.584
calculateAveragePairwiseCorrelation2.4790.0222.501
calculateCategorizationEntropy0.0110.0010.010
calculateCellDistances15.132 0.60715.236
calculateCellDistancesSimilarity5.9710.1725.448
calculateCellSimilarityPCA2.1140.1691.713
calculateCramerPValue10.599 2.33712.937
calculateDiscriminantSpace4.8450.0743.641
calculateHVGOverlap1.3580.0911.450
calculateHotellingPValue1.4480.0501.499
calculateNearestNeighborProbabilities4.9840.2205.204
calculateSIRSpace2.7590.0172.777
calculateVarImpOverlap4.9700.0493.209
calculateWassersteinDistance2.7870.1752.962
compareCCA1.0830.0431.126
comparePCA1.1270.0171.145
comparePCASubspace1.2510.0461.297
detectAnomaly2.6090.0912.070
histQCvsAnnotation0.5660.0280.595
plot.calculateWassersteinDistanceObject2.2670.3312.598
plotCellTypeMDS18.255 0.42518.680
plotCellTypePCA2.2300.1932.423
plotGeneExpressionDimred1.3470.0351.388
plotGeneSetScores1.0510.0161.074
plotMarkerExpression0.5230.0130.537
plotPairwiseDistancesDensity1.1700.0531.223
plotQCvsAnnotation0.2080.0030.211
projectPCA0.2990.0050.304
projectSIR1.4280.0341.462
qc_data0.0360.0010.037
query_data0.0330.0010.034
reference_data0.0760.0020.078
regressPC1.6770.0771.754