Back to Multiple platform build/check report for BioC 3.21:   simplified   long
ABCDEFGHIJKLMNOPQR[S]TUVWXYZ

This page was generated on 2025-02-05 11:40 -0500 (Wed, 05 Feb 2025).

HostnameOSArch (*)R versionInstalled pkgs
nebbiolo1Linux (Ubuntu 24.04.1 LTS)x86_64R Under development (unstable) (2025-01-20 r87609) -- "Unsuffered Consequences" 4717
palomino7Windows Server 2022 Datacenterx64R Under development (unstable) (2025-01-21 r87610 ucrt) -- "Unsuffered Consequences" 4478
lconwaymacOS 12.7.1 Montereyx86_64R Under development (unstable) (2025-01-22 r87618) -- "Unsuffered Consequences" 4489
kjohnson3macOS 13.7.1 Venturaarm64R Under development (unstable) (2025-01-20 r87609) -- "Unsuffered Consequences" 4442
Click on any hostname to see more info about the system (e.g. compilers)      (*) as reported by 'uname -p', except on Windows and Mac OS X

Package 1896/2295HostnameOS / ArchINSTALLBUILDCHECKBUILD BIN
scQTLtools 0.99.11  (landing page)
Xiaofeng Wu
Snapshot Date: 2025-02-04 13:40 -0500 (Tue, 04 Feb 2025)
git_url: https://git.bioconductor.org/packages/scQTLtools
git_branch: devel
git_last_commit: ea83240
git_last_commit_date: 2025-01-15 12:27:35 -0500 (Wed, 15 Jan 2025)
nebbiolo1Linux (Ubuntu 24.04.1 LTS) / x86_64  OK    OK    OK  UNNEEDED, same version is already published
palomino7Windows Server 2022 Datacenter / x64  OK    OK    OK    OK  NO, package depends on 'DESeq2' which is only available as a source package that needs compilation
lconwaymacOS 12.7.1 Monterey / x86_64  OK    OK    OK    OK  NO, package depends on 'DESeq2' which is only available as a source package that needs compilation
kjohnson3macOS 13.7.1 Ventura / arm64  OK    OK    OK    OK  NO, package depends on 'DESeq2' which is only available as a source package that needs compilation


CHECK results for scQTLtools on nebbiolo1

To the developers/maintainers of the scQTLtools package:
- Allow up to 24 hours (and sometimes 48 hours) for your latest push to git@git.bioconductor.org:packages/scQTLtools.git to reflect on this report. See Troubleshooting Build Report for more information.
- Use the following Renviron settings to reproduce errors and warnings.
- If 'R CMD check' started to fail recently on the Linux builder(s) over a missing dependency, add the missing dependency to 'Suggests:' in your DESCRIPTION file. See Renviron.bioc for more information.

raw results


Summary

Package: scQTLtools
Version: 0.99.11
Command: /home/biocbuild/bbs-3.21-bioc/R/bin/R CMD check --install=check:scQTLtools.install-out.txt --library=/home/biocbuild/bbs-3.21-bioc/R/site-library --timings scQTLtools_0.99.11.tar.gz
StartedAt: 2025-02-05 02:32:50 -0500 (Wed, 05 Feb 2025)
EndedAt: 2025-02-05 02:42:55 -0500 (Wed, 05 Feb 2025)
EllapsedTime: 604.7 seconds
RetCode: 0
Status:   OK  
CheckDir: scQTLtools.Rcheck
Warnings: 0

Command output

##############################################################################
##############################################################################
###
### Running command:
###
###   /home/biocbuild/bbs-3.21-bioc/R/bin/R CMD check --install=check:scQTLtools.install-out.txt --library=/home/biocbuild/bbs-3.21-bioc/R/site-library --timings scQTLtools_0.99.11.tar.gz
###
##############################################################################
##############################################################################


* using log directory ‘/home/biocbuild/bbs-3.21-bioc/meat/scQTLtools.Rcheck’
* using R Under development (unstable) (2025-01-20 r87609)
* using platform: x86_64-pc-linux-gnu
* R was compiled by
    gcc (Ubuntu 13.3.0-6ubuntu2~24.04) 13.3.0
    GNU Fortran (Ubuntu 13.3.0-6ubuntu2~24.04) 13.3.0
* running under: Ubuntu 24.04.1 LTS
* using session charset: UTF-8
* checking for file ‘scQTLtools/DESCRIPTION’ ... OK
* checking extension type ... Package
* this is package ‘scQTLtools’ version ‘0.99.11’
* package encoding: UTF-8
* checking package namespace information ... OK
* checking package dependencies ... OK
* checking if this is a source package ... OK
* checking if there is a namespace ... OK
* checking for hidden files and directories ... OK
* checking for portable file names ... OK
* checking for sufficient/correct file permissions ... OK
* checking whether package ‘scQTLtools’ can be installed ... OK
* checking installed package size ... OK
* checking package directory ... OK
* checking ‘build’ directory ... OK
* checking DESCRIPTION meta-information ... OK
* checking top-level files ... OK
* checking for left-over files ... OK
* checking index information ... OK
* checking package subdirectories ... OK
* checking code files for non-ASCII characters ... OK
* checking R files for syntax errors ... OK
* checking whether the package can be loaded ... OK
* checking whether the package can be loaded with stated dependencies ... OK
* checking whether the package can be unloaded cleanly ... OK
* checking whether the namespace can be loaded with stated dependencies ... OK
* checking whether the namespace can be unloaded cleanly ... OK
* checking loading without being on the library search path ... OK
* checking dependencies in R code ... OK
* checking S3 generic/method consistency ... OK
* checking replacement functions ... OK
* checking foreign function calls ... OK
* checking R code for possible problems ... OK
* checking Rd files ... OK
* checking Rd metadata ... OK
* checking Rd cross-references ... OK
* checking for missing documentation entries ... OK
* checking for code/documentation mismatches ... OK
* checking Rd \usage sections ... OK
* checking Rd contents ... OK
* checking for unstated dependencies in examples ... OK
* checking contents of ‘data’ directory ... OK
* checking data for non-ASCII characters ... OK
* checking data for ASCII and uncompressed saves ... OK
* checking files in ‘vignettes’ ... OK
* checking examples ... OK
Examples with CPU (user + system) or elapsed time > 5s
                  user system elapsed
zinbModel       49.047  0.692  49.740
DESeq_normalize  8.442  0.923   9.370
callQTL          6.569  0.448  52.162
createSNPsLoc    2.168  0.135  12.526
* checking for unstated dependencies in ‘tests’ ... OK
* checking tests ...
  Running ‘testthat.R’
 OK
* checking for unstated dependencies in vignettes ... OK
* checking package vignettes ... OK
* checking re-building of vignette outputs ... OK
* checking PDF version of manual ... OK
* DONE

Status: OK


Installation output

scQTLtools.Rcheck/00install.out

##############################################################################
##############################################################################
###
### Running command:
###
###   /home/biocbuild/bbs-3.21-bioc/R/bin/R CMD INSTALL scQTLtools
###
##############################################################################
##############################################################################


* installing to library ‘/home/biocbuild/bbs-3.21-bioc/R/site-library’
* installing *source* package ‘scQTLtools’ ...
** this is package ‘scQTLtools’ version ‘0.99.11’
** using staged installation
** R
** data
** inst
** byte-compile and prepare package for lazy loading
** help
*** installing help indices
** building package indices
** installing vignettes
** testing if installed package can be loaded from temporary location
** testing if installed package can be loaded from final location
** testing if installed package keeps a record of temporary installation path
* DONE (scQTLtools)

Tests output

scQTLtools.Rcheck/tests/testthat.Rout


R Under development (unstable) (2025-01-20 r87609) -- "Unsuffered Consequences"
Copyright (C) 2025 The R Foundation for Statistical Computing
Platform: x86_64-pc-linux-gnu

R is free software and comes with ABSOLUTELY NO WARRANTY.
You are welcome to redistribute it under certain conditions.
Type 'license()' or 'licence()' for distribution details.

R is a collaborative project with many contributors.
Type 'contributors()' for more information and
'citation()' on how to cite R or R packages in publications.

Type 'demo()' for some demos, 'help()' for on-line help, or
'help.start()' for an HTML browser interface to help.
Type 'q()' to quit R.

> # This file is part of the standard setup for testthat.
> # It is recommended that you do not modify it.
> #
> # Where should you do additional test configuration?
> # Learn more about the roles of various files in:
> # * https://r-pkgs.org/testing-design.html#sec-tests-files-overview
> # * https://testthat.r-lib.org/articles/special-files.html
> 
> library(testthat)
> library(scQTLtools)

> 
> test_check("scQTLtools")
Normalization completed using method: logNormalize

Dimensions of normalized data:84 2705

Start the sc-eQTLs calling.
Matrix:
0%   10   20   30   40   50   60   70   80   90   100%
[----|----|----|----|----|----|----|----|----|----|
Ensembl site unresponsive, trying useast mirror
Start the sc-eQTLs calling.
Matrix:
0%   10   20   30   40   50   60   70   80   90   100%
[----|----|----|----|----|----|----|----|----|----|
Start the sc-eQTLs calling.
Matrix:
0%   10   20   30   40   50   60   70   80   90   100%
[----|----|----|----|----|----|----|----|----|----|
Start the sc-eQTLs calling.
Matrix:
0%   10   20   30   40   50   60   70   80   90   100%
[----|----|----|----|----|----|----|----|----|----|
Finished!
Start the sc-eQTLs calling.
Matrix:
0%   10   20   30   40   50   60   70   80   90   100%
[----|----|----|----|----|----|----|----|----|----|
Finished!
Start the sc-eQTLs calling.
Matrix:
0%   10   20   30   40   50   60   70   80   90   100%
[----|----|----|----|----|----|----|----|----|----|
Finished!
Start the sc-eQTLs calling.
Matrix:
0%   10   20   30   40   50   60   70   80   90   100%
[----|----|----|----|----|----|----|----|----|----|
Finished!
Start the sc-eQTLs calling.
Matrix:
0%   10   20   30   40   50   60   70   80   90   100%
[----|----|----|----|----|----|----|----|----|----|
Finished!
Start the sc-eQTLs calling.
Matrix:
0%   10   20   30   40   50   60   70   80   90   100%
[----|----|----|----|----|----|----|----|----|----|
Finished!
Start the sc-eQTLs calling.
Matrix:
0%   10   20   30   40   50   60   70   80   90   100%
[----|----|----|----|----|----|----|----|----|----|
Finished!
Loading required package: SummarizedExperiment
Loading required package: MatrixGenerics
Loading required package: matrixStats

Attaching package: 'MatrixGenerics'

The following objects are masked from 'package:matrixStats':

    colAlls, colAnyNAs, colAnys, colAvgsPerRowSet, colCollapse,
    colCounts, colCummaxs, colCummins, colCumprods, colCumsums,
    colDiffs, colIQRDiffs, colIQRs, colLogSumExps, colMadDiffs,
    colMads, colMaxs, colMeans2, colMedians, colMins, colOrderStats,
    colProds, colQuantiles, colRanges, colRanks, colSdDiffs, colSds,
    colSums2, colTabulates, colVarDiffs, colVars, colWeightedMads,
    colWeightedMeans, colWeightedMedians, colWeightedSds,
    colWeightedVars, rowAlls, rowAnyNAs, rowAnys, rowAvgsPerColSet,
    rowCollapse, rowCounts, rowCummaxs, rowCummins, rowCumprods,
    rowCumsums, rowDiffs, rowIQRDiffs, rowIQRs, rowLogSumExps,
    rowMadDiffs, rowMads, rowMaxs, rowMeans2, rowMedians, rowMins,
    rowOrderStats, rowProds, rowQuantiles, rowRanges, rowRanks,
    rowSdDiffs, rowSds, rowSums2, rowTabulates, rowVarDiffs, rowVars,
    rowWeightedMads, rowWeightedMeans, rowWeightedMedians,
    rowWeightedSds, rowWeightedVars

Loading required package: GenomicRanges
Loading required package: stats4
Loading required package: BiocGenerics
Loading required package: generics

Attaching package: 'generics'

The following objects are masked from 'package:base':

    as.difftime, as.factor, as.ordered, intersect, is.element, setdiff,
    setequal, union


Attaching package: 'BiocGenerics'

The following objects are masked from 'package:stats':

    IQR, mad, sd, var, xtabs

The following objects are masked from 'package:base':

    Filter, Find, Map, Position, Reduce, anyDuplicated, aperm, append,
    as.data.frame, basename, cbind, colnames, dirname, do.call,
    duplicated, eval, evalq, get, grep, grepl, is.unsorted, lapply,
    mapply, match, mget, order, paste, pmax, pmax.int, pmin, pmin.int,
    rank, rbind, rownames, sapply, saveRDS, table, tapply, unique,
    unsplit, which.max, which.min

Loading required package: S4Vectors

Attaching package: 'S4Vectors'

The following object is masked from 'package:utils':

    findMatches

The following objects are masked from 'package:base':

    I, expand.grid, unname

Loading required package: IRanges
Loading required package: GenomeInfoDb
Loading required package: Biobase
Welcome to Bioconductor

    Vignettes contain introductory material; view with
    'browseVignettes()'. To cite Bioconductor, see
    'citation("Biobase")', and for packages 'citation("pkgname")'.


Attaching package: 'Biobase'

The following object is masked from 'package:MatrixGenerics':

    rowMedians

The following objects are masked from 'package:matrixStats':

    anyMissing, rowMedians

No Normalized counts found named 'normcounts',
                you can achieve data normalization with `normalizeGene()`,
                or check if it is has been renamed.
Normalization completed using method: logNormalize

Dimensions of normalized data:84 2705


Attaching package: 'limma'

The following object is masked from 'package:DESeq2':

    plotMA

The following object is masked from 'package:BiocGenerics':

    plotMA

Normalization completed using method: logNormalize

Dimensions of normalized data:84 2705

Normalization completed using method: CPM

Dimensions of normalized data:84 2705

Normalization completed using method: TPM

Dimensions of normalized data:84 2705

converting counts to integer mode
estimating size factors
estimating dispersions
gene-wise dispersion estimates
mean-dispersion relationship
final dispersion estimates
fitting model and testing
Normalization completed using method: DESeq

Dimensions of normalized data:84 2705

Normalization completed using method: limma

Dimensions of normalized data:84 2705

Normalization completed using method: logNormalize

Dimensions of normalized data:84 2705

Normalization completed using method: logNormalize

Dimensions of normalized data:84 2705

Start the sc-eQTLs calling.
Matrix:
0%   10   20   30   40   50   60   70   80   90   100%
[----|----|----|----|----|----|----|----|----|----|
Finished!
Normalization completed using method: logNormalize

Dimensions of normalized data:74 500

Start the sc-eQTLs calling.
CMP:
0%   10   20   30   40   50   60   70   80   90   100%
[----|----|----|----|----|----|----|----|----|----|
GMP:
0%   10   20   30   40   50   60   70   80   90   100%
[----|----|----|----|----|----|----|----|----|----|
Finished!
[ FAIL 0 | WARN 0 | SKIP 0 | PASS 54 ]
> 
> proc.time()
   user  system elapsed 
109.324   2.201 122.244 

Example timings

scQTLtools.Rcheck/scQTLtools-Ex.timings

nameusersystemelapsed
CPM_normalize1.7450.7822.527
DESeq_normalize8.4420.9239.370
TPM_normalize0.9120.7011.613
adjust_pvalues0.0020.0000.002
buildZINB0.1930.0280.221
callQTL 6.569 0.44852.162
checkSNPList0.1500.0010.151
createGeneLoc2.4440.1553.688
createQTLObject0.3660.0290.395
createSNPsLoc 2.168 0.13512.526
draw_QTLplot0.3770.0360.413
draw_boxplot0.2480.0390.287
draw_histplot0.2720.0140.286
draw_violinplot0.1620.0010.163
filterGeneSNP2.9640.2913.255
filter_by_abs_b0.0020.0010.003
get_cell_groups0.3430.0400.383
get_counts0.0360.0020.038
get_filter_data0.0770.2360.312
get_model_info0.0350.0020.036
get_raw_data0.2711.3111.582
get_result_info0.0370.0030.040
initialize_progress_bar0.0090.0012.013
limma_normalize0.5750.6901.270
linearModel2.4860.0802.565
load_biclassify_info0.0370.0010.037
load_group_info0.0410.0040.045
load_species_info0.0360.0010.037
log_normalize0.9070.7381.645
normalizeGene0.0410.0010.042
plots_theme_opts0.1100.0080.119
poissonModel3.9180.0904.009
process_matrix0.0010.0000.001
remove_outliers0.0020.0000.001
set_filter_data-eQTLObject-method0.0370.0020.039
set_filter_data0.0370.0010.037
set_model_info-eQTLObject-method0.0360.0000.037
set_model_info0.0360.0000.037
set_raw_data-eQTLObject-method0.0350.0020.037
set_raw_data0.0370.0000.036
set_result_info-eQTLObject-method0.0350.0010.036
set_result_info0.0360.0020.037
show-eQTLObject-method0.0350.0020.036
testEQTL1.1790.1581.337
testGene0.0340.0000.034
testSNP0.2030.0020.205
testSNP20.0050.0000.006
testSeurat0.2040.0040.208
visualizeQTL3.0990.1063.204
zinbModel49.047 0.69249.740