Back to Multiple platform build/check report for BioC 3.21:   simplified   long
ABCDEFGHIJKLMNOPQR[S]TUVWXYZ

This page was generated on 2025-01-28 11:48 -0500 (Tue, 28 Jan 2025).

HostnameOSArch (*)R versionInstalled pkgs
nebbiolo1Linux (Ubuntu 24.04.1 LTS)x86_64R Under development (unstable) (2025-01-20 r87609) -- "Unsuffered Consequences" 4659
palomino7Windows Server 2022 Datacenterx64R Under development (unstable) (2025-01-21 r87610 ucrt) -- "Unsuffered Consequences" 4454
lconwaymacOS 12.7.1 Montereyx86_64R Under development (unstable) (2025-01-22 r87618) -- "Unsuffered Consequences" 4465
kjohnson3macOS 13.7.1 Venturaarm64R Under development (unstable) (2025-01-20 r87609) -- "Unsuffered Consequences" 4419
kunpeng2Linux (openEuler 22.03 LTS-SP1)aarch64R Under development (unstable) (2024-11-24 r87369) -- "Unsuffered Consequences" 4409
Click on any hostname to see more info about the system (e.g. compilers)      (*) as reported by 'uname -p', except on Windows and Mac OS X

Package 1927/2286HostnameOS / ArchINSTALLBUILDCHECKBUILD BIN
seqsetvis 1.27.2  (landing page)
Joseph R Boyd
Snapshot Date: 2025-01-27 13:40 -0500 (Mon, 27 Jan 2025)
git_url: https://git.bioconductor.org/packages/seqsetvis
git_branch: devel
git_last_commit: ae10577
git_last_commit_date: 2024-12-09 15:04:05 -0500 (Mon, 09 Dec 2024)
nebbiolo1Linux (Ubuntu 24.04.1 LTS) / x86_64  OK    OK    OK  UNNEEDED, same version is already published
palomino7Windows Server 2022 Datacenter / x64  OK    OK    OK    OK  UNNEEDED, same version is already published
lconwaymacOS 12.7.1 Monterey / x86_64  OK    OK    OK    OK  NO, package depends on 'rtracklayer' which is only available as a source package that needs compilation
kjohnson3macOS 13.7.1 Ventura / arm64  OK    OK    OK    OK  NO, package depends on 'rtracklayer' which is only available as a source package that needs compilation
kunpeng2Linux (openEuler 22.03 LTS-SP1) / aarch64  OK    OK    OK  


CHECK results for seqsetvis on kunpeng2

To the developers/maintainers of the seqsetvis package:
- Allow up to 24 hours (and sometimes 48 hours) for your latest push to git@git.bioconductor.org:packages/seqsetvis.git to reflect on this report. See Troubleshooting Build Report for more information.
- Use the following Renviron settings to reproduce errors and warnings.
- If 'R CMD check' started to fail recently on the Linux builder(s) over a missing dependency, add the missing dependency to 'Suggests:' in your DESCRIPTION file. See Renviron.bioc for more information.
- See Martin Grigorov's blog post for how to debug Linux ARM64 related issues on a x86_64 host.

raw results


Summary

Package: seqsetvis
Version: 1.27.2
Command: /home/biocbuild/R/R/bin/R CMD check --install=check:seqsetvis.install-out.txt --library=/home/biocbuild/R/R/site-library --no-vignettes --timings seqsetvis_1.27.2.tar.gz
StartedAt: 2025-01-28 15:15:46 -0000 (Tue, 28 Jan 2025)
EndedAt: 2025-01-28 15:28:58 -0000 (Tue, 28 Jan 2025)
EllapsedTime: 792.0 seconds
RetCode: 0
Status:   OK  
CheckDir: seqsetvis.Rcheck
Warnings: 0

Command output

##############################################################################
##############################################################################
###
### Running command:
###
###   /home/biocbuild/R/R/bin/R CMD check --install=check:seqsetvis.install-out.txt --library=/home/biocbuild/R/R/site-library --no-vignettes --timings seqsetvis_1.27.2.tar.gz
###
##############################################################################
##############################################################################


* using log directory ‘/home/biocbuild/bbs-3.21-bioc/meat/seqsetvis.Rcheck’
* using R Under development (unstable) (2024-11-24 r87369)
* using platform: aarch64-unknown-linux-gnu
* R was compiled by
    aarch64-unknown-linux-gnu-gcc (GCC) 14.2.0
    GNU Fortran (GCC) 14.2.0
* running under: openEuler 24.03 (LTS)
* using session charset: UTF-8
* using option ‘--no-vignettes’
* checking for file ‘seqsetvis/DESCRIPTION’ ... OK
* checking extension type ... Package
* this is package ‘seqsetvis’ version ‘1.27.2’
* package encoding: UTF-8
* checking package namespace information ... OK
* checking package dependencies ... OK
* checking if this is a source package ... OK
* checking if there is a namespace ... OK
* checking for hidden files and directories ... OK
* checking for portable file names ... OK
* checking for sufficient/correct file permissions ... OK
* checking whether package ‘seqsetvis’ can be installed ... OK
* checking installed package size ... OK
* checking package directory ... OK
* checking ‘build’ directory ... OK
* checking DESCRIPTION meta-information ... OK
* checking top-level files ... OK
* checking for left-over files ... OK
* checking index information ... OK
* checking package subdirectories ... OK
* checking code files for non-ASCII characters ... OK
* checking R files for syntax errors ... OK
* checking whether the package can be loaded ... OK
* checking whether the package can be loaded with stated dependencies ... OK
* checking whether the package can be unloaded cleanly ... OK
* checking whether the namespace can be loaded with stated dependencies ... OK
* checking whether the namespace can be unloaded cleanly ... OK
* checking loading without being on the library search path ... OK
* checking dependencies in R code ... OK
* checking S3 generic/method consistency ... OK
* checking replacement functions ... OK
* checking foreign function calls ... OK
* checking R code for possible problems ... OK
* checking Rd files ... OK
* checking Rd metadata ... OK
* checking Rd cross-references ... OK
* checking for missing documentation entries ... OK
* checking for code/documentation mismatches ... OK
* checking Rd \usage sections ... OK
* checking Rd contents ... OK
* checking for unstated dependencies in examples ... OK
* checking contents of ‘data’ directory ... OK
* checking data for non-ASCII characters ... OK
* checking data for ASCII and uncompressed saves ... OK
* checking files in ‘vignettes’ ... OK
* checking examples ... OK
Examples with CPU (user + system) or elapsed time > 5s
                          user system elapsed
ssvFeatureBinaryHeatmap  9.461  0.156   9.630
ssvFetchBam              8.816  0.036   8.867
ssvSignalHeatmap         5.525  0.019   5.541
ssvSignalBandedQuantiles 5.233  0.004   5.239
* checking for unstated dependencies in ‘tests’ ... OK
* checking tests ...
  Running ‘testthat.R’
 OK
* checking for unstated dependencies in vignettes ... OK
* checking package vignettes ... OK
* checking running R code from vignettes ... SKIPPED
* checking re-building of vignette outputs ... SKIPPED
* checking PDF version of manual ... OK
* DONE

Status: OK


Installation output

seqsetvis.Rcheck/00install.out

##############################################################################
##############################################################################
###
### Running command:
###
###   /home/biocbuild/R/R/bin/R CMD INSTALL seqsetvis
###
##############################################################################
##############################################################################


* installing to library ‘/home/biocbuild/R/R-4.5.0-devel_2024-11-24/site-library’
* installing *source* package ‘seqsetvis’ ...
** using staged installation
** R
** data
** inst
** byte-compile and prepare package for lazy loading
** help
*** installing help indices
** building package indices
** installing vignettes
** testing if installed package can be loaded from temporary location
** testing if installed package can be loaded from final location
** testing if installed package keeps a record of temporary installation path
* DONE (seqsetvis)

Tests output

seqsetvis.Rcheck/tests/testthat.Rout


R Under development (unstable) (2024-11-24 r87369) -- "Unsuffered Consequences"
Copyright (C) 2024 The R Foundation for Statistical Computing
Platform: aarch64-unknown-linux-gnu

R is free software and comes with ABSOLUTELY NO WARRANTY.
You are welcome to redistribute it under certain conditions.
Type 'license()' or 'licence()' for distribution details.

R is a collaborative project with many contributors.
Type 'contributors()' for more information and
'citation()' on how to cite R or R packages in publications.

Type 'demo()' for some demos, 'help()' for on-line help, or
'help.start()' for an HTML browser interface to help.
Type 'q()' to quit R.

> 
> ## load dependencies
> library(testthat)
> library(seqsetvis)
Loading required package: ggplot2
> library(data.table)
> 
> ## test package
> test_check(package = "seqsetvis")
[ FAIL 0 | WARN 0 | SKIP 0 | PASS 1291 ]
> 
> proc.time()
   user  system elapsed 
374.352   2.331 377.197 

Example timings

seqsetvis.Rcheck/seqsetvis-Ex.timings

nameusersystemelapsed
add_cluster_annotation3.8380.2084.047
append_ynorm0.0590.0040.061
applyMovingAverage0.9320.0000.933
applySpline0.4560.0080.458
assemble_heatmap_cluster_bars1.0340.0201.050
calc_norm_factors0.0330.0000.032
centerAtMax0.3720.0000.369
centerFixedSizeGRanges0.1910.0000.191
centerGRangesAtMax0.7220.0080.724
clusteringKmeans0.0550.0040.058
clusteringKmeansNestedHclust0.0420.0000.056
col2hex0.0010.0000.001
collapse_gr0.9500.0040.956
convert_collapsed_coord0.2730.0120.285
copy_clust_info2.3270.0242.365
crossCorrByRle0.4300.0040.437
easyLoad_FUN0.0680.0000.069
easyLoad_IDRmerged0.0580.0000.058
easyLoad_bed0.1790.0000.179
easyLoad_broadPeak0.0460.0040.050
easyLoad_narrowPeak0.0510.0000.052
easyLoad_seacr0.0570.0000.058
expandCigar0.2180.0040.223
findMaxPos0.0410.0040.044
fragLen_calcStranded2.3330.0072.344
fragLen_fromMacs2Xls0.0030.0000.004
getReadLength0.070.000.07
get_mapped_reads0.010.000.01
ggellipse0.7330.0040.739
harmonize_seqlengths0.1410.0000.142
make_clustering_matrix0.1070.0040.108
merge_clusters4.7060.0084.711
prepare_fetch_GRanges0.0410.0000.041
prepare_fetch_GRanges_names0.1120.0000.113
prepare_fetch_GRanges_width0.0370.0040.042
quantileGRangesWidth0.0040.0000.004
reorder_clusters_hclust2.8340.0162.848
reorder_clusters_manual1.4430.0041.446
reorder_clusters_stepdown2.7920.0002.792
reverse_clusters3.0200.0163.026
safeBrew0.030.000.03
split_cluster2.5690.0042.564
ssvAnnotateSubjectGRanges1.3490.0561.407
ssvConsensusIntervalSets0.4160.0080.426
ssvFactorizeMembTable0.0190.0000.018
ssvFeatureBars0.7290.0040.733
ssvFeatureBinaryHeatmap9.4610.1569.630
ssvFeatureEuler0.7160.0040.722
ssvFeaturePie0.5970.0030.603
ssvFeatureUpset3.4120.0043.422
ssvFeatureVenn1.2990.0001.302
ssvFetchBam8.8160.0368.867
ssvFetchBamPE2.6850.0122.705
ssvFetchBamPE.RNA2.0740.0122.076
ssvFetchBigwig1.9330.0201.959
ssvFetchGRanges1.0480.0041.053
ssvFetchSignal2.1440.0122.160
ssvMakeMembTable-methods0.7310.0000.733
ssvOverlapIntervalSets0.3420.0000.344
ssvSignalBandedQuantiles5.2330.0045.239
ssvSignalClustering3.9270.0723.989
ssvSignalHeatmap.ClusterBars4.4800.0044.476
ssvSignalHeatmap5.5250.0195.541
ssvSignalLineplot3.0960.0003.102
ssvSignalLineplotAgg1.0830.0041.087
ssvSignalScatterplot1.2150.0001.215
viewGRangesWinSample_dt1.7600.0121.775
viewGRangesWinSummary_dt1.5990.0121.612
within_clust_sort2.1840.0002.179