Back to Multiple platform build/check report for BioC 3.21: simplified long |
|
This page was generated on 2025-02-10 11:40 -0500 (Mon, 10 Feb 2025).
Hostname | OS | Arch (*) | R version | Installed pkgs |
---|---|---|---|---|
nebbiolo1 | Linux (Ubuntu 24.04.1 LTS) | x86_64 | R Under development (unstable) (2025-01-20 r87609) -- "Unsuffered Consequences" | 4719 |
palomino7 | Windows Server 2022 Datacenter | x64 | R Under development (unstable) (2025-01-21 r87610 ucrt) -- "Unsuffered Consequences" | 4480 |
lconway | macOS 12.7.1 Monterey | x86_64 | R Under development (unstable) (2025-01-22 r87618) -- "Unsuffered Consequences" | 4491 |
kjohnson3 | macOS 13.7.1 Ventura | arm64 | R Under development (unstable) (2025-01-20 r87609) -- "Unsuffered Consequences" | 4444 |
Click on any hostname to see more info about the system (e.g. compilers) (*) as reported by 'uname -p', except on Windows and Mac OS X |
Package 1938/2295 | Hostname | OS / Arch | INSTALL | BUILD | CHECK | BUILD BIN | ||||||||
sesame 1.25.3 (landing page) Wanding Zhou
| nebbiolo1 | Linux (Ubuntu 24.04.1 LTS) / x86_64 | OK | OK | OK | ![]() | ||||||||
palomino7 | Windows Server 2022 Datacenter / x64 | OK | OK | OK | OK | ![]() | ||||||||
lconway | macOS 12.7.1 Monterey / x86_64 | OK | OK | OK | OK | ![]() | ||||||||
kjohnson3 | macOS 13.7.1 Ventura / arm64 | OK | OK | OK | OK | ![]() | ||||||||
To the developers/maintainers of the sesame package: - Allow up to 24 hours (and sometimes 48 hours) for your latest push to git@git.bioconductor.org:packages/sesame.git to reflect on this report. See Troubleshooting Build Report for more information. - Use the following Renviron settings to reproduce errors and warnings. - If 'R CMD check' started to fail recently on the Linux builder(s) over a missing dependency, add the missing dependency to 'Suggests:' in your DESCRIPTION file. See Renviron.bioc for more information. |
Package: sesame |
Version: 1.25.3 |
Command: /home/biocbuild/bbs-3.21-bioc/R/bin/R CMD check --install=check:sesame.install-out.txt --library=/home/biocbuild/bbs-3.21-bioc/R/site-library --timings sesame_1.25.3.tar.gz |
StartedAt: 2025-02-10 02:35:57 -0500 (Mon, 10 Feb 2025) |
EndedAt: 2025-02-10 02:52:34 -0500 (Mon, 10 Feb 2025) |
EllapsedTime: 996.3 seconds |
RetCode: 0 |
Status: OK |
CheckDir: sesame.Rcheck |
Warnings: 0 |
############################################################################## ############################################################################## ### ### Running command: ### ### /home/biocbuild/bbs-3.21-bioc/R/bin/R CMD check --install=check:sesame.install-out.txt --library=/home/biocbuild/bbs-3.21-bioc/R/site-library --timings sesame_1.25.3.tar.gz ### ############################################################################## ############################################################################## * using log directory ‘/home/biocbuild/bbs-3.21-bioc/meat/sesame.Rcheck’ * using R Under development (unstable) (2025-01-20 r87609) * using platform: x86_64-pc-linux-gnu * R was compiled by gcc (Ubuntu 13.3.0-6ubuntu2~24.04) 13.3.0 GNU Fortran (Ubuntu 13.3.0-6ubuntu2~24.04) 13.3.0 * running under: Ubuntu 24.04.1 LTS * using session charset: UTF-8 * checking for file ‘sesame/DESCRIPTION’ ... OK * checking extension type ... Package * this is package ‘sesame’ version ‘1.25.3’ * package encoding: UTF-8 * checking package namespace information ... OK * checking package dependencies ... OK * checking if this is a source package ... OK * checking if there is a namespace ... OK * checking for hidden files and directories ... OK * checking for portable file names ... OK * checking for sufficient/correct file permissions ... OK * checking whether package ‘sesame’ can be installed ... OK * checking installed package size ... OK * checking package directory ... OK * checking ‘build’ directory ... OK * checking DESCRIPTION meta-information ... OK * checking top-level files ... OK * checking for left-over files ... OK * checking index information ... OK * checking package subdirectories ... OK * checking code files for non-ASCII characters ... OK * checking R files for syntax errors ... OK * checking whether the package can be loaded ... OK * checking whether the package can be loaded with stated dependencies ... OK * checking whether the package can be unloaded cleanly ... OK * checking whether the namespace can be loaded with stated dependencies ... OK * checking whether the namespace can be unloaded cleanly ... OK * checking loading without being on the library search path ... OK * checking whether startup messages can be suppressed ... OK * checking dependencies in R code ... OK * checking S3 generic/method consistency ... OK * checking replacement functions ... OK * checking foreign function calls ... OK * checking R code for possible problems ... OK * checking Rd files ... OK * checking Rd metadata ... OK * checking Rd cross-references ... OK * checking for missing documentation entries ... OK * checking for code/documentation mismatches ... OK * checking Rd \usage sections ... OK * checking Rd contents ... OK * checking for unstated dependencies in examples ... OK * checking files in ‘vignettes’ ... OK * checking examples ... OK Examples with CPU (user + system) or elapsed time > 5s user system elapsed imputeBetasByGenomicNeighbors 31.849 0.900 32.752 inferSex 22.871 0.443 23.317 imputeBetas 17.625 0.700 18.328 sesameQC_calcStats 17.782 0.149 17.934 sesameQC_plotHeatSNPs 17.576 0.260 17.839 diffRefSet 13.408 0.562 13.973 inferSpecies 13.051 0.851 13.907 ELBAR 13.488 0.169 13.659 compareMouseStrainReference 11.853 0.625 12.480 getRefSet 11.115 0.372 11.488 sesameQC_plotBar 10.990 0.327 11.319 matchDesign 10.840 0.236 11.080 compareReference 10.451 0.612 11.064 sesameQC_plotBetaByDesign 10.652 0.259 10.914 visualizeGene 8.560 0.344 8.917 DMR 8.118 0.334 8.454 inferStrain 7.351 0.553 7.911 estimateLeukocyte 7.549 0.191 7.741 sdf_read_table 7.457 0.200 7.658 DML 6.650 0.399 7.057 inferTissue 6.641 0.188 6.829 dyeBiasCorrMostBalanced 6.313 0.260 6.597 getMask 5.834 0.379 6.217 createUCSCtrack 5.482 0.345 5.828 deidentify 5.446 0.234 5.684 dyeBiasNL 5.424 0.162 5.589 openSesame 5.271 0.234 5.513 probeSuccessRate 5.184 0.282 5.467 * checking for unstated dependencies in ‘tests’ ... OK * checking tests ... Running ‘testthat.R’ OK * checking for unstated dependencies in vignettes ... OK * checking package vignettes ... OK * checking re-building of vignette outputs ... OK * checking PDF version of manual ... OK * DONE Status: OK
sesame.Rcheck/00install.out
############################################################################## ############################################################################## ### ### Running command: ### ### /home/biocbuild/bbs-3.21-bioc/R/bin/R CMD INSTALL sesame ### ############################################################################## ############################################################################## * installing to library ‘/home/biocbuild/bbs-3.21-bioc/R/site-library’ * installing *source* package ‘sesame’ ... ** this is package ‘sesame’ version ‘1.25.3’ ** using staged installation ** R ** inst ** byte-compile and prepare package for lazy loading ** help *** installing help indices ** building package indices ** installing vignettes ** testing if installed package can be loaded from temporary location ** testing if installed package can be loaded from final location ** testing if installed package keeps a record of temporary installation path * DONE (sesame)
sesame.Rcheck/tests/testthat.Rout
R Under development (unstable) (2025-01-20 r87609) -- "Unsuffered Consequences" Copyright (C) 2025 The R Foundation for Statistical Computing Platform: x86_64-pc-linux-gnu R is free software and comes with ABSOLUTELY NO WARRANTY. You are welcome to redistribute it under certain conditions. Type 'license()' or 'licence()' for distribution details. R is a collaborative project with many contributors. Type 'contributors()' for more information and 'citation()' on how to cite R or R packages in publications. Type 'demo()' for some demos, 'help()' for on-line help, or 'help.start()' for an HTML browser interface to help. Type 'q()' to quit R. > library(testthat) > library(sesame) Loading required package: sesameData Loading required package: ExperimentHub Loading required package: BiocGenerics Loading required package: generics Attaching package: 'generics' The following objects are masked from 'package:base': as.difftime, as.factor, as.ordered, intersect, is.element, setdiff, setequal, union Attaching package: 'BiocGenerics' The following objects are masked from 'package:stats': IQR, mad, sd, var, xtabs The following objects are masked from 'package:base': Filter, Find, Map, Position, Reduce, anyDuplicated, aperm, append, as.data.frame, basename, cbind, colnames, dirname, do.call, duplicated, eval, evalq, get, grep, grepl, is.unsorted, lapply, mapply, match, mget, order, paste, pmax, pmax.int, pmin, pmin.int, rank, rbind, rownames, sapply, saveRDS, table, tapply, unique, unsplit, which.max, which.min Loading required package: AnnotationHub Loading required package: BiocFileCache Loading required package: dbplyr Loading sesameData. ---------------------------------------------------------- | SEnsible Step-wise Analysis of DNA MEthylation (SeSAMe) | -------------------------------------------------------- | Please cache auxiliary data by "sesameDataCache()". | This needs to be done only once per SeSAMe installation. ---------------------------------------------------------- > > test_check("sesame") [ FAIL 0 | WARN 0 | SKIP 0 | PASS 5 ] > > proc.time() user system elapsed 18.205 0.963 19.159
sesame.Rcheck/sesame-Ex.timings
name | user | system | elapsed | |
BetaValueToMValue | 0 | 0 | 0 | |
DML | 6.650 | 0.399 | 7.057 | |
DMLpredict | 1.264 | 0.107 | 1.371 | |
DMR | 8.118 | 0.334 | 8.454 | |
ELBAR | 13.488 | 0.169 | 13.659 | |
MValueToBetaValue | 0 | 0 | 0 | |
SigDF | 0.361 | 0.040 | 0.401 | |
addMask | 0.073 | 0.001 | 0.074 | |
betasCollapseToPfx | 0.012 | 0.000 | 0.012 | |
bisConversionControl | 4.523 | 0.287 | 4.813 | |
calcEffectSize | 1.352 | 0.132 | 1.485 | |
checkLevels | 4.000 | 0.442 | 4.443 | |
cnSegmentation | 0.275 | 0.060 | 0.335 | |
compareMouseStrainReference | 11.853 | 0.625 | 12.480 | |
compareMouseTissueReference | 0 | 0 | 0 | |
compareReference | 10.451 | 0.612 | 11.064 | |
controls | 1.967 | 0.131 | 2.099 | |
createUCSCtrack | 5.482 | 0.345 | 5.828 | |
deidentify | 5.446 | 0.234 | 5.684 | |
detectionPnegEcdf | 0.887 | 0.022 | 0.909 | |
diffRefSet | 13.408 | 0.562 | 13.973 | |
dmContrasts | 1.888 | 0.072 | 1.960 | |
dyeBiasCorr | 2.588 | 0.222 | 2.812 | |
dyeBiasCorrMostBalanced | 6.313 | 0.260 | 6.597 | |
dyeBiasL | 2.279 | 0.270 | 2.549 | |
dyeBiasNL | 5.424 | 0.162 | 5.589 | |
estimateLeukocyte | 7.549 | 0.191 | 7.741 | |
formatVCF | 2.012 | 0.114 | 2.126 | |
getAFTypeIbySumAlleles | 1.683 | 0.144 | 1.829 | |
getAFs | 0.820 | 0.036 | 0.856 | |
getBetas | 0.813 | 0.049 | 0.862 | |
getMask | 5.834 | 0.379 | 6.217 | |
getRefSet | 11.115 | 0.372 | 11.488 | |
imputeBetas | 17.625 | 0.700 | 18.328 | |
imputeBetasByGenomicNeighbors | 31.849 | 0.900 | 32.752 | |
imputeBetasMatrixByMean | 0.001 | 0.000 | 0.001 | |
inferEthnicity | 0 | 0 | 0 | |
inferInfiniumIChannel | 0.263 | 0.601 | 0.865 | |
inferSex | 22.871 | 0.443 | 23.317 | |
inferSpecies | 13.051 | 0.851 | 13.907 | |
inferStrain | 7.351 | 0.553 | 7.911 | |
inferTissue | 6.641 | 0.188 | 6.829 | |
initFileSet | 1.148 | 0.080 | 1.229 | |
listAvailableMasks | 1.241 | 0.078 | 1.318 | |
mLiftOver | 0.000 | 0.001 | 0.001 | |
mapFileSet | 0.033 | 0.000 | 0.033 | |
mapToMammal40 | 2.607 | 0.171 | 2.781 | |
matchDesign | 10.840 | 0.236 | 11.080 | |
meanIntensity | 2.568 | 0.140 | 2.707 | |
medianTotalIntensity | 0.836 | 0.079 | 0.915 | |
noMasked | 3.416 | 0.126 | 3.543 | |
noob | 2.378 | 0.018 | 2.395 | |
openSesame | 5.271 | 0.234 | 5.513 | |
openSesameToFile | 1.404 | 0.013 | 1.420 | |
pOOBAH | 1.224 | 0.001 | 1.225 | |
palgen | 0.050 | 0.003 | 0.053 | |
parseGEOsignalMU | 2.898 | 0.121 | 3.021 | |
predictAge | 2.320 | 0.113 | 2.434 | |
predictAgeHorvath353 | 0.001 | 0.000 | 0.000 | |
predictAgeSkinBlood | 0 | 0 | 0 | |
predictMouseAgeInMonth | 0 | 0 | 0 | |
prefixMask | 0.529 | 0.014 | 0.543 | |
prefixMaskButC | 0.162 | 0.001 | 0.162 | |
prefixMaskButCG | 0.068 | 0.000 | 0.068 | |
prepSesame | 3.758 | 0.126 | 3.887 | |
prepSesameList | 0.001 | 0.001 | 0.002 | |
print.DMLSummary | 2.830 | 0.205 | 3.036 | |
print.fileSet | 1.232 | 0.084 | 1.316 | |
probeID_designType | 0 | 0 | 0 | |
probeSuccessRate | 5.184 | 0.282 | 5.467 | |
qualityMask | 2.168 | 0.147 | 2.316 | |
reIdentify | 4.445 | 0.100 | 4.546 | |
readFileSet | 0.051 | 0.001 | 0.052 | |
readIDATpair | 0.108 | 0.001 | 0.109 | |
recommendedMaskNames | 0.001 | 0.000 | 0.001 | |
resetMask | 0.373 | 0.044 | 0.417 | |
scrub | 2.035 | 0.151 | 2.186 | |
scrubSoft | 3.050 | 0.069 | 3.119 | |
sdfPlatform | 0.286 | 0.049 | 0.335 | |
sdf_read_table | 7.457 | 0.200 | 7.658 | |
sdf_write_table | 1.686 | 0.097 | 1.814 | |
searchIDATprefixes | 0.003 | 0.001 | 0.004 | |
sesame-package | 2.203 | 0.077 | 2.282 | |
sesameAnno_attachManifest | 0 | 0 | 0 | |
sesameAnno_buildAddressFile | 0 | 0 | 0 | |
sesameAnno_buildManifestGRanges | 0 | 0 | 0 | |
sesameAnno_download | 0 | 0 | 0 | |
sesameAnno_readManifestTSV | 0 | 0 | 0 | |
sesameQC_calcStats | 17.782 | 0.149 | 17.934 | |
sesameQC_getStats | 1.579 | 0.011 | 1.590 | |
sesameQC_plotBar | 10.990 | 0.327 | 11.319 | |
sesameQC_plotBetaByDesign | 10.652 | 0.259 | 10.914 | |
sesameQC_plotHeatSNPs | 17.576 | 0.260 | 17.839 | |
sesameQC_plotIntensVsBetas | 2.034 | 0.056 | 2.091 | |
sesameQC_plotRedGrnQQ | 1.606 | 0.085 | 1.691 | |
sesameQC_rankStats | 3.459 | 0.142 | 3.601 | |
sesameQCtoDF | 1.649 | 0.008 | 1.657 | |
sesame_checkVersion | 0.003 | 0.000 | 0.003 | |
sesamize | 0 | 0 | 0 | |
setMask | 0.085 | 0.000 | 0.085 | |
signalMU | 0.754 | 0.044 | 0.798 | |
sliceFileSet | 0.033 | 0.000 | 0.033 | |
summaryExtractTest | 2.806 | 0.131 | 2.937 | |
totalIntensities | 2.461 | 0.125 | 2.585 | |
updateSigDF | 3.096 | 0.194 | 3.292 | |
visualizeGene | 8.560 | 0.344 | 8.917 | |
visualizeProbes | 1.101 | 0.027 | 1.128 | |
visualizeRegion | 0.311 | 0.010 | 0.321 | |
visualizeSegments | 1.831 | 0.114 | 1.945 | |