Back to Multiple platform build/check report for BioC 3.21:   simplified   long
ABCDEFGHIJKLMNOPQR[S]TUVWXYZ

This page was generated on 2025-02-06 11:40 -0500 (Thu, 06 Feb 2025).

HostnameOSArch (*)R versionInstalled pkgs
nebbiolo1Linux (Ubuntu 24.04.1 LTS)x86_64R Under development (unstable) (2025-01-20 r87609) -- "Unsuffered Consequences" 4719
palomino7Windows Server 2022 Datacenterx64R Under development (unstable) (2025-01-21 r87610 ucrt) -- "Unsuffered Consequences" 4480
lconwaymacOS 12.7.1 Montereyx86_64R Under development (unstable) (2025-01-22 r87618) -- "Unsuffered Consequences" 4491
kjohnson3macOS 13.7.1 Venturaarm64R Under development (unstable) (2025-01-20 r87609) -- "Unsuffered Consequences" 4444
Click on any hostname to see more info about the system (e.g. compilers)      (*) as reported by 'uname -p', except on Windows and Mac OS X

Package 1956/2295HostnameOS / ArchINSTALLBUILDCHECKBUILD BIN
signatureSearch 1.21.0  (landing page)
Brendan Gongol
Snapshot Date: 2025-02-05 13:48 -0500 (Wed, 05 Feb 2025)
git_url: https://git.bioconductor.org/packages/signatureSearch
git_branch: devel
git_last_commit: eef2cb2
git_last_commit_date: 2024-10-29 10:41:56 -0500 (Tue, 29 Oct 2024)
nebbiolo1Linux (Ubuntu 24.04.1 LTS) / x86_64  OK    OK    OK  UNNEEDED, same version is already published
palomino7Windows Server 2022 Datacenter / x64  OK    OK    OK    OK  UNNEEDED, same version is already published
lconwaymacOS 12.7.1 Monterey / x86_64  OK    OK    OK    OK  UNNEEDED, same version is already published
kjohnson3macOS 13.7.1 Ventura / arm64  OK    OK    OK    OK  UNNEEDED, same version is already published


CHECK results for signatureSearch on nebbiolo1

To the developers/maintainers of the signatureSearch package:
- Allow up to 24 hours (and sometimes 48 hours) for your latest push to git@git.bioconductor.org:packages/signatureSearch.git to reflect on this report. See Troubleshooting Build Report for more information.
- Use the following Renviron settings to reproduce errors and warnings.
- If 'R CMD check' started to fail recently on the Linux builder(s) over a missing dependency, add the missing dependency to 'Suggests:' in your DESCRIPTION file. See Renviron.bioc for more information.

raw results


Summary

Package: signatureSearch
Version: 1.21.0
Command: /home/biocbuild/bbs-3.21-bioc/R/bin/R CMD check --install=check:signatureSearch.install-out.txt --library=/home/biocbuild/bbs-3.21-bioc/R/site-library --timings signatureSearch_1.21.0.tar.gz
StartedAt: 2025-02-06 02:41:21 -0500 (Thu, 06 Feb 2025)
EndedAt: 2025-02-06 03:02:56 -0500 (Thu, 06 Feb 2025)
EllapsedTime: 1295.6 seconds
RetCode: 0
Status:   OK  
CheckDir: signatureSearch.Rcheck
Warnings: 0

Command output

##############################################################################
##############################################################################
###
### Running command:
###
###   /home/biocbuild/bbs-3.21-bioc/R/bin/R CMD check --install=check:signatureSearch.install-out.txt --library=/home/biocbuild/bbs-3.21-bioc/R/site-library --timings signatureSearch_1.21.0.tar.gz
###
##############################################################################
##############################################################################


* using log directory ‘/home/biocbuild/bbs-3.21-bioc/meat/signatureSearch.Rcheck’
* using R Under development (unstable) (2025-01-20 r87609)
* using platform: x86_64-pc-linux-gnu
* R was compiled by
    gcc (Ubuntu 13.3.0-6ubuntu2~24.04) 13.3.0
    GNU Fortran (Ubuntu 13.3.0-6ubuntu2~24.04) 13.3.0
* running under: Ubuntu 24.04.1 LTS
* using session charset: UTF-8
* checking for file ‘signatureSearch/DESCRIPTION’ ... OK
* this is package ‘signatureSearch’ version ‘1.21.0’
* package encoding: UTF-8
* checking package namespace information ... OK
* checking package dependencies ... INFO
Imports includes 25 non-default packages.
Importing from so many packages makes the package vulnerable to any of
them becoming unavailable.  Move as many as possible to Suggests and
use conditionally.
* checking if this is a source package ... OK
* checking if there is a namespace ... OK
* checking for hidden files and directories ... OK
* checking for portable file names ... OK
* checking for sufficient/correct file permissions ... OK
* checking whether package ‘signatureSearch’ can be installed ... OK
* used C compiler: ‘gcc (Ubuntu 13.3.0-6ubuntu2~24.04) 13.3.0’
* used C++ compiler: ‘g++ (Ubuntu 13.3.0-6ubuntu2~24.04) 13.3.0’
* checking C++ specification ... NOTE
  Specified C++11: please drop specification unless essential
* checking installed package size ... INFO
  installed size is 85.5Mb
  sub-directories of 1Mb or more:
    R        80.9Mb
    data      2.0Mb
    extdata   1.4Mb
* checking package directory ... OK
* checking ‘build’ directory ... OK
* checking DESCRIPTION meta-information ... OK
* checking top-level files ... OK
* checking for left-over files ... OK
* checking index information ... OK
* checking package subdirectories ... OK
* checking code files for non-ASCII characters ... OK
* checking R files for syntax errors ... OK
* checking whether the package can be loaded ... OK
* checking whether the package can be loaded with stated dependencies ... OK
* checking whether the package can be unloaded cleanly ... OK
* checking whether the namespace can be loaded with stated dependencies ... OK
* checking whether the namespace can be unloaded cleanly ... OK
* checking loading without being on the library search path ... OK
* checking dependencies in R code ... OK
* checking S3 generic/method consistency ... OK
* checking replacement functions ... OK
* checking foreign function calls ... OK
* checking R code for possible problems ... OK
* checking Rd files ... OK
* checking Rd metadata ... OK
* checking Rd cross-references ... OK
* checking for missing documentation entries ... OK
* checking for code/documentation mismatches ... OK
* checking Rd \usage sections ... OK
* checking Rd contents ... OK
* checking for unstated dependencies in examples ... OK
* checking contents of ‘data’ directory ... OK
* checking data for non-ASCII characters ... OK
* checking data for ASCII and uncompressed saves ... OK
* checking R/sysdata.rda ... OK
* checking line endings in C/C++/Fortran sources/headers ... OK
* checking compiled code ... NOTE
Note: information on .o files is not available
* checking files in ‘vignettes’ ... OK
* checking examples ... OK
Examples with CPU (user + system) or elapsed time > 5s
                 user system elapsed
set_readable  175.055  2.461 177.752
rand_query_ES   6.814  2.050   9.139
runWF           6.823  0.660   8.428
* checking for unstated dependencies in ‘tests’ ... OK
* checking tests ...
  Running ‘testthat.R’
 OK
* checking for unstated dependencies in vignettes ... OK
* checking package vignettes ... OK
* checking re-building of vignette outputs ... OK
* checking PDF version of manual ... OK
* DONE

Status: 2 NOTEs
See
  ‘/home/biocbuild/bbs-3.21-bioc/meat/signatureSearch.Rcheck/00check.log’
for details.


Installation output

signatureSearch.Rcheck/00install.out

##############################################################################
##############################################################################
###
### Running command:
###
###   /home/biocbuild/bbs-3.21-bioc/R/bin/R CMD INSTALL signatureSearch
###
##############################################################################
##############################################################################


* installing to library ‘/home/biocbuild/bbs-3.21-bioc/R/site-library’
* installing *source* package ‘signatureSearch’ ...
** this is package ‘signatureSearch’ version ‘1.21.0’
** using staged installation
** libs
using C compiler: ‘gcc (Ubuntu 13.3.0-6ubuntu2~24.04) 13.3.0’
using C++ compiler: ‘g++ (Ubuntu 13.3.0-6ubuntu2~24.04) 13.3.0’
using C++11
g++ -std=gnu++11 -I"/home/biocbuild/bbs-3.21-bioc/R/include" -DNDEBUG  -I'/home/biocbuild/bbs-3.21-bioc/R/site-library/Rcpp/include' -I/usr/local/include    -fpic  -g -O2  -DR_NO_REMAP -c RcppExports.cpp -o RcppExports.o
g++ -std=gnu++11 -I"/home/biocbuild/bbs-3.21-bioc/R/include" -DNDEBUG  -I'/home/biocbuild/bbs-3.21-bioc/R/site-library/Rcpp/include' -I/usr/local/include    -fpic  -g -O2  -DR_NO_REMAP -c fastGSEA.cpp -o fastGSEA.o
gcc -I"/home/biocbuild/bbs-3.21-bioc/R/include" -DNDEBUG  -I'/home/biocbuild/bbs-3.21-bioc/R/site-library/Rcpp/include' -I/usr/local/include    -fpic  -g -O2  -c fgsea_init.c -o fgsea_init.o
g++ -std=gnu++11 -shared -L/home/biocbuild/bbs-3.21-bioc/R/lib -L/usr/local/lib -o signatureSearch.so RcppExports.o fastGSEA.o fgsea_init.o -L/home/biocbuild/bbs-3.21-bioc/R/lib -lR
installing to /home/biocbuild/bbs-3.21-bioc/R/site-library/00LOCK-signatureSearch/00new/signatureSearch/libs
** R
** data
** inst
** byte-compile and prepare package for lazy loading
** help
*** installing help indices
** building package indices
** installing vignettes
** testing if installed package can be loaded from temporary location
** checking absolute paths in shared objects and dynamic libraries
** testing if installed package can be loaded from final location
** testing if installed package keeps a record of temporary installation path
* DONE (signatureSearch)

Tests output

signatureSearch.Rcheck/tests/testthat.Rout


R Under development (unstable) (2025-01-20 r87609) -- "Unsuffered Consequences"
Copyright (C) 2025 The R Foundation for Statistical Computing
Platform: x86_64-pc-linux-gnu

R is free software and comes with ABSOLUTELY NO WARRANTY.
You are welcome to redistribute it under certain conditions.
Type 'license()' or 'licence()' for distribution details.

R is a collaborative project with many contributors.
Type 'contributors()' for more information and
'citation()' on how to cite R or R packages in publications.

Type 'demo()' for some demos, 'help()' for on-line help, or
'help.start()' for an HTML browser interface to help.
Type 'q()' to quit R.

> # library(testthat)
> # library(signatureSearch)
> # 
> # test_check("signatureSearch")
> 
> proc.time()
   user  system elapsed 
  0.136   0.053   0.174 

Example timings

signatureSearch.Rcheck/signatureSearch-Ex.timings

nameusersystemelapsed
addGESSannot3.6780.2184.177
addMOA0.1740.0010.175
add_pcid0.210.000.21
append2H50.0620.0010.063
build_custom_db0.2330.0050.239
cellNtestPlot0.7460.1341.034
cell_info0.0190.0020.022
cell_info20.0340.0030.037
chembl_moa_list0.0070.0010.009
clue_moa_list0.0090.0000.009
comp_fea_res0.1620.0210.185
create_empty_h50.0170.0040.021
dim-methods0.0070.0010.007
drug_cell_ranks0.0090.0000.010
drugs-methods0.0020.0000.002
drugs100.0010.0010.001
dtnetplot2.0160.1652.405
enrichGO2000
enrichKEGG20.0000.0000.001
enrichMOA0.0360.0030.041
enrichReactome000
fea0.0010.0020.003
feaResult0.0020.0000.002
gctx2h50.3850.0450.431
gess0.0020.0000.002
gessResult0.0020.0000.002
gess_res_vis0.3540.0030.357
getSig1.3350.1531.787
getTreats0.5940.0490.791
get_targets1.9020.1332.259
gmt2h50.0800.0070.087
gseGO20.0010.0010.002
gseKEGG20.0100.0010.010
gseReactome0.0110.0000.011
head-methods0.0070.0000.006
lincs_expr_inst_info0.0530.0010.054
lincs_pert_info0.2720.0020.274
lincs_pert_info21.1860.0021.188
lincs_sig_info0.0580.0010.059
list2df0.0010.0010.002
list_rev0.0020.0000.002
mabsGO0.0000.0020.002
mabsKEGG0.0110.0000.011
mabsReactome0.0090.0010.012
matrix2h50.0440.0030.048
meanExpr2h50.5000.0480.549
moa_conn0.0320.0010.033
parse_gctx0.0720.0030.076
qSig1.1410.1481.588
rand_query_ES6.8142.0509.139
read_gmt0.0030.0000.004
result-methods0.3240.2150.032
runWF6.8230.6608.428
set_readable175.055 2.461177.752
show-methods0.0320.0000.032
sim_score_grp0.010.000.01
tail-methods0.0060.0010.007
tarReduce0.0000.0010.001
targetList0.0030.0010.004
vec_char_redu000