Back to Multiple platform build/check report for BioC 3.21: simplified long |
|
This page was generated on 2025-02-04 11:40 -0500 (Tue, 04 Feb 2025).
Hostname | OS | Arch (*) | R version | Installed pkgs |
---|---|---|---|---|
nebbiolo1 | Linux (Ubuntu 24.04.1 LTS) | x86_64 | R Under development (unstable) (2025-01-20 r87609) -- "Unsuffered Consequences" | 4716 |
palomino7 | Windows Server 2022 Datacenter | x64 | R Under development (unstable) (2025-01-21 r87610 ucrt) -- "Unsuffered Consequences" | 4478 |
lconway | macOS 12.7.1 Monterey | x86_64 | R Under development (unstable) (2025-01-22 r87618) -- "Unsuffered Consequences" | 4489 |
kjohnson3 | macOS 13.7.1 Ventura | arm64 | R Under development (unstable) (2025-01-20 r87609) -- "Unsuffered Consequences" | 4442 |
Click on any hostname to see more info about the system (e.g. compilers) (*) as reported by 'uname -p', except on Windows and Mac OS X |
Package 2010/2295 | Hostname | OS / Arch | INSTALL | BUILD | CHECK | BUILD BIN | ||||||||
sparrow 1.13.4 (landing page) Steve Lianoglou
| nebbiolo1 | Linux (Ubuntu 24.04.1 LTS) / x86_64 | OK | OK | OK | |||||||||
palomino7 | Windows Server 2022 Datacenter / x64 | OK | OK | OK | OK | |||||||||
lconway | macOS 12.7.1 Monterey / x86_64 | OK | OK | OK | OK | |||||||||
kjohnson3 | macOS 13.7.1 Ventura / arm64 | OK | OK | OK | OK | |||||||||
To the developers/maintainers of the sparrow package: - Allow up to 24 hours (and sometimes 48 hours) for your latest push to git@git.bioconductor.org:packages/sparrow.git to reflect on this report. See Troubleshooting Build Report for more information. - Use the following Renviron settings to reproduce errors and warnings. - If 'R CMD check' started to fail recently on the Linux builder(s) over a missing dependency, add the missing dependency to 'Suggests:' in your DESCRIPTION file. See Renviron.bioc for more information. |
Package: sparrow |
Version: 1.13.4 |
Command: /home/biocbuild/bbs-3.21-bioc/R/bin/R CMD check --install=check:sparrow.install-out.txt --library=/home/biocbuild/bbs-3.21-bioc/R/site-library --timings sparrow_1.13.4.tar.gz |
StartedAt: 2025-02-04 02:56:48 -0500 (Tue, 04 Feb 2025) |
EndedAt: 2025-02-04 03:08:43 -0500 (Tue, 04 Feb 2025) |
EllapsedTime: 714.8 seconds |
RetCode: 0 |
Status: OK |
CheckDir: sparrow.Rcheck |
Warnings: 0 |
############################################################################## ############################################################################## ### ### Running command: ### ### /home/biocbuild/bbs-3.21-bioc/R/bin/R CMD check --install=check:sparrow.install-out.txt --library=/home/biocbuild/bbs-3.21-bioc/R/site-library --timings sparrow_1.13.4.tar.gz ### ############################################################################## ############################################################################## * using log directory ‘/home/biocbuild/bbs-3.21-bioc/meat/sparrow.Rcheck’ * using R Under development (unstable) (2025-01-20 r87609) * using platform: x86_64-pc-linux-gnu * R was compiled by gcc (Ubuntu 13.3.0-6ubuntu2~24.04) 13.3.0 GNU Fortran (Ubuntu 13.3.0-6ubuntu2~24.04) 13.3.0 * running under: Ubuntu 24.04.1 LTS * using session charset: UTF-8 * checking for file ‘sparrow/DESCRIPTION’ ... OK * checking extension type ... Package * this is package ‘sparrow’ version ‘1.13.4’ * package encoding: UTF-8 * checking package namespace information ... OK * checking package dependencies ... OK * checking if this is a source package ... OK * checking if there is a namespace ... OK * checking for hidden files and directories ... OK * checking for portable file names ... OK * checking for sufficient/correct file permissions ... OK * checking whether package ‘sparrow’ can be installed ... OK * checking installed package size ... OK * checking package directory ... OK * checking ‘build’ directory ... OK * checking DESCRIPTION meta-information ... NOTE License stub is invalid DCF. * checking top-level files ... OK * checking for left-over files ... OK * checking index information ... OK * checking package subdirectories ... OK * checking code files for non-ASCII characters ... OK * checking R files for syntax errors ... OK * checking whether the package can be loaded ... OK * checking whether the package can be loaded with stated dependencies ... OK * checking whether the package can be unloaded cleanly ... OK * checking whether the namespace can be loaded with stated dependencies ... OK * checking whether the namespace can be unloaded cleanly ... OK * checking loading without being on the library search path ... OK * checking whether startup messages can be suppressed ... OK * checking dependencies in R code ... OK * checking S3 generic/method consistency ... OK * checking replacement functions ... OK * checking foreign function calls ... OK * checking R code for possible problems ... NOTE geneSetsStats: no visible binding for global variable ‘direction’ Undefined global functions or variables: direction * checking Rd files ... OK * checking Rd metadata ... OK * checking Rd cross-references ... NOTE Found the following Rd file(s) with Rd \link{} targets missing package anchors: seas.Rd: BiocParallel Please provide package anchors for all Rd \link{} targets not in the package itself and the base packages. * checking for missing documentation entries ... OK * checking for code/documentation mismatches ... OK * checking Rd \usage sections ... OK * checking Rd contents ... OK * checking for unstated dependencies in examples ... OK * checking line endings in Makefiles ... OK * checking for GNU extensions in Makefiles ... OK * checking include directives in Makefiles ... OK * checking files in ‘vignettes’ ... OK * checking examples ... OK Examples with CPU (user + system) or elapsed time > 5s user system elapsed goseq 9.538 0.235 8.879 seas 5.573 0.028 4.662 geneSetsStats 5.373 0.038 3.716 scoreSingleSamples 5.173 0.041 5.083 * checking for unstated dependencies in ‘tests’ ... OK * checking tests ... Running ‘testthat.R’ OK * checking for unstated dependencies in vignettes ... OK * checking package vignettes ... OK * checking re-building of vignette outputs ... OK * checking PDF version of manual ... OK * DONE Status: 3 NOTEs See ‘/home/biocbuild/bbs-3.21-bioc/meat/sparrow.Rcheck/00check.log’ for details.
sparrow.Rcheck/00install.out
############################################################################## ############################################################################## ### ### Running command: ### ### /home/biocbuild/bbs-3.21-bioc/R/bin/R CMD INSTALL sparrow ### ############################################################################## ############################################################################## * installing to library ‘/home/biocbuild/bbs-3.21-bioc/R/site-library’ * installing *source* package ‘sparrow’ ... ** this is package ‘sparrow’ version ‘1.13.4’ ** using staged installation ** R ** inst ** byte-compile and prepare package for lazy loading ** help *** installing help indices *** copying figures ** building package indices ** installing vignettes ** testing if installed package can be loaded from temporary location ** testing if installed package can be loaded from final location ** testing if installed package keeps a record of temporary installation path * DONE (sparrow)
sparrow.Rcheck/tests/testthat.Rout
R Under development (unstable) (2025-01-20 r87609) -- "Unsuffered Consequences" Copyright (C) 2025 The R Foundation for Statistical Computing Platform: x86_64-pc-linux-gnu R is free software and comes with ABSOLUTELY NO WARRANTY. You are welcome to redistribute it under certain conditions. Type 'license()' or 'licence()' for distribution details. R is a collaborative project with many contributors. Type 'contributors()' for more information and 'citation()' on how to cite R or R packages in publications. Type 'demo()' for some demos, 'help()' for on-line help, or 'help.start()' for an HTML browser interface to help. Type 'q()' to quit R. > library("sparrow") > library("testthat") > library("data.table") > library("dplyr") Attaching package: 'dplyr' The following objects are masked from 'package:data.table': between, first, last The following object is masked from 'package:testthat': matches The following object is masked from 'package:sparrow': combine The following objects are masked from 'package:stats': filter, lag The following objects are masked from 'package:base': intersect, setdiff, setequal, union > > test_check("sparrow") Attaching package: 'magrittr' The following objects are masked from 'package:testthat': equals, is_less_than, not [ FAIL 0 | WARN 0 | SKIP 1 | PASS 1477 ] ══ Skipped tests (1) ═══════════════════════════════════════════════════════════ • empty test (1): 'test-MultiGSEAResult.R:3:1' [ FAIL 0 | WARN 0 | SKIP 1 | PASS 1477 ] > > ## Remove temporary files that were generated > test.dir <- system.file('tests', package = "sparrow") > pdfs <- dir(test.dir, "\\.pdf$", full.names=TRUE) > if (length(pdfs)) { + unlink(pdfs) + } > > > proc.time() user system elapsed 331.146 16.084 300.663
sparrow.Rcheck/sparrow-Ex.timings
name | user | system | elapsed | |
GeneSetDb-class | 0.816 | 0.001 | 0.800 | |
SparrowResult-utilities | 4.261 | 0.146 | 3.532 | |
addGeneSetMetadata | 0.087 | 0.000 | 0.061 | |
annotateGeneSetMembership | 4.633 | 0.092 | 3.866 | |
calculateIndividualLogFC | 1.434 | 0.028 | 1.463 | |
collectionMetadata | 0.095 | 0.003 | 0.072 | |
combine-GeneSetDb-GeneSetDb-method | 0.137 | 0.003 | 0.088 | |
combine-SparrowResult-SparrowResult-method | 0.121 | 0.003 | 0.123 | |
conform | 0.437 | 0.012 | 0.422 | |
conversion | 1.452 | 0.041 | 1.381 | |
convertIdentifiers | 0.259 | 0.001 | 0.162 | |
corplot | 0.086 | 0.001 | 0.087 | |
eigenWeightedMean | 3.788 | 0.074 | 3.811 | |
examples | 0.294 | 0.085 | 0.379 | |
failWith | 0.001 | 0.000 | 0.000 | |
featureIdMap | 0.427 | 0.014 | 0.413 | |
featureIds | 0.443 | 0.002 | 0.405 | |
geneSet | 0.107 | 0.000 | 0.075 | |
geneSetCollectionURLfunction | 0.080 | 0.000 | 0.053 | |
geneSetSummaryByGenes | 3.845 | 0.074 | 2.904 | |
geneSets | 0.078 | 0.000 | 0.051 | |
geneSetsStats | 5.373 | 0.038 | 3.716 | |
getKeggCollection | 0 | 0 | 0 | |
getMSigCollection | 0 | 0 | 0 | |
getPantherCollection | 0 | 0 | 0 | |
getReactomeCollection | 0 | 0 | 0 | |
goseq | 9.538 | 0.235 | 8.879 | |
gsdScore | 0.973 | 0.001 | 0.914 | |
gskey | 0.003 | 0.000 | 0.003 | |
hasGeneSet | 0.089 | 0.000 | 0.060 | |
hasGeneSetCollection | 0.090 | 0.001 | 0.061 | |
incidenceMatrix | 2.440 | 0.077 | 2.486 | |
iplot | 1.176 | 0.040 | 1.163 | |
is.active | 0.329 | 0.012 | 0.317 | |
logFC | 3.504 | 0.126 | 2.744 | |
mgheatmap | 0 | 0 | 0 | |
mgheatmap2 | 0 | 0 | 0 | |
msg | 0.001 | 0.000 | 0.000 | |
ora | 0.236 | 0.006 | 0.237 | |
p.matrix | 0.086 | 0.002 | 0.088 | |
randomGeneSetDb | 1.449 | 0.049 | 1.492 | |
renameCollections | 0.108 | 0.000 | 0.070 | |
renameRows | 0.341 | 0.006 | 0.342 | |
results | 0.103 | 0.003 | 0.106 | |
scale_rows | 0.003 | 0.001 | 0.004 | |
scoreSingleSamples | 5.173 | 0.041 | 5.083 | |
seas | 5.573 | 0.028 | 4.662 | |
sparrow_methods | 0.002 | 0.001 | 0.003 | |
species_info | 0.006 | 0.000 | 0.007 | |
subset.GeneSetDb | 0.09 | 0.00 | 0.06 | |
subsetByFeatures | 0.122 | 0.000 | 0.073 | |
validateInputs | 0.183 | 0.004 | 0.158 | |
volcanoPlot | 1.905 | 0.063 | 1.967 | |
volcanoStatsTable | 0.074 | 0.001 | 0.075 | |
zScore | 0.972 | 0.008 | 0.924 | |