Back to Multiple platform build/check report for BioC 3.21:   simplified   long
ABCDEFGHIJKLMNOPQR[S]TUVWXYZ

This page was generated on 2025-02-04 11:40 -0500 (Tue, 04 Feb 2025).

HostnameOSArch (*)R versionInstalled pkgs
nebbiolo1Linux (Ubuntu 24.04.1 LTS)x86_64R Under development (unstable) (2025-01-20 r87609) -- "Unsuffered Consequences" 4716
palomino7Windows Server 2022 Datacenterx64R Under development (unstable) (2025-01-21 r87610 ucrt) -- "Unsuffered Consequences" 4478
lconwaymacOS 12.7.1 Montereyx86_64R Under development (unstable) (2025-01-22 r87618) -- "Unsuffered Consequences" 4489
kjohnson3macOS 13.7.1 Venturaarm64R Under development (unstable) (2025-01-20 r87609) -- "Unsuffered Consequences" 4442
Click on any hostname to see more info about the system (e.g. compilers)      (*) as reported by 'uname -p', except on Windows and Mac OS X

Package 2083/2295HostnameOS / ArchINSTALLBUILDCHECKBUILD BIN
structToolbox 1.19.1  (landing page)
Gavin Rhys Lloyd
Snapshot Date: 2025-02-03 13:40 -0500 (Mon, 03 Feb 2025)
git_url: https://git.bioconductor.org/packages/structToolbox
git_branch: devel
git_last_commit: 6714233
git_last_commit_date: 2025-01-28 04:25:47 -0500 (Tue, 28 Jan 2025)
nebbiolo1Linux (Ubuntu 24.04.1 LTS) / x86_64  OK    OK    OK  UNNEEDED, same version is already published
palomino7Windows Server 2022 Datacenter / x64  OK    OK    OK    OK  UNNEEDED, same version is already published
lconwaymacOS 12.7.1 Monterey / x86_64  OK    OK    OK    OK  UNNEEDED, same version is already published
kjohnson3macOS 13.7.1 Ventura / arm64  OK    OK    OK    OK  UNNEEDED, same version is already published


CHECK results for structToolbox on nebbiolo1

To the developers/maintainers of the structToolbox package:
- Allow up to 24 hours (and sometimes 48 hours) for your latest push to git@git.bioconductor.org:packages/structToolbox.git to reflect on this report. See Troubleshooting Build Report for more information.
- Use the following Renviron settings to reproduce errors and warnings.
- If 'R CMD check' started to fail recently on the Linux builder(s) over a missing dependency, add the missing dependency to 'Suggests:' in your DESCRIPTION file. See Renviron.bioc for more information.

raw results


Summary

Package: structToolbox
Version: 1.19.1
Command: /home/biocbuild/bbs-3.21-bioc/R/bin/R CMD check --install=check:structToolbox.install-out.txt --library=/home/biocbuild/bbs-3.21-bioc/R/site-library --timings structToolbox_1.19.1.tar.gz
StartedAt: 2025-02-04 03:15:37 -0500 (Tue, 04 Feb 2025)
EndedAt: 2025-02-04 03:33:38 -0500 (Tue, 04 Feb 2025)
EllapsedTime: 1081.5 seconds
RetCode: 0
Status:   OK  
CheckDir: structToolbox.Rcheck
Warnings: 0

Command output

##############################################################################
##############################################################################
###
### Running command:
###
###   /home/biocbuild/bbs-3.21-bioc/R/bin/R CMD check --install=check:structToolbox.install-out.txt --library=/home/biocbuild/bbs-3.21-bioc/R/site-library --timings structToolbox_1.19.1.tar.gz
###
##############################################################################
##############################################################################


* using log directory ‘/home/biocbuild/bbs-3.21-bioc/meat/structToolbox.Rcheck’
* using R Under development (unstable) (2025-01-20 r87609)
* using platform: x86_64-pc-linux-gnu
* R was compiled by
    gcc (Ubuntu 13.3.0-6ubuntu2~24.04) 13.3.0
    GNU Fortran (Ubuntu 13.3.0-6ubuntu2~24.04) 13.3.0
* running under: Ubuntu 24.04.1 LTS
* using session charset: UTF-8
* checking for file ‘structToolbox/DESCRIPTION’ ... OK
* checking extension type ... Package
* this is package ‘structToolbox’ version ‘1.19.1’
* package encoding: UTF-8
* checking package namespace information ... OK
* checking package dependencies ... OK
* checking if this is a source package ... OK
* checking if there is a namespace ... OK
* checking for hidden files and directories ... OK
* checking for portable file names ... OK
* checking for sufficient/correct file permissions ... OK
* checking whether package ‘structToolbox’ can be installed ... OK
* checking installed package size ... OK
* checking package directory ... OK
* checking ‘build’ directory ... OK
* checking DESCRIPTION meta-information ... OK
* checking top-level files ... OK
* checking for left-over files ... OK
* checking index information ... OK
* checking package subdirectories ... OK
* checking code files for non-ASCII characters ... OK
* checking R files for syntax errors ... OK
* checking whether the package can be loaded ... OK
* checking whether the package can be loaded with stated dependencies ... OK
* checking whether the package can be unloaded cleanly ... OK
* checking whether the namespace can be loaded with stated dependencies ... OK
* checking whether the namespace can be unloaded cleanly ... OK
* checking loading without being on the library search path ... OK
* checking dependencies in R code ... OK
* checking S3 generic/method consistency ... OK
* checking replacement functions ... OK
* checking foreign function calls ... OK
* checking R code for possible problems ... OK
* checking Rd files ... OK
* checking Rd metadata ... OK
* checking Rd cross-references ... OK
* checking for missing documentation entries ... OK
* checking for code/documentation mismatches ... OK
* checking Rd \usage sections ... OK
* checking Rd contents ... OK
* checking for unstated dependencies in examples ... OK
* checking R/sysdata.rda ... OK
* checking files in ‘vignettes’ ... OK
* checking examples ... OK
Examples with CPU (user + system) or elapsed time > 5s
                            user system elapsed
fold_change_int           16.265  0.020  16.305
fold_change               10.841  0.002  10.843
fisher_exact               9.540  0.012   9.553
fs_line                    6.809  0.156   6.964
forward_selection_by_rank  6.023  0.047   6.073
* checking for unstated dependencies in ‘tests’ ... OK
* checking tests ...
  Running ‘testthat.R’
 OK
* checking for unstated dependencies in vignettes ... OK
* checking package vignettes ... OK
* checking re-building of vignette outputs ... OK
* checking PDF version of manual ... OK
* DONE

Status: OK


Installation output

structToolbox.Rcheck/00install.out

##############################################################################
##############################################################################
###
### Running command:
###
###   /home/biocbuild/bbs-3.21-bioc/R/bin/R CMD INSTALL structToolbox
###
##############################################################################
##############################################################################


* installing to library ‘/home/biocbuild/bbs-3.21-bioc/R/site-library’
* installing *source* package ‘structToolbox’ ...
** this is package ‘structToolbox’ version ‘1.19.1’
** using staged installation
** R
** inst
** byte-compile and prepare package for lazy loading
** help
*** installing help indices
** building package indices
** installing vignettes
** testing if installed package can be loaded from temporary location
** testing if installed package can be loaded from final location
** testing if installed package keeps a record of temporary installation path
* DONE (structToolbox)

Tests output

structToolbox.Rcheck/tests/testthat.Rout


R Under development (unstable) (2025-01-20 r87609) -- "Unsuffered Consequences"
Copyright (C) 2025 The R Foundation for Statistical Computing
Platform: x86_64-pc-linux-gnu

R is free software and comes with ABSOLUTELY NO WARRANTY.
You are welcome to redistribute it under certain conditions.
Type 'license()' or 'licence()' for distribution details.

R is a collaborative project with many contributors.
Type 'contributors()' for more information and
'citation()' on how to cite R or R packages in publications.

Type 'demo()' for some demos, 'help()' for on-line help, or
'help.start()' for an HTML browser interface to help.
Type 'q()' to quit R.

> library(testthat)
> library(ggplot2)
> library(structToolbox)
Loading required package: struct
> 
> test_check("structToolbox")
[ FAIL 0 | WARN 6 | SKIP 0 | PASS 166 ]

[ FAIL 0 | WARN 6 | SKIP 0 | PASS 166 ]
> 
> proc.time()
   user  system elapsed 
178.157   1.791 179.980 

Example timings

structToolbox.Rcheck/structToolbox-Ex.timings

nameusersystemelapsed
ANOVA0.2390.0150.253
AUC1.9170.1292.046
DFA0.1900.0020.192
DatasetExperiment_boxplot1.4820.0191.501
DatasetExperiment_dist1.9220.0421.963
DatasetExperiment_factor_boxplot0.2080.0000.209
DatasetExperiment_heatmap0.3940.0040.398
HCA0.0720.0010.073
HSD0.3030.0030.309
HSDEM0.3380.0010.338
MTBLS79_DatasetExperiment0.0020.0000.001
OPLSDA0.0110.0000.011
OPLSR0.0140.0000.014
PCA0.0040.0000.004
PLSDA0.0240.0000.025
PLSR0.0090.0000.009
SVM0.0260.0000.027
as_data_frame0.1320.0020.134
autoscale0.0730.0020.073
balanced_accuracy1.6880.0061.695
blank_filter0.3320.0060.338
blank_filter_hist0.0010.0000.001
bootstrap0.0170.0000.017
calculate0.0040.0010.005
chart_plot0.0250.0010.026
classical_lsq0.3080.0160.325
compare_dist3.7060.1353.841
confounders_clsq2.7770.0112.789
confounders_lsq_barchart2.9930.0763.068
confounders_lsq_boxplot2.8970.0272.923
constant_sum_norm0.0140.0000.014
corr_coef0.2530.0010.253
dfa_scores_plot0.6950.0060.701
dratio_filter0.2580.0040.264
equal_split0.1400.0000.139
feature_boxplot0.0330.0000.033
feature_profile0.3960.0030.399
feature_profile_array0.4560.0020.458
filter_by_name0.0290.0000.029
filter_na_count0.9650.0110.975
filter_smeta0.0540.0010.055
fisher_exact9.5400.0129.553
fold_change10.841 0.00210.843
fold_change_int16.265 0.02016.305
fold_change_plot0.0110.0000.012
forward_selection_by_rank6.0230.0476.073
fs_line6.8090.1566.964
glog_opt_plot0.4710.0090.481
glog_transform0.2810.0010.283
grid_search_1d3.3790.0333.412
gs_line0.0010.0000.000
hca_dendrogram0.0010.0000.001
kfold_xval3.2140.0043.219
kfoldxcv_grid3.6180.0323.652
kfoldxcv_metric0.0010.0000.001
knn_impute0.0110.0010.013
kw_p_hist0.0000.0000.001
kw_rank_sum0.080.000.08
linear_model0.0260.0010.028
log_transform0.0120.0010.013
mean_centre0.0030.0000.003
mean_of_medians0.1170.0010.119
mixed_effect0.1830.0040.188
model_apply0.0200.0010.022
model_predict0.050.000.05
model_reverse0.0400.0010.040
model_train0.0460.0000.046
mv_boxplot0.2740.0000.274
mv_feature_filter0.1100.0000.112
mv_feature_filter_hist0.0010.0000.001
mv_histogram0.2600.0010.262
mv_sample_filter0.0140.0010.015
mv_sample_filter_hist0.0000.0010.000
nroot_transform0.0130.0000.013
ontology_cache0.0000.0010.001
pairs_filter0.0130.0010.015
pareto_scale0.0520.0000.052
pca_biplot0.0180.0000.019
pca_correlation_plot0.0110.0000.011
pca_dstat_plot0.0130.0000.014
pca_loadings_plot0.0120.0010.014
pca_scores_plot0.5420.0000.542
pca_scree_plot0.0120.0000.012
permutation_test0.0180.0000.018
permutation_test_plot0.0030.0000.003
permute_sample_order0.0140.0000.014
pls_regcoeff_plot0.3300.0020.332
pls_scores_plot0.6780.0020.680
pls_vip_plot0.3450.0030.347
plsda_feature_importance_plot0.6030.0010.605
plsda_predicted_plot0.4540.0000.454
plsda_roc_plot1.0430.0031.046
plsr_cook_dist0.0120.0000.011
plsr_prediction_plot0.0110.0000.011
plsr_qq_plot0.0110.0000.011
plsr_residual_hist0.0100.0000.011
pqn_norm0.3340.0010.336
pqn_norm_hist0.0010.0000.001
prop_na0.0150.0010.015
r_squared0.0010.0000.001
resample0.0220.0000.022
resample_chart0.0040.0000.003
rsd_filter0.0190.0000.019
rsd_filter_hist0.0010.0000.001
run0.0270.0010.027
sb_corr0.0310.0010.031
scatter_chart0.3440.0000.344
split_data0.0130.0000.013
stratified_split0.1120.0020.115
svm_plot_2d0.7070.0040.711
tSNE0.0340.0000.034
tSNE_scatter0.0110.0010.013
tic_chart0.1980.0000.198
ttest0.020.000.02
vec_norm0.0010.0000.001
wilcox_p_hist0.0000.0010.001
wilcox_test0.0230.0000.024