Back to Multiple platform build/check report for BioC 3.21:   simplified   long
ABCDEFGHIJKLMNOPQR[S]TUVWXYZ

This page was generated on 2025-02-04 11:40 -0500 (Tue, 04 Feb 2025).

HostnameOSArch (*)R versionInstalled pkgs
nebbiolo1Linux (Ubuntu 24.04.1 LTS)x86_64R Under development (unstable) (2025-01-20 r87609) -- "Unsuffered Consequences" 4716
palomino7Windows Server 2022 Datacenterx64R Under development (unstable) (2025-01-21 r87610 ucrt) -- "Unsuffered Consequences" 4478
lconwaymacOS 12.7.1 Montereyx86_64R Under development (unstable) (2025-01-22 r87618) -- "Unsuffered Consequences" 4489
kjohnson3macOS 13.7.1 Venturaarm64R Under development (unstable) (2025-01-20 r87609) -- "Unsuffered Consequences" 4442
Click on any hostname to see more info about the system (e.g. compilers)      (*) as reported by 'uname -p', except on Windows and Mac OS X

Package 2113/2295HostnameOS / ArchINSTALLBUILDCHECKBUILD BIN
systemPipeR 2.13.0  (landing page)
Thomas Girke
Snapshot Date: 2025-02-03 13:40 -0500 (Mon, 03 Feb 2025)
git_url: https://git.bioconductor.org/packages/systemPipeR
git_branch: devel
git_last_commit: 94357f2
git_last_commit_date: 2024-10-29 09:54:41 -0500 (Tue, 29 Oct 2024)
nebbiolo1Linux (Ubuntu 24.04.1 LTS) / x86_64  OK    OK    OK  UNNEEDED, same version is already published
palomino7Windows Server 2022 Datacenter / x64  OK    OK    OK    OK  UNNEEDED, same version is already published
lconwaymacOS 12.7.1 Monterey / x86_64  OK    OK    OK    OK  UNNEEDED, same version is already published
kjohnson3macOS 13.7.1 Ventura / arm64  OK    OK    OK    OK  UNNEEDED, same version is already published


CHECK results for systemPipeR on nebbiolo1

To the developers/maintainers of the systemPipeR package:
- Allow up to 24 hours (and sometimes 48 hours) for your latest push to git@git.bioconductor.org:packages/systemPipeR.git to reflect on this report. See Troubleshooting Build Report for more information.
- Use the following Renviron settings to reproduce errors and warnings.
- If 'R CMD check' started to fail recently on the Linux builder(s) over a missing dependency, add the missing dependency to 'Suggests:' in your DESCRIPTION file. See Renviron.bioc for more information.

raw results


Summary

Package: systemPipeR
Version: 2.13.0
Command: /home/biocbuild/bbs-3.21-bioc/R/bin/R CMD check --install=check:systemPipeR.install-out.txt --library=/home/biocbuild/bbs-3.21-bioc/R/site-library --timings systemPipeR_2.13.0.tar.gz
StartedAt: 2025-02-04 03:21:33 -0500 (Tue, 04 Feb 2025)
EndedAt: 2025-02-04 03:27:50 -0500 (Tue, 04 Feb 2025)
EllapsedTime: 376.5 seconds
RetCode: 0
Status:   OK  
CheckDir: systemPipeR.Rcheck
Warnings: 0

Command output

##############################################################################
##############################################################################
###
### Running command:
###
###   /home/biocbuild/bbs-3.21-bioc/R/bin/R CMD check --install=check:systemPipeR.install-out.txt --library=/home/biocbuild/bbs-3.21-bioc/R/site-library --timings systemPipeR_2.13.0.tar.gz
###
##############################################################################
##############################################################################


* using log directory ‘/home/biocbuild/bbs-3.21-bioc/meat/systemPipeR.Rcheck’
* using R Under development (unstable) (2025-01-20 r87609)
* using platform: x86_64-pc-linux-gnu
* R was compiled by
    gcc (Ubuntu 13.3.0-6ubuntu2~24.04) 13.3.0
    GNU Fortran (Ubuntu 13.3.0-6ubuntu2~24.04) 13.3.0
* running under: Ubuntu 24.04.1 LTS
* using session charset: UTF-8
* checking for file ‘systemPipeR/DESCRIPTION’ ... OK
* checking extension type ... Package
* this is package ‘systemPipeR’ version ‘2.13.0’
* checking package namespace information ... OK
* checking package dependencies ... OK
* checking if this is a source package ... OK
* checking if there is a namespace ... OK
* checking for hidden files and directories ... NOTE
Found the following hidden files and directories:
  inst/extdata/.batchtools.conf.R
  inst/extdata/.batchtools.conf.R.sge
  inst/extdata/.batchtools.conf.R.torque
These were most likely included in error. See section ‘Package
structure’ in the ‘Writing R Extensions’ manual.
* checking for portable file names ... OK
* checking for sufficient/correct file permissions ... OK
* checking whether package ‘systemPipeR’ can be installed ... OK
* checking installed package size ... INFO
  installed size is  5.7Mb
  sub-directories of 1Mb or more:
    R         1.3Mb
    extdata   3.0Mb
* checking package directory ... OK
* checking ‘build’ directory ... OK
* checking DESCRIPTION meta-information ... OK
* checking top-level files ... OK
* checking for left-over files ... OK
* checking index information ... OK
* checking package subdirectories ... NOTE
Problems with news in ‘NEWS’:
  Cannot process chunk/lines:
    OVERVIEW
* checking code files for non-ASCII characters ... OK
* checking R files for syntax errors ... OK
* checking whether the package can be loaded ... OK
* checking whether the package can be loaded with stated dependencies ... OK
* checking whether the package can be unloaded cleanly ... OK
* checking whether the namespace can be loaded with stated dependencies ... OK
* checking whether the namespace can be unloaded cleanly ... OK
* checking loading without being on the library search path ... OK
* checking dependencies in R code ... OK
* checking S3 generic/method consistency ... OK
* checking replacement functions ... OK
* checking foreign function calls ... OK
* checking R code for possible problems ... NOTE
.cmd2cwl2: no visible global function definition for ‘ave’
.getPreprotext: no visible binding for global variable ‘.’
Undefined global functions or variables:
  . ave
Consider adding
  importFrom("stats", "ave")
to your NAMESPACE file.
* checking Rd files ... OK
* checking Rd metadata ... OK
* checking Rd cross-references ... OK
* checking for missing documentation entries ... OK
* checking for code/documentation mismatches ... OK
* checking Rd \usage sections ... OK
* checking Rd contents ... OK
* checking for unstated dependencies in examples ... OK
* checking line endings in Makefiles ... OK
* checking for GNU extensions in Makefiles ... OK
* checking include directives in Makefiles ... OK
* checking files in ‘vignettes’ ... OK
* checking examples ... OK
Examples with CPU (user + system) or elapsed time > 5s
              user system elapsed
genFeatures 26.116  1.093   27.21
run_DESeq2   9.236  0.854   10.09
* checking for unstated dependencies in ‘tests’ ... OK
* checking tests ...
  Running ‘testthat.R’
 OK
* checking for unstated dependencies in vignettes ... OK
* checking package vignettes ... OK
* checking re-building of vignette outputs ... OK
* checking PDF version of manual ... OK
* DONE

Status: 3 NOTEs
See
  ‘/home/biocbuild/bbs-3.21-bioc/meat/systemPipeR.Rcheck/00check.log’
for details.


Installation output

systemPipeR.Rcheck/00install.out

##############################################################################
##############################################################################
###
### Running command:
###
###   /home/biocbuild/bbs-3.21-bioc/R/bin/R CMD INSTALL systemPipeR
###
##############################################################################
##############################################################################


* installing to library ‘/home/biocbuild/bbs-3.21-bioc/R/site-library’
* installing *source* package ‘systemPipeR’ ...
** this is package ‘systemPipeR’ version ‘2.13.0’
** using staged installation
** R
** inst
** byte-compile and prepare package for lazy loading
** help
*** installing help indices
** building package indices
** installing vignettes
** testing if installed package can be loaded from temporary location
** testing if installed package can be loaded from final location
** testing if installed package keeps a record of temporary installation path
* DONE (systemPipeR)

Tests output

systemPipeR.Rcheck/tests/testthat.Rout


R Under development (unstable) (2025-01-20 r87609) -- "Unsuffered Consequences"
Copyright (C) 2025 The R Foundation for Statistical Computing
Platform: x86_64-pc-linux-gnu

R is free software and comes with ABSOLUTELY NO WARRANTY.
You are welcome to redistribute it under certain conditions.
Type 'license()' or 'licence()' for distribution details.

R is a collaborative project with many contributors.
Type 'contributors()' for more information and
'citation()' on how to cite R or R packages in publications.

Type 'demo()' for some demos, 'help()' for on-line help, or
'help.start()' for an HTML browser interface to help.
Type 'q()' to quit R.

> library(testthat)
> library(systemPipeR)
Loading required package: Rsamtools
Loading required package: GenomeInfoDb
Loading required package: BiocGenerics
Loading required package: generics

Attaching package: 'generics'

The following objects are masked from 'package:base':

    as.difftime, as.factor, as.ordered, intersect, is.element, setdiff,
    setequal, union


Attaching package: 'BiocGenerics'

The following objects are masked from 'package:stats':

    IQR, mad, sd, var, xtabs

The following objects are masked from 'package:base':

    Filter, Find, Map, Position, Reduce, anyDuplicated, aperm, append,
    as.data.frame, basename, cbind, colnames, dirname, do.call,
    duplicated, eval, evalq, get, grep, grepl, is.unsorted, lapply,
    mapply, match, mget, order, paste, pmax, pmax.int, pmin, pmin.int,
    rank, rbind, rownames, sapply, saveRDS, table, tapply, unique,
    unsplit, which.max, which.min

Loading required package: S4Vectors
Loading required package: stats4

Attaching package: 'S4Vectors'

The following object is masked from 'package:utils':

    findMatches

The following objects are masked from 'package:base':

    I, expand.grid, unname

Loading required package: IRanges
Loading required package: GenomicRanges
Loading required package: Biostrings
Loading required package: XVector

Attaching package: 'Biostrings'

The following object is masked from 'package:base':

    strsplit

Loading required package: ShortRead
Loading required package: BiocParallel
Loading required package: GenomicAlignments
Loading required package: SummarizedExperiment
Loading required package: MatrixGenerics
Loading required package: matrixStats

Attaching package: 'MatrixGenerics'

The following objects are masked from 'package:matrixStats':

    colAlls, colAnyNAs, colAnys, colAvgsPerRowSet, colCollapse,
    colCounts, colCummaxs, colCummins, colCumprods, colCumsums,
    colDiffs, colIQRDiffs, colIQRs, colLogSumExps, colMadDiffs,
    colMads, colMaxs, colMeans2, colMedians, colMins, colOrderStats,
    colProds, colQuantiles, colRanges, colRanks, colSdDiffs, colSds,
    colSums2, colTabulates, colVarDiffs, colVars, colWeightedMads,
    colWeightedMeans, colWeightedMedians, colWeightedSds,
    colWeightedVars, rowAlls, rowAnyNAs, rowAnys, rowAvgsPerColSet,
    rowCollapse, rowCounts, rowCummaxs, rowCummins, rowCumprods,
    rowCumsums, rowDiffs, rowIQRDiffs, rowIQRs, rowLogSumExps,
    rowMadDiffs, rowMads, rowMaxs, rowMeans2, rowMedians, rowMins,
    rowOrderStats, rowProds, rowQuantiles, rowRanges, rowRanks,
    rowSdDiffs, rowSds, rowSums2, rowTabulates, rowVarDiffs, rowVars,
    rowWeightedMads, rowWeightedMeans, rowWeightedMedians,
    rowWeightedSds, rowWeightedVars

Loading required package: Biobase
Welcome to Bioconductor

    Vignettes contain introductory material; view with
    'browseVignettes()'. To cite Bioconductor, see
    'citation("Biobase")', and for packages 'citation("pkgname")'.


Attaching package: 'Biobase'

The following object is masked from 'package:MatrixGenerics':

    rowMedians

The following objects are masked from 'package:matrixStats':

    anyMissing, rowMedians

> 
> test_check("systemPipeR")
[1] "Generated /tmp/RtmplnDxD1/rnaseq directory. Next run in rnaseq directory, the R code from *.Rmd template interactively. Alternatively, workflows can be exectued with a single command as instructed in the vignette."
[1] "Generated /tmp/RtmplnDxD1/rnaseq2 directory. Next run in rnaseq directory, the R code from *.Rmd template interactively. Alternatively, workflows can be exectued with a single command as instructed in the vignette."
Creating directory '/tmp/RtmplnDxD1/rnaseq2/.SPRproject'
Creating file '/tmp/RtmplnDxD1/rnaseq2/.SPRproject/SYSargsList.yml'
Running Step:  example 
Running Session: Management 

  |                                                                            
  |                                                                      |   0%
  |                                                                            
  |=======================                                               |  33%
  |                                                                            
  |===============================================                       |  67%
  |                                                                            
  |======================================================================| 100%
---- Summary ---- 
   Targets Total_Files Existing_Files Missing_Files example
M1      M1           1              1             0 Success
M2      M2           1              1             0 Success
M3      M3           1              1             0 Success

Step Status:  Success 
Done with workflow running, now consider rendering logs & reports
To render logs, run:    sal <- renderLogs(sal)
From command-line:      Rscript -e "sal = systemPipeR::SPRproject(resume = TRUE); sal = systemPipeR::renderLogs(sal)"
To render reports, run: sal <- renderReport(sal)
From command-line:      Rscript -e "sal= s ystemPipeR::SPRproject(resume = TRUE); sal = systemPipeR::renderReport(sal)"
This message is displayed once per R session
Running Step:  newStep 
Running Session: Management 

  |                                                                            
  |                                                                      |   0%
  |                                                                            
  |=======================                                               |  33%
  |                                                                            
  |===============================================                       |  67%
  |                                                                            
  |======================================================================| 100%
---- Summary ---- 
   Targets Total_Files Existing_Files Missing_Files example
M1      M1           1              1             0 Success
M2      M2           1              1             0 Success
M3      M3           1              1             0 Success

Step Status:  Success 
Running Step:  R_code 
Running Session: Management 

  |                                                                            
  |                                                                      |   0%
  |                                                                            
  |======================================================================| 100%
Step Status:  Warning 
[1] "Generated /tmp/RtmplnDxD1/newtest directory. Next run in new directory, the R code from *.Rmd template interactively. Alternatively, workflows can be exectued with a single command as instructed in the vignette."
Creating directory '/tmp/RtmplnDxD1/newtest/.SPRproject'
Creating file '/tmp/RtmplnDxD1/newtest/.SPRproject/SYSargsList.yml'
Reading Rmd file
Now importing step 'load_library' 
Now importing step 'export_iris' 
Now importing step 'gzip' 
Now importing step 'gunzip' 
Now importing step 'stats' 
Now back up current Rmd file as template for `renderReport`
Template for renderReport is stored at 
 /tmp/RtmplnDxD1/newtest/.SPRproject/workflow_template.Rmd 
 Edit this file manually is not recommended 
Now check if required tools are installed 
Check if they are in path:
Checking path for gzip
PASS
Checking path for gunzip
PASS
  step_name   tool in_path
1      gzip   gzip    TRUE
2    gunzip gunzip    TRUE
All required tools in PATH, skip module check. If you want to check modules use `listCmdModules`Import  done
Instance of 'LineWise'
    Code Chunk length: 1
mapply(function(x, y) write.csv(x, y), split(iris, factor(iris$Species)), file.path("results", paste0(names(split(iris, factor(iris$Species))), ".csv")))
load_library
    5 + 5
load_library
    5 + 5
    66 + 55
Running Step:  load_library 
Running Session: Management 

  |                                                                            
  |                                                                      |   0%
  |                                                                            
  |======================================================================| 100%
Step Status:  Success 
Running Step:  export_iris 
Running Session: Management 

  |                                                                            
  |                                                                      |   0%
  |                                                                            
  |======================================================================| 100%
Step Status:  Success 
Skipping Step:  gzip 
Skipping Step:  gunzip 
Skipping Step:  stats 
[ FAIL 0 | WARN 0 | SKIP 10 | PASS 47 ]

══ Skipped tests (10) ══════════════════════════════════════════════════════════
• On Bioconductor (10): 'test-01-SYSargs.R:2:1', 'test-02-SYSargs2.R:9:5',
  'test-02-SYSargs2.R:55:5', 'test-03-SYSargsList.R:63:5',
  'test-05-catDB.R:3:1', 'test-06-VENNset.R:3:1', 'test-07-features.R:3:1',
  'test-08-cmd2cwl.R:2:1', 'test-10-chipSeq.R:4:1', 'test-utilities.R:2:1'

[ FAIL 0 | WARN 0 | SKIP 10 | PASS 47 ]
> 
> proc.time()
   user  system elapsed 
 12.326   1.593  14.080 

Example timings

systemPipeR.Rcheck/systemPipeR-Ex.timings

nameusersystemelapsed
EnvModules-class0.0010.0000.001
GOHyperGAll000
INTERSECTset-class0.0050.0060.012
LineWise-class0.1300.0050.135
ParamFiles0.0740.0040.079
ParamFiles20.2330.0130.246
SPRproject0.0040.0000.004
SYSargs-class0.0150.0050.020
SYSargs2-class0.0500.0010.052
SYSargsList-class0.3760.0080.384
SYSargsList0.0790.0150.093
VENNset-class0.0040.0050.008
alignStats1.7900.0651.856
catDB-class0.0000.0010.001
catmap0.0000.0010.000
check.output1.0580.0041.062
clusterRun0.9870.0040.991
config.param000
configWF000
countRangeset0.0390.0030.042
createParamFiles0.1380.0020.140
cwlFilesUpdate0.0000.0010.000
evalCode0.0330.0030.037
featureCoverage1.0140.0151.029
featuretypeCounts0.9780.0010.979
filterDEGs1.3650.0531.418
filterVars0.0080.0010.010
genFeatures26.116 1.09327.210
importWF0.0340.0010.034
listCmdTools000
loadWorkflow3.4030.1113.513
mergeBamByFactor0.0080.0010.009
moduleload0.0010.0000.001
olBarplot0.4570.0200.477
olRanges0.1010.0030.104
output_update1.1730.0021.175
overLapper0.3360.0350.371
plotfeatureCoverage1.2080.0571.267
plotfeaturetypeCounts0.9990.0011.000
predORF0.1890.0010.190
preprocessReads0.4240.0010.426
readComp1.1640.0191.184
renderLogs3.4421.0084.467
renderReport1.5030.4871.995
returnRPKM000
runCommandline1.0290.2531.282
runDiff0.0360.0040.040
runWF0.0830.0130.097
run_DESeq2 9.236 0.85410.090
run_edgeR1.0200.0461.067
sal2bash0.4510.2710.723
sal2rmd0.6530.4001.052
scaleRanges0.1670.0390.206
seeFastq0.0000.0010.000
showDF0.0530.0090.063
subsetWF1.0730.2051.280
symLink2bam1.1620.0881.249
sysargs0.0060.0050.011
systemArgs0.0080.0030.010
targets.as.df0.0040.0010.005
trimbatch0.2550.0100.265
tryCMD000
tryPath0.0010.0000.001
variantReport0.0090.0020.010
vennPlot0.4130.0350.448
writeTargets0.0970.0120.109
writeTargetsRef0.0010.0000.001
writeTargetsout1.2230.1321.355
write_SYSargsList0.0960.0080.104