Back to Multiple platform build/check report for BioC 3.21: simplified long |
|
This page was generated on 2025-02-06 11:40 -0500 (Thu, 06 Feb 2025).
Hostname | OS | Arch (*) | R version | Installed pkgs |
---|---|---|---|---|
nebbiolo1 | Linux (Ubuntu 24.04.1 LTS) | x86_64 | R Under development (unstable) (2025-01-20 r87609) -- "Unsuffered Consequences" | 4719 |
palomino7 | Windows Server 2022 Datacenter | x64 | R Under development (unstable) (2025-01-21 r87610 ucrt) -- "Unsuffered Consequences" | 4480 |
lconway | macOS 12.7.1 Monterey | x86_64 | R Under development (unstable) (2025-01-22 r87618) -- "Unsuffered Consequences" | 4491 |
kjohnson3 | macOS 13.7.1 Ventura | arm64 | R Under development (unstable) (2025-01-20 r87609) -- "Unsuffered Consequences" | 4444 |
Click on any hostname to see more info about the system (e.g. compilers) (*) as reported by 'uname -p', except on Windows and Mac OS X |
Package 2185/2295 | Hostname | OS / Arch | INSTALL | BUILD | CHECK | BUILD BIN | ||||||||
tRanslatome 1.45.0 (landing page) Toma Tebaldi
| nebbiolo1 | Linux (Ubuntu 24.04.1 LTS) / x86_64 | OK | OK | OK | ![]() | ||||||||
palomino7 | Windows Server 2022 Datacenter / x64 | OK | OK | OK | OK | ![]() | ||||||||
lconway | macOS 12.7.1 Monterey / x86_64 | OK | OK | OK | OK | ![]() | ||||||||
kjohnson3 | macOS 13.7.1 Ventura / arm64 | OK | OK | OK | OK | ![]() | ||||||||
To the developers/maintainers of the tRanslatome package: - Allow up to 24 hours (and sometimes 48 hours) for your latest push to git@git.bioconductor.org:packages/tRanslatome.git to reflect on this report. See Troubleshooting Build Report for more information. - Use the following Renviron settings to reproduce errors and warnings. - If 'R CMD check' started to fail recently on the Linux builder(s) over a missing dependency, add the missing dependency to 'Suggests:' in your DESCRIPTION file. See Renviron.bioc for more information. |
Package: tRanslatome |
Version: 1.45.0 |
Command: /home/biocbuild/bbs-3.21-bioc/R/bin/R CMD check --install=check:tRanslatome.install-out.txt --library=/home/biocbuild/bbs-3.21-bioc/R/site-library --timings tRanslatome_1.45.0.tar.gz |
StartedAt: 2025-02-06 03:30:04 -0500 (Thu, 06 Feb 2025) |
EndedAt: 2025-02-06 03:35:53 -0500 (Thu, 06 Feb 2025) |
EllapsedTime: 349.4 seconds |
RetCode: 0 |
Status: OK |
CheckDir: tRanslatome.Rcheck |
Warnings: 0 |
############################################################################## ############################################################################## ### ### Running command: ### ### /home/biocbuild/bbs-3.21-bioc/R/bin/R CMD check --install=check:tRanslatome.install-out.txt --library=/home/biocbuild/bbs-3.21-bioc/R/site-library --timings tRanslatome_1.45.0.tar.gz ### ############################################################################## ############################################################################## * using log directory ‘/home/biocbuild/bbs-3.21-bioc/meat/tRanslatome.Rcheck’ * using R Under development (unstable) (2025-01-20 r87609) * using platform: x86_64-pc-linux-gnu * R was compiled by gcc (Ubuntu 13.3.0-6ubuntu2~24.04) 13.3.0 GNU Fortran (Ubuntu 13.3.0-6ubuntu2~24.04) 13.3.0 * running under: Ubuntu 24.04.1 LTS * using session charset: UTF-8 * checking for file ‘tRanslatome/DESCRIPTION’ ... OK * checking extension type ... Package * this is package ‘tRanslatome’ version ‘1.45.0’ * checking package namespace information ... OK * checking package dependencies ... INFO Depends: includes the non-default packages: 'limma', 'anota', 'DESeq2', 'edgeR', 'RankProd', 'topGO', 'org.Hs.eg.db', 'GOSemSim', 'Heatplus', 'gplots', 'plotrix', 'Biobase' Adding so many packages to the search path is excessive and importing selectively is preferable. * checking if this is a source package ... OK * checking if there is a namespace ... OK * checking for hidden files and directories ... OK * checking for portable file names ... OK * checking for sufficient/correct file permissions ... OK * checking whether package ‘tRanslatome’ can be installed ... OK * checking installed package size ... OK * checking package directory ... OK * checking ‘build’ directory ... OK * checking DESCRIPTION meta-information ... OK * checking top-level files ... OK * checking for left-over files ... OK * checking index information ... OK * checking package subdirectories ... OK * checking code files for non-ASCII characters ... OK * checking R files for syntax errors ... OK * checking whether the package can be loaded ... OK * checking whether the package can be loaded with stated dependencies ... OK * checking whether the package can be unloaded cleanly ... OK * checking whether the namespace can be loaded with stated dependencies ... OK * checking whether the namespace can be unloaded cleanly ... OK * checking loading without being on the library search path ... OK * checking dependencies in R code ... OK * checking S3 generic/method consistency ... OK * checking replacement functions ... OK * checking foreign function calls ... OK * checking R code for possible problems ... NOTE methodLimma: no visible global function definition for ‘lmFit’ methodTTest: no visible global function definition for ‘calcTStatFast’ GOEnrichment,DEGs: no visible global function definition for ‘toTable’ Undefined global functions or variables: calcTStatFast lmFit toTable * checking Rd files ... OK * checking Rd metadata ... OK * checking Rd cross-references ... OK * checking for missing documentation entries ... OK * checking for code/documentation mismatches ... OK * checking Rd \usage sections ... OK * checking Rd contents ... OK * checking for unstated dependencies in examples ... OK * checking contents of ‘data’ directory ... OK * checking data for non-ASCII characters ... OK * checking data for ASCII and uncompressed saves ... OK * checking files in ‘vignettes’ ... OK * checking examples ... OK Examples with CPU (user + system) or elapsed time > 5s user system elapsed GOComparison 14.182 0.659 14.845 GOEnrichment 13.204 0.235 13.441 * checking for unstated dependencies in vignettes ... OK * checking package vignettes ... OK * checking re-building of vignette outputs ... OK * checking PDF version of manual ... OK * DONE Status: 1 NOTE See ‘/home/biocbuild/bbs-3.21-bioc/meat/tRanslatome.Rcheck/00check.log’ for details.
tRanslatome.Rcheck/00install.out
############################################################################## ############################################################################## ### ### Running command: ### ### /home/biocbuild/bbs-3.21-bioc/R/bin/R CMD INSTALL tRanslatome ### ############################################################################## ############################################################################## * installing to library ‘/home/biocbuild/bbs-3.21-bioc/R/site-library’ * installing *source* package ‘tRanslatome’ ... ** this is package ‘tRanslatome’ version ‘1.45.0’ ** using staged installation ** R ** data ** byte-compile and prepare package for lazy loading groupGOTerms: GOBPTerm, GOMFTerm, GOCCTerm environments built. ** help *** installing help indices ** building package indices ** installing vignettes ** testing if installed package can be loaded from temporary location groupGOTerms: GOBPTerm, GOMFTerm, GOCCTerm environments built. ** testing if installed package can be loaded from final location groupGOTerms: GOBPTerm, GOMFTerm, GOCCTerm environments built. ** testing if installed package keeps a record of temporary installation path * DONE (tRanslatome)
tRanslatome.Rcheck/tRanslatome-Ex.timings
name | user | system | elapsed | |
CVplot | 0.098 | 0.003 | 0.101 | |
DEGs | 0.002 | 0.000 | 0.001 | |
DEGs.table | 0.086 | 0.157 | 0.243 | |
EnrichedSets | 0 | 0 | 0 | |
FC.threshold | 0.045 | 0.004 | 0.050 | |
GOComparison | 14.182 | 0.659 | 14.845 | |
GOEnrichment | 13.204 | 0.235 | 13.441 | |
GOsets | 0.000 | 0.000 | 0.001 | |
GOsims | 0.001 | 0.000 | 0.000 | |
Heatmap | 0.113 | 0.004 | 0.116 | |
Histogram | 0.055 | 0.001 | 0.056 | |
IdentityPlot | 0.048 | 0.002 | 0.050 | |
MAplot | 0.079 | 0.001 | 0.080 | |
Radar | 0.091 | 0.004 | 0.096 | |
RegulatoryEnrichment | 1.285 | 0.039 | 1.326 | |
SDplot | 0.078 | 0.003 | 0.080 | |
Scatterplot | 0.110 | 0.002 | 0.113 | |
SimilarityPlot | 0.049 | 0.003 | 0.052 | |
TranslatomeDataset | 0.001 | 0.000 | 0.001 | |
average.similarity.scores | 0.049 | 0.001 | 0.050 | |
computeDEGs | 0.207 | 0.018 | 0.226 | |
enriched.table | 0.050 | 0.003 | 0.053 | |
getConditionA | 0.049 | 0.000 | 0.049 | |
getConditionB | 0.046 | 0.002 | 0.050 | |
getConditionC | 0.050 | 0.000 | 0.051 | |
getConditionD | 0.044 | 0.006 | 0.049 | |
getConditionLabels | 0.049 | 0.000 | 0.050 | |
getDEGs | 0.049 | 0.002 | 0.051 | |
getDEGsMethod | 0.050 | 0.001 | 0.051 | |
getDataType | 0.048 | 0.003 | 0.050 | |
getExprMatrix | 0.065 | 0.082 | 0.147 | |
getLevelLabels | 0.045 | 0.004 | 0.050 | |
identity.matrix | 0.049 | 0.002 | 0.051 | |
label.condition | 0.049 | 0.002 | 0.050 | |
label.level.DEGs | 0.05 | 0.00 | 0.05 | |
label.level.enriched | 0.049 | 0.000 | 0.050 | |
newTranslatomeDataset | 0.048 | 0.005 | 0.051 | |
significance.threshold | 0.045 | 0.004 | 0.050 | |
similarity.matrix | 0.051 | 0.001 | 0.051 | |
tRanslatomeSampleData | 0.047 | 0.003 | 0.050 | |