Back to Multiple platform build/check report for BioC 3.21:   simplified   long
ABCDEFGHIJKLMNOPQRS[T]UVWXYZ

This page was generated on 2025-02-04 11:40 -0500 (Tue, 04 Feb 2025).

HostnameOSArch (*)R versionInstalled pkgs
nebbiolo1Linux (Ubuntu 24.04.1 LTS)x86_64R Under development (unstable) (2025-01-20 r87609) -- "Unsuffered Consequences" 4716
palomino7Windows Server 2022 Datacenterx64R Under development (unstable) (2025-01-21 r87610 ucrt) -- "Unsuffered Consequences" 4478
lconwaymacOS 12.7.1 Montereyx86_64R Under development (unstable) (2025-01-22 r87618) -- "Unsuffered Consequences" 4489
kjohnson3macOS 13.7.1 Venturaarm64R Under development (unstable) (2025-01-20 r87609) -- "Unsuffered Consequences" 4442
Click on any hostname to see more info about the system (e.g. compilers)      (*) as reported by 'uname -p', except on Windows and Mac OS X

Package 2150/2295HostnameOS / ArchINSTALLBUILDCHECKBUILD BIN
tidytof 1.1.0  (landing page)
Timothy Keyes
Snapshot Date: 2025-02-03 13:40 -0500 (Mon, 03 Feb 2025)
git_url: https://git.bioconductor.org/packages/tidytof
git_branch: devel
git_last_commit: 3ca5f4a
git_last_commit_date: 2024-10-29 11:33:26 -0500 (Tue, 29 Oct 2024)
nebbiolo1Linux (Ubuntu 24.04.1 LTS) / x86_64  OK    OK    OK  UNNEEDED, same version is already published
palomino7Windows Server 2022 Datacenter / x64  OK    OK    OK    OK  UNNEEDED, same version is already published
lconwaymacOS 12.7.1 Monterey / x86_64  OK    OK    OK    OK  UNNEEDED, same version is already published
kjohnson3macOS 13.7.1 Ventura / arm64  OK    OK    OK    OK  UNNEEDED, same version is already published


CHECK results for tidytof on nebbiolo1

To the developers/maintainers of the tidytof package:
- Allow up to 24 hours (and sometimes 48 hours) for your latest push to git@git.bioconductor.org:packages/tidytof.git to reflect on this report. See Troubleshooting Build Report for more information.
- Use the following Renviron settings to reproduce errors and warnings.
- If 'R CMD check' started to fail recently on the Linux builder(s) over a missing dependency, add the missing dependency to 'Suggests:' in your DESCRIPTION file. See Renviron.bioc for more information.

raw results


Summary

Package: tidytof
Version: 1.1.0
Command: /home/biocbuild/bbs-3.21-bioc/R/bin/R CMD check --install=check:tidytof.install-out.txt --library=/home/biocbuild/bbs-3.21-bioc/R/site-library --timings tidytof_1.1.0.tar.gz
StartedAt: 2025-02-04 03:28:09 -0500 (Tue, 04 Feb 2025)
EndedAt: 2025-02-04 03:39:55 -0500 (Tue, 04 Feb 2025)
EllapsedTime: 705.9 seconds
RetCode: 0
Status:   OK  
CheckDir: tidytof.Rcheck
Warnings: 0

Command output

##############################################################################
##############################################################################
###
### Running command:
###
###   /home/biocbuild/bbs-3.21-bioc/R/bin/R CMD check --install=check:tidytof.install-out.txt --library=/home/biocbuild/bbs-3.21-bioc/R/site-library --timings tidytof_1.1.0.tar.gz
###
##############################################################################
##############################################################################


* using log directory ‘/home/biocbuild/bbs-3.21-bioc/meat/tidytof.Rcheck’
* using R Under development (unstable) (2025-01-20 r87609)
* using platform: x86_64-pc-linux-gnu
* R was compiled by
    gcc (Ubuntu 13.3.0-6ubuntu2~24.04) 13.3.0
    GNU Fortran (Ubuntu 13.3.0-6ubuntu2~24.04) 13.3.0
* running under: Ubuntu 24.04.1 LTS
* using session charset: UTF-8
* checking for file ‘tidytof/DESCRIPTION’ ... OK
* checking extension type ... Package
* this is package ‘tidytof’ version ‘1.1.0’
* package encoding: UTF-8
* checking package namespace information ... OK
* checking package dependencies ... OK
* checking if this is a source package ... OK
* checking if there is a namespace ... OK
* checking for hidden files and directories ... OK
* checking for portable file names ... OK
* checking for sufficient/correct file permissions ... OK
* checking whether package ‘tidytof’ can be installed ... OK
* used C++ compiler: ‘g++ (Ubuntu 13.3.0-6ubuntu2~24.04) 13.3.0’
* checking installed package size ... OK
* checking package directory ... OK
* checking ‘build’ directory ... OK
* checking DESCRIPTION meta-information ... OK
* checking top-level files ... OK
* checking for left-over files ... OK
* checking index information ... OK
* checking package subdirectories ... OK
* checking code files for non-ASCII characters ... OK
* checking R files for syntax errors ... OK
* checking whether the package can be loaded ... OK
* checking whether the package can be loaded with stated dependencies ... OK
* checking whether the package can be unloaded cleanly ... OK
* checking whether the namespace can be loaded with stated dependencies ... OK
* checking whether the namespace can be unloaded cleanly ... OK
* checking loading without being on the library search path ... OK
* checking dependencies in R code ... OK
* checking S3 generic/method consistency ... OK
* checking replacement functions ... OK
* checking foreign function calls ... OK
* checking R code for possible problems ... OK
* checking Rd files ... OK
* checking Rd metadata ... OK
* checking Rd cross-references ... OK
* checking for missing documentation entries ... OK
* checking for code/documentation mismatches ... OK
* checking Rd \usage sections ... OK
* checking Rd contents ... OK
* checking for unstated dependencies in examples ... OK
* checking contents of ‘data’ directory ... OK
* checking data for non-ASCII characters ... OK
* checking data for ASCII and uncompressed saves ... OK
* checking R/sysdata.rda ... OK
* checking line endings in C/C++/Fortran sources/headers ... OK
* checking compiled code ... NOTE
Note: information on .o files is not available
* checking files in ‘vignettes’ ... OK
* checking examples ... OK
Examples with CPU (user + system) or elapsed time > 5s
                         user system elapsed
tof_assess_clusters_knn 7.446  0.114   7.562
* checking for unstated dependencies in ‘tests’ ... OK
* checking tests ...
  Running ‘spelling.R’
  Running ‘testthat.R’
 OK
* checking for unstated dependencies in vignettes ... OK
* checking package vignettes ... OK
* checking re-building of vignette outputs ... OK
* checking PDF version of manual ... OK
* DONE

Status: 1 NOTE
See
  ‘/home/biocbuild/bbs-3.21-bioc/meat/tidytof.Rcheck/00check.log’
for details.


Installation output

tidytof.Rcheck/00install.out

##############################################################################
##############################################################################
###
### Running command:
###
###   /home/biocbuild/bbs-3.21-bioc/R/bin/R CMD INSTALL tidytof
###
##############################################################################
##############################################################################


* installing to library ‘/home/biocbuild/bbs-3.21-bioc/R/site-library’
* installing *source* package ‘tidytof’ ...
** this is package ‘tidytof’ version ‘1.1.0’
** using staged installation
** libs
using C++ compiler: ‘g++ (Ubuntu 13.3.0-6ubuntu2~24.04) 13.3.0’
g++ -std=gnu++17 -I"/home/biocbuild/bbs-3.21-bioc/R/include" -DNDEBUG  -I'/home/biocbuild/bbs-3.21-bioc/R/site-library/Rcpp/include' -I/usr/local/include    -fpic  -g -O2  -DR_NO_REMAP -c RcppExports.cpp -o RcppExports.o
g++ -std=gnu++17 -I"/home/biocbuild/bbs-3.21-bioc/R/include" -DNDEBUG  -I'/home/biocbuild/bbs-3.21-bioc/R/site-library/Rcpp/include' -I/usr/local/include    -fpic  -g -O2  -DR_NO_REMAP -c code.cpp -o code.o
g++ -std=gnu++17 -shared -L/home/biocbuild/bbs-3.21-bioc/R/lib -L/usr/local/lib -o tidytof.so RcppExports.o code.o -L/home/biocbuild/bbs-3.21-bioc/R/lib -lR
installing to /home/biocbuild/bbs-3.21-bioc/R/site-library/00LOCK-tidytof/00new/tidytof/libs
** R
** data
** inst
** byte-compile and prepare package for lazy loading
** help
*** installing help indices
*** copying figures
** building package indices
** installing vignettes
** testing if installed package can be loaded from temporary location
** checking absolute paths in shared objects and dynamic libraries
** testing if installed package can be loaded from final location
** testing if installed package keeps a record of temporary installation path
* DONE (tidytof)

Tests output

tidytof.Rcheck/tests/spelling.Rout


R Under development (unstable) (2025-01-20 r87609) -- "Unsuffered Consequences"
Copyright (C) 2025 The R Foundation for Statistical Computing
Platform: x86_64-pc-linux-gnu

R is free software and comes with ABSOLUTELY NO WARRANTY.
You are welcome to redistribute it under certain conditions.
Type 'license()' or 'licence()' for distribution details.

R is a collaborative project with many contributors.
Type 'contributors()' for more information and
'citation()' on how to cite R or R packages in publications.

Type 'demo()' for some demos, 'help()' for on-line help, or
'help.start()' for an HTML browser interface to help.
Type 'q()' to quit R.

> if (requireNamespace("spelling", quietly = TRUE)) {
+     spelling::spell_check_test(
+         vignettes = TRUE, error = FALSE,
+         skip_on_cran = TRUE
+     )
+ }
NULL
> 
> proc.time()
   user  system elapsed 
  0.146   0.031   0.165 

tidytof.Rcheck/tests/testthat.Rout


R Under development (unstable) (2025-01-20 r87609) -- "Unsuffered Consequences"
Copyright (C) 2025 The R Foundation for Statistical Computing
Platform: x86_64-pc-linux-gnu

R is free software and comes with ABSOLUTELY NO WARRANTY.
You are welcome to redistribute it under certain conditions.
Type 'license()' or 'licence()' for distribution details.

R is a collaborative project with many contributors.
Type 'contributors()' for more information and
'citation()' on how to cite R or R packages in publications.

Type 'demo()' for some demos, 'help()' for on-line help, or
'help.start()' for an HTML browser interface to help.
Type 'q()' to quit R.

> Sys.setenv(R_TESTS="")
> library(testthat)
> library(tidytof)

Attaching package: 'tidytof'

The following object is masked from 'package:testthat':

    matches

> test_check("tidytof")

Attaching package: 'dplyr'

The following object is masked from 'package:testthat':

    matches

The following objects are masked from 'package:stats':

    filter, lag

The following objects are masked from 'package:base':

    intersect, setdiff, setequal, union


Attaching package: 'purrr'

The following object is masked from 'package:testthat':

    is_null


Attaching package: 'tidyr'

The following object is masked from 'package:testthat':

    matches

Loading required namespace: diffcyt

Attaching package: 'readr'

The following objects are masked from 'package:testthat':

    edition_get, local_edition

[ FAIL 0 | WARN 0 | SKIP 0 | PASS 709 ]
> 
> proc.time()
   user  system elapsed 
196.412   3.735 197.775 

Example timings

tidytof.Rcheck/tidytof-Ex.timings

nameusersystemelapsed
as_SingleCellExperiment000
as_flowFrame0.0000.0000.001
as_flowSet0.0010.0000.000
as_seurat000
as_tof_tbl0.0480.0060.054
make_flowcore_annotated_data_frame000
reexports000
rev_asinh0.0010.0000.000
tidytof_example_data0.0020.0010.002
tof_analyze_abundance0.0010.0000.000
tof_analyze_abundance_diffcyt0.0000.0010.001
tof_analyze_abundance_glmm000
tof_analyze_abundance_ttest000
tof_analyze_expression0.0000.0010.001
tof_analyze_expression_diffcyt000
tof_analyze_expression_lmm000
tof_analyze_expression_ttest0.0000.0010.001
tof_annotate_clusters0.0920.0170.109
tof_apply_classifier000
tof_assess_channels0.0800.0090.089
tof_assess_clusters_distance0.3990.0540.453
tof_assess_clusters_entropy0.6400.0380.678
tof_assess_clusters_knn7.4460.1147.562
tof_assess_flow_rate0.6480.0360.684
tof_assess_flow_rate_tibble0.1620.0030.166
tof_assess_model0.2940.0030.298
tof_batch_correct000
tof_batch_correct_quantile000
tof_batch_correct_quantile_tibble000
tof_batch_correct_rescale0.0000.0010.001
tof_calculate_flow_rate0.0120.0000.013
tof_cluster0.4030.0150.418
tof_cluster_ddpr0.1560.0060.162
tof_cluster_flowsom4.4560.0874.544
tof_cluster_kmeans0.0320.0000.032
tof_cluster_phenograph1.3870.0021.389
tof_cosine_dist000
tof_create_grid0.0450.0000.046
tof_downsample0.1520.0000.152
tof_downsample_constant0.0550.0040.059
tof_downsample_density0.5510.0080.558
tof_downsample_prop0.0740.0030.077
tof_estimate_density0.4140.0080.422
tof_extract_central_tendency0.1580.0000.159
tof_extract_emd0.8030.0280.831
tof_extract_features0.5220.0050.527
tof_extract_jsd0.8780.0280.906
tof_extract_proportion0.1100.0000.109
tof_extract_threshold0.1370.0000.138
tof_find_knn0.1920.2330.426
tof_generate_palette000
tof_get_model_mixture0.2110.0030.214
tof_get_model_outcomes0.1950.0000.195
tof_get_model_penalty0.1990.0010.200
tof_get_model_training_data0.2230.0010.224
tof_get_model_type0.1960.0000.196
tof_get_model_x0.2230.0020.226
tof_get_model_y0.2030.0010.205
tof_get_panel0.0350.0030.038
tof_log_rank_test000
tof_make_knn_graph000
tof_make_roc_curve0.2990.0020.301
tof_metacluster0.6440.0070.651
tof_metacluster_consensus0.2380.0080.246
tof_metacluster_flowsom1.0540.0181.072
tof_metacluster_hierarchical0.0480.0020.050
tof_metacluster_kmeans0.050.000.05
tof_metacluster_phenograph0.0670.0000.067
tof_plot_cells_density0.0420.0000.042
tof_plot_cells_embedding3.5970.0033.603
tof_plot_cells_layout2.730.002.73
tof_plot_cells_scatter0.0020.0000.002
tof_plot_clusters_heatmap0.0520.0000.052
tof_plot_clusters_mst0.1790.0010.180
tof_plot_clusters_volcano0.0280.0020.031
tof_plot_model0.5310.0020.533
tof_plot_sample_features0.0890.0010.089
tof_plot_sample_heatmap0.0450.0010.045
tof_postprocess0.0860.0010.086
tof_predict0.2270.0000.227
tof_preprocess0.1470.0000.147
tof_read_data0.0710.0000.071
tof_reduce_dimensions2.0570.0122.067
tof_reduce_pca0.1330.0010.134
tof_reduce_tsne0.9340.0020.936
tof_reduce_umap3.3430.0833.397
tof_set_panel0.0700.0010.071
tof_spade_density0.5140.0070.521
tof_split_data0.0430.0000.043
tof_split_tidytof_reduced_dimensions000
tof_train_model1.6780.0021.681
tof_transform0.1330.0010.135
tof_upsample0.2230.0000.224
tof_upsample_distance0.3110.0020.314
tof_upsample_neighbor0.0550.0030.058
tof_write_data000
tof_write_fcs0.0000.0000.001
where0.0010.0000.000