Back to Multiple platform build/check report for BioC 3.21:   simplified   long
ABCDEFGHIJKLMNOPQRSTU[V]WXYZ

This page was generated on 2025-02-10 11:42 -0500 (Mon, 10 Feb 2025).

HostnameOSArch (*)R versionInstalled pkgs
nebbiolo1Linux (Ubuntu 24.04.1 LTS)x86_64R Under development (unstable) (2025-01-20 r87609) -- "Unsuffered Consequences" 4719
palomino7Windows Server 2022 Datacenterx64R Under development (unstable) (2025-01-21 r87610 ucrt) -- "Unsuffered Consequences" 4480
lconwaymacOS 12.7.1 Montereyx86_64R Under development (unstable) (2025-01-22 r87618) -- "Unsuffered Consequences" 4491
kjohnson3macOS 13.7.1 Venturaarm64R Under development (unstable) (2025-01-20 r87609) -- "Unsuffered Consequences" 4444
Click on any hostname to see more info about the system (e.g. compilers)      (*) as reported by 'uname -p', except on Windows and Mac OS X

Package 2239/2295HostnameOS / ArchINSTALLBUILDCHECKBUILD BIN
variancePartition 1.37.2  (landing page)
Gabriel E. Hoffman
Snapshot Date: 2025-02-09 13:40 -0500 (Sun, 09 Feb 2025)
git_url: https://git.bioconductor.org/packages/variancePartition
git_branch: devel
git_last_commit: ccb5903
git_last_commit_date: 2025-01-07 11:43:51 -0500 (Tue, 07 Jan 2025)
nebbiolo1Linux (Ubuntu 24.04.1 LTS) / x86_64  OK    OK    OK  UNNEEDED, same version is already published
palomino7Windows Server 2022 Datacenter / x64  OK    OK    OK    OK  UNNEEDED, same version is already published
lconwaymacOS 12.7.1 Monterey / x86_64  OK    OK    OK    OK  UNNEEDED, same version is already published
kjohnson3macOS 13.7.1 Ventura / arm64  OK    OK    OK    OK  UNNEEDED, same version is already published


CHECK results for variancePartition on palomino7

To the developers/maintainers of the variancePartition package:
- Allow up to 24 hours (and sometimes 48 hours) for your latest push to git@git.bioconductor.org:packages/variancePartition.git to reflect on this report. See Troubleshooting Build Report for more information.
- Use the following Renviron settings to reproduce errors and warnings.
- If 'R CMD check' started to fail recently on the Linux builder(s) over a missing dependency, add the missing dependency to 'Suggests:' in your DESCRIPTION file. See Renviron.bioc for more information.

raw results


Summary

Package: variancePartition
Version: 1.37.2
Command: E:\biocbuild\bbs-3.21-bioc\R\bin\R.exe CMD check --no-multiarch --install=check:variancePartition.install-out.txt --library=E:\biocbuild\bbs-3.21-bioc\R\library --no-vignettes --timings variancePartition_1.37.2.tar.gz
StartedAt: 2025-02-10 06:28:13 -0500 (Mon, 10 Feb 2025)
EndedAt: 2025-02-10 06:38:09 -0500 (Mon, 10 Feb 2025)
EllapsedTime: 596.4 seconds
RetCode: 0
Status:   OK  
CheckDir: variancePartition.Rcheck
Warnings: 0

Command output

##############################################################################
##############################################################################
###
### Running command:
###
###   E:\biocbuild\bbs-3.21-bioc\R\bin\R.exe CMD check --no-multiarch --install=check:variancePartition.install-out.txt --library=E:\biocbuild\bbs-3.21-bioc\R\library --no-vignettes --timings variancePartition_1.37.2.tar.gz
###
##############################################################################
##############################################################################


* using log directory 'E:/biocbuild/bbs-3.21-bioc/meat/variancePartition.Rcheck'
* using R Under development (unstable) (2025-01-21 r87610 ucrt)
* using platform: x86_64-w64-mingw32
* R was compiled by
    gcc.exe (GCC) 13.3.0
    GNU Fortran (GCC) 13.3.0
* running under: Windows Server 2022 x64 (build 20348)
* using session charset: UTF-8
* using option '--no-vignettes'
* checking for file 'variancePartition/DESCRIPTION' ... OK
* checking extension type ... Package
* this is package 'variancePartition' version '1.37.2'
* package encoding: UTF-8
* checking package namespace information ... OK
* checking package dependencies ... OK
* checking if this is a source package ... OK
* checking if there is a namespace ... OK
* checking for hidden files and directories ... OK
* checking for portable file names ... OK
* checking whether package 'variancePartition' can be installed ... OK
* checking installed package size ... OK
* checking package directory ... OK
* checking 'build' directory ... OK
* checking DESCRIPTION meta-information ... OK
* checking top-level files ... OK
* checking for left-over files ... OK
* checking index information ... OK
* checking package subdirectories ... OK
* checking code files for non-ASCII characters ... OK
* checking R files for syntax errors ... OK
* checking whether the package can be loaded ... OK
* checking whether the package can be loaded with stated dependencies ... OK
* checking whether the package can be unloaded cleanly ... OK
* checking whether the namespace can be loaded with stated dependencies ... OK
* checking whether the namespace can be unloaded cleanly ... OK
* checking dependencies in R code ... NOTE
Unexported object imported by a ':::' call: 'lmerTest:::as_lmerModLT'
  See the note in ?`:::` about the use of this operator.
* checking S3 generic/method consistency ... OK
* checking replacement functions ... OK
* checking foreign function calls ... OK
* checking R code for possible problems ... OK
* checking Rd files ... OK
* checking Rd metadata ... OK
* checking Rd cross-references ... OK
* checking for missing documentation entries ... OK
* checking for code/documentation mismatches ... OK
* checking Rd \usage sections ... NOTE
S3 methods shown with full name in Rd file 'residuals.MArrayLM2.Rd':
  'residuals.MArrayLM2'

The \usage entries for S3 methods should use the \method markup and not
their full name.
See chapter 'Writing R documentation files' in the 'Writing R
Extensions' manual.
* checking Rd contents ... OK
* checking for unstated dependencies in examples ... OK
* checking contents of 'data' directory ... OK
* checking data for non-ASCII characters ... OK
* checking data for ASCII and uncompressed saves ... OK
* checking files in 'vignettes' ... NOTE
The following directory looks like a leftover from 'knitr':
  'figure'
Please remove from your package.
* checking examples ... OK
Examples with CPU (user + system) or elapsed time > 5s
                                user system elapsed
fitVarPartModel-method         36.57   0.32   36.89
fitExtractVarPartModel-method  27.73   0.22   28.04
getTreat-method                24.69   0.26   24.96
plotCompareP-method            20.14   0.11   20.27
extractVarPart                 17.78   0.12   17.91
varPartConfInf                 12.00   0.08   12.08
plotVarPart-method              9.78   0.11    9.90
plotPercentBars-method          9.42   0.11    9.53
sortCols-method                 9.04   0.09    9.14
residuals-VarParFitList-method  8.34   0.05    8.41
mvTest-method                   7.16   0.16   16.66
dream-method                    3.69   0.09   14.78
* checking for unstated dependencies in 'tests' ... OK
* checking tests ...
  Running 'runTests.R'
 OK
* checking for unstated dependencies in vignettes ... OK
* checking package vignettes ... OK
* checking running R code from vignettes ... SKIPPED
* checking re-building of vignette outputs ... SKIPPED
* checking PDF version of manual ... OK
* DONE

Status: 3 NOTEs
See
  'E:/biocbuild/bbs-3.21-bioc/meat/variancePartition.Rcheck/00check.log'
for details.


Installation output

variancePartition.Rcheck/00install.out

##############################################################################
##############################################################################
###
### Running command:
###
###   E:\biocbuild\bbs-3.21-bioc\R\bin\R.exe CMD INSTALL variancePartition
###
##############################################################################
##############################################################################


* installing to library 'E:/biocbuild/bbs-3.21-bioc/R/library'
* installing *source* package 'variancePartition' ...
** this is package 'variancePartition' version '1.37.2'
** using staged installation
** R
** data
** inst
** byte-compile and prepare package for lazy loading
in method for 'calcVarPart' with signature '"negbin"': no definition for class "negbin"
in method for 'checkModelStatus' with signature '"negbin"': no definition for class "negbin"
Creating a new generic function for 'classifyTestsF' in package 'variancePartition'
Creating a new generic function for 'topTable' in package 'variancePartition'
** help
Loading required namespace: variancePartition
*** installing help indices
*** copying figures
** building package indices
** installing vignettes
** testing if installed package can be loaded from temporary location
** testing if installed package can be loaded from final location
** testing if installed package keeps a record of temporary installation path
* DONE (variancePartition)

Tests output

variancePartition.Rcheck/tests/runTests.Rout


R Under development (unstable) (2025-01-21 r87610 ucrt) -- "Unsuffered Consequences"
Copyright (C) 2025 The R Foundation for Statistical Computing
Platform: x86_64-w64-mingw32/x64

R is free software and comes with ABSOLUTELY NO WARRANTY.
You are welcome to redistribute it under certain conditions.
Type 'license()' or 'licence()' for distribution details.

R is a collaborative project with many contributors.
Type 'contributors()' for more information and
'citation()' on how to cite R or R packages in publications.

Type 'demo()' for some demos, 'help()' for on-line help, or
'help.start()' for an HTML browser interface to help.
Type 'q()' to quit R.

> BiocGenerics:::testPackage("variancePartition")

Attaching package: 'variancePartition'

The following object is masked from 'package:limma':

    topTable

Loading required package: lme4
Loading required package: Matrix

Attaching package: 'lmerTest'

The following object is masked from 'package:lme4':

    lmer

The following object is masked from 'package:stats':

    step

boundary (singular) fit: see help('isSingular')
boundary (singular) fit: see help('isSingular')
Removing intercept from test coefficients
Removing intercept from test coefficients
boundary (singular) fit: see help('isSingular')
boundary (singular) fit: see help('isSingular')
boundary (singular) fit: see help('isSingular')
boundary (singular) fit: see help('isSingular')
boundary (singular) fit: see help('isSingular')
boundary (singular) fit: see help('isSingular')
boundary (singular) fit: see help('isSingular')
boundary (singular) fit: see help('isSingular')
boundary (singular) fit: see help('isSingular')
boundary (singular) fit: see help('isSingular')
boundary (singular) fit: see help('isSingular')
boundary (singular) fit: see help('isSingular')
boundary (singular) fit: see help('isSingular')
boundary (singular) fit: see help('isSingular')
boundary (singular) fit: see help('isSingular')
boundary (singular) fit: see help('isSingular')
boundary (singular) fit: see help('isSingular')
boundary (singular) fit: see help('isSingular')
Removing intercept from test coefficients
Removing intercept from test coefficients
Loading required package: Rcpp
Loading required package: RcppZiggurat
Loading required package: RcppParallel

Attaching package: 'RcppParallel'

The following object is masked from 'package:Rcpp':

    LdFlags


Rfast: 2.1.4
 ___ __ __ __ __    __ __ __ __ __ _             _               __ __ __ __ __     __ __ __ __ __ __   
|  __ __ __ __  |  |  __ __ __ __ _/            / \             |  __ __ __ __ /   /__ __ _   _ __ __\  
| |           | |  | |                         / _ \            | |                        / /          
| |           | |  | |                        / / \ \           | |                       / /          
| |           | |  | |                       / /   \ \          | |                      / /          
| |__ __ __ __| |  | |__ __ __ __           / /     \ \         | |__ __ __ __ _        / /__/\          
|    __ __ __ __|  |  __ __ __ __|         / /__ _ __\ \        |_ __ __ __ _   |      / ___  /           
|   \              | |                    / _ _ _ _ _ _ \                     | |      \/  / /       
| |\ \             | |                   / /           \ \                    | |         / /          
| | \ \            | |                  / /             \ \                   | |        / /          
| |  \ \           | |                 / /               \ \                  | |       / /          
| |   \ \__ __ _   | |                / /                 \ \     _ __ __ __ _| |      / /          
|_|    \__ __ __\  |_|               /_/                   \_\   /_ __ __ __ ___|      \/             team

Attaching package: 'Rfast'

The following object is masked from 'package:edgeR':

    gini

Warning: 
Variables contain NA's: Disease 
Samples with missing data will be dropped.



RUNIT TEST PROTOCOL -- Mon Feb 10 06:37:57 2025 
*********************************************** 
Number of test functions: 30 
Number of errors: 0 
Number of failures: 0 

 
1 Test Suite : 
variancePartition RUnit Tests - 30 test functions, 0 errors, 0 failures
Number of test functions: 30 
Number of errors: 0 
Number of failures: 0 
There were 29 warnings (use warnings() to see them)
> 
> proc.time()
   user  system elapsed 
 197.45    4.59  254.35 

Example timings

variancePartition.Rcheck/variancePartition-Ex.timings

nameusersystemelapsed
ESS-method0.150.010.39
as.data.frame.varPartResults0.370.020.39
as.matrix-varPartResults-method0.280.000.28
augmentPriorCount0.770.080.84
calcVarPart-method0.040.010.07
canCorPairs0.080.000.08
colinearityScore0.450.000.45
deviation-method1.380.081.45
diffVar-method1.450.101.55
dream-method 3.69 0.0914.78
extractVarPart17.78 0.1217.91
fitExtractVarPartModel-method27.73 0.2228.04
fitVarPartModel-method36.57 0.3236.89
getContrast-method0.010.000.02
getTreat-method24.69 0.2624.96
get_prediction-method0.090.000.14
ggColorHue000
makeContrastsDream1.640.031.67
mvTest-method 7.16 0.1616.66
plotCompareP-method20.14 0.1120.27
plotContrasts0.220.000.22
plotCorrMatrix0.070.000.07
plotCorrStructure0.910.050.96
plotPercentBars-method9.420.119.53
plotStratify0.860.000.86
plotStratifyBy0.940.000.94
plotVarPart-method9.780.119.90
rdf0.030.000.03
rdf.merMod0.080.000.08
residuals-VarParFitList-method8.340.058.41
sortCols-method9.040.099.14
varPartConfInf12.00 0.0812.08
vcovSqrt-method0.010.000.01
voomWithDreamWeights3.450.043.50