Back to Multiple platform build/check report for BioC 3.21: simplified long |
|
This page was generated on 2025-02-04 11:42 -0500 (Tue, 04 Feb 2025).
Hostname | OS | Arch (*) | R version | Installed pkgs |
---|---|---|---|---|
nebbiolo1 | Linux (Ubuntu 24.04.1 LTS) | x86_64 | R Under development (unstable) (2025-01-20 r87609) -- "Unsuffered Consequences" | 4716 |
palomino7 | Windows Server 2022 Datacenter | x64 | R Under development (unstable) (2025-01-21 r87610 ucrt) -- "Unsuffered Consequences" | 4478 |
lconway | macOS 12.7.1 Monterey | x86_64 | R Under development (unstable) (2025-01-22 r87618) -- "Unsuffered Consequences" | 4489 |
kjohnson3 | macOS 13.7.1 Ventura | arm64 | R Under development (unstable) (2025-01-20 r87609) -- "Unsuffered Consequences" | 4442 |
Click on any hostname to see more info about the system (e.g. compilers) (*) as reported by 'uname -p', except on Windows and Mac OS X |
Package 2266/2295 | Hostname | OS / Arch | INSTALL | BUILD | CHECK | BUILD BIN | ||||||||
wateRmelon 2.13.0 (landing page) Leo C Schalkwyk
| nebbiolo1 | Linux (Ubuntu 24.04.1 LTS) / x86_64 | OK | OK | WARNINGS | |||||||||
palomino7 | Windows Server 2022 Datacenter / x64 | OK | OK | WARNINGS | OK | |||||||||
lconway | macOS 12.7.1 Monterey / x86_64 | OK | OK | WARNINGS | OK | |||||||||
kjohnson3 | macOS 13.7.1 Ventura / arm64 | OK | OK | WARNINGS | OK | |||||||||
To the developers/maintainers of the wateRmelon package: - Allow up to 24 hours (and sometimes 48 hours) for your latest push to git@git.bioconductor.org:packages/wateRmelon.git to reflect on this report. See Troubleshooting Build Report for more information. - Use the following Renviron settings to reproduce errors and warnings. - If 'R CMD check' started to fail recently on the Linux builder(s) over a missing dependency, add the missing dependency to 'Suggests:' in your DESCRIPTION file. See Renviron.bioc for more information. |
Package: wateRmelon |
Version: 2.13.0 |
Command: rm -rf wateRmelon.buildbin-libdir && mkdir wateRmelon.buildbin-libdir && E:\biocbuild\bbs-3.21-bioc\R\bin\R.exe CMD INSTALL --build --library=wateRmelon.buildbin-libdir wateRmelon_2.13.0.tar.gz |
StartedAt: 2025-02-04 09:10:16 -0500 (Tue, 04 Feb 2025) |
EndedAt: 2025-02-04 09:12:12 -0500 (Tue, 04 Feb 2025) |
EllapsedTime: 115.2 seconds |
RetCode: 0 |
Status: OK |
PackageFile: wateRmelon_2.13.0.zip |
PackageFileSize: 3.642 MiB |
############################################################################## ############################################################################## ### ### Running command: ### ### rm -rf wateRmelon.buildbin-libdir && mkdir wateRmelon.buildbin-libdir && E:\biocbuild\bbs-3.21-bioc\R\bin\R.exe CMD INSTALL --build --library=wateRmelon.buildbin-libdir wateRmelon_2.13.0.tar.gz ### ############################################################################## ############################################################################## * installing *source* package 'wateRmelon' ... ** this is package 'wateRmelon' version '2.13.0' ** using staged installation ** R ** data ** inst ** byte-compile and prepare package for lazy loading No methods found in package 'RSQLite' for request: 'dbListFields' when loading 'lumi' Creating a generic function from function 'as.methylumi' in package 'wateRmelon' Creating a generic function from function 'smokp' in package 'wateRmelon' Creating a generic function from function 'adjustedDasen' in package 'wateRmelon' ** help *** installing help indices ** building package indices ** installing vignettes ** testing if installed package can be loaded from temporary location No methods found in package 'RSQLite' for request: 'dbListFields' when loading 'lumi' ** testing if installed package can be loaded from final location No methods found in package 'RSQLite' for request: 'dbListFields' when loading 'lumi' ** testing if installed package keeps a record of temporary installation path * MD5 sums packaged installation of 'wateRmelon' as wateRmelon_2.13.0.zip * DONE (wateRmelon)