##############################################################################
##############################################################################
###
### Running command:
###
### /home/biocbuild/bbs-3.21-bioc/R/bin/R CMD INSTALL wppi
###
##############################################################################
##############################################################################
* installing to library ‘/home/biocbuild/bbs-3.21-bioc/R/site-library’
* installing *source* package ‘wppi’ ...
** this is package ‘wppi’ version ‘1.15.0’
** using staged installation
** R
** byte-compile and prepare package for lazy loading
[2025-02-05 15:09:22] [TRACE] [OmnipathR] Reading JSON from `/home/biocbuild/.cache/OmnipathR/cache.json` (encoding: UTF-8).
[2025-02-05 15:09:22] [TRACE] [OmnipathR] JSON validation successful: TRUE
[2025-02-05 15:09:22] [INFO] [OmnipathR] Initialized cache: `/home/biocbuild/.cache/OmnipathR`.
[2025-02-05 15:09:22] [INFO] [OmnipathR] Package `OmnipathR` packaged: NA
[2025-02-05 15:09:22] [INFO] [OmnipathR] Package `OmnipathR` date/publication: 2025-02-05
[2025-02-05 15:09:22] [INFO] [OmnipathR] Package `OmnipathR` built: R 4.5.0; ; 2025-02-05 20:09:02 UTC; unix
[2025-02-05 15:09:22] [INFO] [OmnipathR] Package `OmnipathR` version: 3.15.6
[2025-02-05 15:09:22] [INFO] [OmnipathR] Package `OmnipathR` repository: Bioconductor 3.21
[2025-02-05 15:09:22] [INFO] [OmnipathR] Session info: [version=R Under development (unstable) (2025-01-20 r87609); os=Ubuntu 24.04.1 LTS; system=x86_64, linux-gnu; ui=X11; language=(EN); collate=C; ctype=en_US.UTF-8; tz=America/New_York; date=2025-02-05; pandoc=2.7.3 @ /usr/bin/ (via rmarkdown); quarto=1.5.57 @ /usr/local/bin/quarto]
[2025-02-05 15:09:23] [INFO] [OmnipathR] External libraries: [cairo=1.18.0; cairoFT=; pango=1.52.1; png=1.6.43; jpeg=8.0; tiff=LIBTIFF, Version 4.5.1; tcl=8.6.14; curl=8.5.0; zlib=1.3; bzlib=1.0.8, 13-Jul-2019; xz=5.4.5; deflate=1.19; PCRE=10.42 2022-12-11; ICU=74.2; TRE=TRE 0.8.0 R_fixes (BSD); iconv=glibc 2.39; readline=8.2; BLAS=/home/biocbuild/bbs-3.21-bioc/R/lib/libRblas.so; lapack=/usr/lib/x86_64-linux-gnu/lapack/liblapack.so.3.12.0; lapack_version=3.12.0]
[2025-02-05 15:09:23] [INFO] [OmnipathR] CURL: version: 8.5.0; headers: 8.5.0; ssl_version: OpenSSL/3.0.13; libz_version: 1.3; libssh_version: libssh/0.10.6/openssl/zlib; libidn_version: 2.3.7; host: x86_64-pc-linux-gnu; protocols: dict, file, ftp, ftps, gopher, gophers, http, https, imap, imaps, ldap, ldaps, mqtt, pop3, pop3s, rtmp, rtmpe, rtmps, rtmpt, rtmpte, rtmpts, rtsp, scp, sftp, smb, smbs, smtp, smtps, telnet, tftp; ipv6: TRUE; http2: TRUE; idn: TRUE; url_parser: TRUE
[2025-02-05 15:09:23] [TRACE] [OmnipathR] Running on a build server, wiping cache.
[2025-02-05 15:09:23] [TRACE] [OmnipathR] Cache is at `/home/biocbuild/.cache/OmnipathR`.
[2025-02-05 15:09:23] [TRACE] [OmnipathR] Contains 1 files.
[2025-02-05 15:09:23] [TRACE] [OmnipathR] Cache is locked: FALSE.
[2025-02-05 15:09:23] [TRACE] [OmnipathR] Reading JSON from `/home/biocbuild/.cache/OmnipathR/cache.json` (encoding: UTF-8).
[2025-02-05 15:09:23] [TRACE] [OmnipathR] JSON validation successful: TRUE
[2025-02-05 15:09:23] [SUCCESS] [OmnipathR] Removing all cache contents from `/home/biocbuild/.cache/OmnipathR`.
[2025-02-05 15:09:23] [TRACE] [OmnipathR] Pandoc version: `2.7.3`.
[2025-02-05 15:09:23] [TRACE] [OmnipathR] Reading JSON from `/home/biocbuild/bbs-3.21-bioc/R/site-library/OmnipathR/db/db_def.json` (encoding: UTF-8).
[2025-02-05 15:09:23] [TRACE] [OmnipathR] JSON validation successful: TRUE
[2025-02-05 15:09:23] [TRACE] [OmnipathR] Reading JSON from `/home/biocbuild/bbs-3.21-bioc/R/site-library/OmnipathR/internal/magic_bytes.json` (encoding: UTF-8).
[2025-02-05 15:09:23] [TRACE] [OmnipathR] JSON validation successful: TRUE
[2025-02-05 15:09:23] [TRACE] [OmnipathR] Reading JSON from `/home/biocbuild/bbs-3.21-bioc/R/site-library/OmnipathR/internal/urls.json` (encoding: UTF-8).
[2025-02-05 15:09:23] [TRACE] [OmnipathR] JSON validation successful: TRUE
[2025-02-05 15:09:23] [TRACE] [OmnipathR] Reading JSON from `/home/biocbuild/bbs-3.21-bioc/R/site-library/OmnipathR/internal/id_types.json` (encoding: UTF-8).
[2025-02-05 15:09:23] [TRACE] [OmnipathR] JSON validation successful: TRUE
[2025-02-05 15:09:23] [TRACE] [OmnipathR] Cache locked: FALSE
Note: wrong number of arguments to '/'
** help
*** installing help indices
** building package indices
** installing vignettes
** testing if installed package can be loaded from temporary location
[2025-02-05 15:09:27] [TRACE] [OmnipathR] Reading JSON from `/home/biocbuild/.cache/OmnipathR/cache.json` (encoding: UTF-8).
[2025-02-05 15:09:27] [TRACE] [OmnipathR] JSON validation successful: TRUE
[2025-02-05 15:09:27] [INFO] [OmnipathR] Initialized cache: `/home/biocbuild/.cache/OmnipathR`.
[2025-02-05 15:09:27] [INFO] [OmnipathR] Package `OmnipathR` packaged: NA
[2025-02-05 15:09:27] [INFO] [OmnipathR] Package `OmnipathR` date/publication: 2025-02-05
[2025-02-05 15:09:27] [INFO] [OmnipathR] Package `OmnipathR` built: R 4.5.0; ; 2025-02-05 20:09:02 UTC; unix
[2025-02-05 15:09:27] [INFO] [OmnipathR] Package `OmnipathR` version: 3.15.6
[2025-02-05 15:09:27] [INFO] [OmnipathR] Package `OmnipathR` repository: Bioconductor 3.21
[2025-02-05 15:09:27] [INFO] [OmnipathR] Session info: [version=R Under development (unstable) (2025-01-20 r87609); os=Ubuntu 24.04.1 LTS; system=x86_64, linux-gnu; ui=X11; language=(EN); collate=C; ctype=en_US.UTF-8; tz=America/New_York; date=2025-02-05; pandoc=2.7.3 @ /usr/bin/ (via rmarkdown); quarto=1.5.57 @ /usr/local/bin/quarto]
[2025-02-05 15:09:27] [INFO] [OmnipathR] External libraries: [cairo=1.18.0; cairoFT=; pango=1.52.1; png=1.6.43; jpeg=8.0; tiff=LIBTIFF, Version 4.5.1; tcl=8.6.14; curl=8.5.0; zlib=1.3; bzlib=1.0.8, 13-Jul-2019; xz=5.4.5; deflate=1.19; PCRE=10.42 2022-12-11; ICU=74.2; TRE=TRE 0.8.0 R_fixes (BSD); iconv=glibc 2.39; readline=8.2; BLAS=/home/biocbuild/bbs-3.21-bioc/R/lib/libRblas.so; lapack=/usr/lib/x86_64-linux-gnu/lapack/liblapack.so.3.12.0; lapack_version=3.12.0]
[2025-02-05 15:09:27] [INFO] [OmnipathR] CURL: version: 8.5.0; headers: 8.5.0; ssl_version: OpenSSL/3.0.13; libz_version: 1.3; libssh_version: libssh/0.10.6/openssl/zlib; libidn_version: 2.3.7; host: x86_64-pc-linux-gnu; protocols: dict, file, ftp, ftps, gopher, gophers, http, https, imap, imaps, ldap, ldaps, mqtt, pop3, pop3s, rtmp, rtmpe, rtmps, rtmpt, rtmpte, rtmpts, rtsp, scp, sftp, smb, smbs, smtp, smtps, telnet, tftp; ipv6: TRUE; http2: TRUE; idn: TRUE; url_parser: TRUE
[2025-02-05 15:09:27] [TRACE] [OmnipathR] Running on a build server, wiping cache.
[2025-02-05 15:09:27] [TRACE] [OmnipathR] Cache is at `/home/biocbuild/.cache/OmnipathR`.
[2025-02-05 15:09:27] [TRACE] [OmnipathR] Contains 1 files.
[2025-02-05 15:09:27] [TRACE] [OmnipathR] Cache is locked: FALSE.
[2025-02-05 15:09:27] [TRACE] [OmnipathR] Reading JSON from `/home/biocbuild/.cache/OmnipathR/cache.json` (encoding: UTF-8).
[2025-02-05 15:09:27] [TRACE] [OmnipathR] JSON validation successful: TRUE
[2025-02-05 15:09:27] [SUCCESS] [OmnipathR] Removing all cache contents from `/home/biocbuild/.cache/OmnipathR`.
[2025-02-05 15:09:27] [TRACE] [OmnipathR] Pandoc version: `2.7.3`.
[2025-02-05 15:09:27] [TRACE] [OmnipathR] Reading JSON from `/home/biocbuild/bbs-3.21-bioc/R/site-library/OmnipathR/db/db_def.json` (encoding: UTF-8).
[2025-02-05 15:09:27] [TRACE] [OmnipathR] JSON validation successful: TRUE
[2025-02-05 15:09:27] [TRACE] [OmnipathR] Reading JSON from `/home/biocbuild/bbs-3.21-bioc/R/site-library/OmnipathR/internal/magic_bytes.json` (encoding: UTF-8).
[2025-02-05 15:09:27] [TRACE] [OmnipathR] JSON validation successful: TRUE
[2025-02-05 15:09:28] [TRACE] [OmnipathR] Reading JSON from `/home/biocbuild/bbs-3.21-bioc/R/site-library/OmnipathR/internal/urls.json` (encoding: UTF-8).
[2025-02-05 15:09:28] [TRACE] [OmnipathR] JSON validation successful: TRUE
[2025-02-05 15:09:28] [TRACE] [OmnipathR] Reading JSON from `/home/biocbuild/bbs-3.21-bioc/R/site-library/OmnipathR/internal/id_types.json` (encoding: UTF-8).
[2025-02-05 15:09:28] [TRACE] [OmnipathR] JSON validation successful: TRUE
[2025-02-05 15:09:28] [TRACE] [OmnipathR] Cache locked: FALSE
** testing if installed package can be loaded from final location
[2025-02-05 15:09:31] [TRACE] [OmnipathR] Reading JSON from `/home/biocbuild/.cache/OmnipathR/cache.json` (encoding: UTF-8).
[2025-02-05 15:09:31] [TRACE] [OmnipathR] JSON validation successful: TRUE
[2025-02-05 15:09:31] [INFO] [OmnipathR] Initialized cache: `/home/biocbuild/.cache/OmnipathR`.
[2025-02-05 15:09:31] [INFO] [OmnipathR] Package `OmnipathR` packaged: NA
[2025-02-05 15:09:31] [INFO] [OmnipathR] Package `OmnipathR` date/publication: 2025-02-05
[2025-02-05 15:09:31] [INFO] [OmnipathR] Package `OmnipathR` built: R 4.5.0; ; 2025-02-05 20:09:02 UTC; unix
[2025-02-05 15:09:31] [INFO] [OmnipathR] Package `OmnipathR` version: 3.15.6
[2025-02-05 15:09:31] [INFO] [OmnipathR] Package `OmnipathR` repository: Bioconductor 3.21
[2025-02-05 15:09:31] [INFO] [OmnipathR] Session info: [version=R Under development (unstable) (2025-01-20 r87609); os=Ubuntu 24.04.1 LTS; system=x86_64, linux-gnu; ui=X11; language=(EN); collate=C; ctype=en_US.UTF-8; tz=America/New_York; date=2025-02-05; pandoc=2.7.3 @ /usr/bin/ (via rmarkdown); quarto=1.5.57 @ /usr/local/bin/quarto]
[2025-02-05 15:09:32] [INFO] [OmnipathR] External libraries: [cairo=1.18.0; cairoFT=; pango=1.52.1; png=1.6.43; jpeg=8.0; tiff=LIBTIFF, Version 4.5.1; tcl=8.6.14; curl=8.5.0; zlib=1.3; bzlib=1.0.8, 13-Jul-2019; xz=5.4.5; deflate=1.19; PCRE=10.42 2022-12-11; ICU=74.2; TRE=TRE 0.8.0 R_fixes (BSD); iconv=glibc 2.39; readline=8.2; BLAS=/home/biocbuild/bbs-3.21-bioc/R/lib/libRblas.so; lapack=/usr/lib/x86_64-linux-gnu/lapack/liblapack.so.3.12.0; lapack_version=3.12.0]
[2025-02-05 15:09:32] [INFO] [OmnipathR] CURL: version: 8.5.0; headers: 8.5.0; ssl_version: OpenSSL/3.0.13; libz_version: 1.3; libssh_version: libssh/0.10.6/openssl/zlib; libidn_version: 2.3.7; host: x86_64-pc-linux-gnu; protocols: dict, file, ftp, ftps, gopher, gophers, http, https, imap, imaps, ldap, ldaps, mqtt, pop3, pop3s, rtmp, rtmpe, rtmps, rtmpt, rtmpte, rtmpts, rtsp, scp, sftp, smb, smbs, smtp, smtps, telnet, tftp; ipv6: TRUE; http2: TRUE; idn: TRUE; url_parser: TRUE
[2025-02-05 15:09:32] [TRACE] [OmnipathR] Running on a build server, wiping cache.
[2025-02-05 15:09:32] [TRACE] [OmnipathR] Cache is at `/home/biocbuild/.cache/OmnipathR`.
[2025-02-05 15:09:32] [TRACE] [OmnipathR] Contains 1 files.
[2025-02-05 15:09:32] [TRACE] [OmnipathR] Cache is locked: FALSE.
[2025-02-05 15:09:32] [TRACE] [OmnipathR] Reading JSON from `/home/biocbuild/.cache/OmnipathR/cache.json` (encoding: UTF-8).
[2025-02-05 15:09:32] [TRACE] [OmnipathR] JSON validation successful: TRUE
[2025-02-05 15:09:32] [SUCCESS] [OmnipathR] Removing all cache contents from `/home/biocbuild/.cache/OmnipathR`.
[2025-02-05 15:09:32] [TRACE] [OmnipathR] Pandoc version: `2.7.3`.
[2025-02-05 15:09:32] [TRACE] [OmnipathR] Reading JSON from `/home/biocbuild/bbs-3.21-bioc/R/site-library/OmnipathR/db/db_def.json` (encoding: UTF-8).
[2025-02-05 15:09:32] [TRACE] [OmnipathR] JSON validation successful: TRUE
[2025-02-05 15:09:32] [TRACE] [OmnipathR] Reading JSON from `/home/biocbuild/bbs-3.21-bioc/R/site-library/OmnipathR/internal/magic_bytes.json` (encoding: UTF-8).
[2025-02-05 15:09:32] [TRACE] [OmnipathR] JSON validation successful: TRUE
[2025-02-05 15:09:32] [TRACE] [OmnipathR] Reading JSON from `/home/biocbuild/bbs-3.21-bioc/R/site-library/OmnipathR/internal/urls.json` (encoding: UTF-8).
[2025-02-05 15:09:32] [TRACE] [OmnipathR] JSON validation successful: TRUE
[2025-02-05 15:09:32] [TRACE] [OmnipathR] Reading JSON from `/home/biocbuild/bbs-3.21-bioc/R/site-library/OmnipathR/internal/id_types.json` (encoding: UTF-8).
[2025-02-05 15:09:32] [TRACE] [OmnipathR] JSON validation successful: TRUE
[2025-02-05 15:09:32] [TRACE] [OmnipathR] Cache locked: FALSE
** testing if installed package keeps a record of temporary installation path
* DONE (wppi)