Back to Books build report for BioC 3.21

This page was generated on 2025-02-03 14:30 -0500 (Mon, 03 Feb 2025).

HostnameOSArch (*)R versionInstalled pkgs
nebbiolo1Linux (Ubuntu 24.04.1 LTS)x86_64R Under development (unstable) (2025-01-20 r87609) -- "Unsuffered Consequences" 4704
Click on any hostname to see more info about the system (e.g. compilers)      (*) as reported by 'uname -p', except on Windows and Mac OS X

Package 6/10HostnameOS / ArchINSTALLBUILDCHECK
OSCA.basic 1.15.2  (landing page)
Peter Hickey
Snapshot Date: 2025-02-03 10:00 -0500 (Mon, 03 Feb 2025)
git_url: https://git.bioconductor.org/packages/OSCA.basic
git_branch: devel
git_last_commit: 9692ce3
git_last_commit_date: 2025-01-12 20:17:21 -0500 (Sun, 12 Jan 2025)
nebbiolo1Linux (Ubuntu 24.04.1 LTS) / x86_64  OK    OK    OK  UNNEEDED, same version is already published


BUILD results for OSCA.basic on nebbiolo1

To the developers/maintainers of the OSCA.basic package:
- Use the following Renviron settings to reproduce errors and warnings.
- If 'R CMD check' started to fail recently on the Linux builder(s) over a missing dependency, add the missing dependency to 'Suggests:' in your DESCRIPTION file. See Renviron.bioc for more information.

raw results


Summary

Package: OSCA.basic
Version: 1.15.2
Command: /home/biocbuild/bbs-3.21-bioc/R/bin/R CMD build --keep-empty-dirs --no-resave-data OSCA.basic
StartedAt: 2025-02-03 10:17:08 -0500 (Mon, 03 Feb 2025)
EndedAt: 2025-02-03 11:40:54 -0500 (Mon, 03 Feb 2025)
EllapsedTime: 5025.6 seconds
RetCode: 0
Status:   OK  
PackageFile: OSCA.basic_1.15.2.tar.gz
PackageFileSize: 11.33 MiB

Command output

##############################################################################
##############################################################################
###
### Running command:
###
###   /home/biocbuild/bbs-3.21-bioc/R/bin/R CMD build --keep-empty-dirs --no-resave-data OSCA.basic
###
##############################################################################
##############################################################################


* checking for file ‘OSCA.basic/DESCRIPTION’ ... OK
* preparing ‘OSCA.basic’:
* checking DESCRIPTION meta-information ... OK
* installing the package to build vignettes
* creating vignettes ... OK
* checking for LF line-endings in source and make files and shell scripts
* checking for empty or unneeded directories
* creating default NAMESPACE file
* building ‘OSCA.basic_1.15.2.tar.gz’