Back to Build/check report for BioC 3.21 annotations
ABCDEFGHIJKLMN[O]PQRSTUVWXYZ

This page was generated on 2025-01-29 08:30 -0500 (Wed, 29 Jan 2025).

HostnameOSArch (*)R versionInstalled pkgs
nebbiolo1Linux (Ubuntu 24.04.1 LTS)x86_64R Under development (unstable) (2025-01-20 r87609) -- "Unsuffered Consequences" 4694
Click on any hostname to see more info about the system (e.g. compilers)      (*) as reported by 'uname -p', except on Windows and Mac OS X

Package 35/47HostnameOS / ArchINSTALLBUILDCHECK
ontoProcData 0.99.9904  (landing page)
Sara Stankiewicz
Snapshot Date: 2025-01-29 06:00 -0500 (Wed, 29 Jan 2025)
git_url: https://git.bioconductor.org/packages/ontoProcData
git_branch: devel
git_last_commit: da19cfe
git_last_commit_date: 2023-03-29 15:11:52 -0500 (Wed, 29 Mar 2023)
nebbiolo1Linux (Ubuntu 24.04.1 LTS) / x86_64  OK    OK    ERROR  


INSTALL results for ontoProcData on nebbiolo1

To the developers/maintainers of the ontoProcData package:
- Use the following Renviron settings to reproduce errors and warnings.
- If 'R CMD check' started to fail recently on the Linux builder(s) over a missing dependency, add the missing dependency to 'Suggests:' in your DESCRIPTION file. See Renviron.bioc for more information.

raw results


Summary

Package: ontoProcData
Version: 0.99.9904
Command: /home/biocbuild/bbs-3.21-bioc/R/bin/R CMD INSTALL ontoProcData
StartedAt: 2025-01-29 06:30:07 -0500 (Wed, 29 Jan 2025)
EndedAt: 2025-01-29 06:30:09 -0500 (Wed, 29 Jan 2025)
EllapsedTime: 2.3 seconds
RetCode: 0
Status:   OK  

Command output

##############################################################################
##############################################################################
###
### Running command:
###
###   /home/biocbuild/bbs-3.21-bioc/R/bin/R CMD INSTALL ontoProcData
###
##############################################################################
##############################################################################


* installing to library ‘/home/biocbuild/bbs-3.21-bioc/R/site-library’
* installing *source* package ‘ontoProcData’ ...
** this is package ‘ontoProcData’ version ‘0.99.9904’
** using staged installation
** R
** inst
** byte-compile and prepare package for lazy loading
** help
*** installing help indices
** building package indices
** installing vignettes
** testing if installed package can be loaded from temporary location
** testing if installed package can be loaded from final location
** testing if installed package keeps a record of temporary installation path
* DONE (ontoProcData)