Back to Build/check report for BioC 3.21 experimental data
[A]BCDEFGHIJKLMNOPQRSTUVWXYZ

This page was generated on 2025-02-13 15:01 -0500 (Thu, 13 Feb 2025).

HostnameOSArch (*)R versionInstalled pkgs
nebbiolo1Linux (Ubuntu 24.04.1 LTS)x86_64R Under development (unstable) (2025-01-20 r87609) -- "Unsuffered Consequences" 4719
Click on any hostname to see more info about the system (e.g. compilers)      (*) as reported by 'uname -p', except on Windows and Mac OS X

Package 19/430HostnameOS / ArchINSTALLBUILDCHECK
AssessORFData 1.25.1  (landing page)
Nicholas Cooley
Snapshot Date: 2025-02-13 07:30 -0500 (Thu, 13 Feb 2025)
git_url: https://git.bioconductor.org/packages/AssessORFData
git_branch: devel
git_last_commit: 4ceb68d
git_last_commit_date: 2025-02-07 09:01:05 -0500 (Fri, 07 Feb 2025)
nebbiolo1Linux (Ubuntu 24.04.1 LTS) / x86_64  OK    OK    OK  UNNEEDED, same version is already published


INSTALL results for AssessORFData on nebbiolo1

To the developers/maintainers of the AssessORFData package:
- Use the following Renviron settings to reproduce errors and warnings.
- If 'R CMD check' started to fail recently on the Linux builder(s) over a missing dependency, add the missing dependency to 'Suggests:' in your DESCRIPTION file. See Renviron.bioc for more information.

raw results


Summary

Package: AssessORFData
Version: 1.25.1
Command: /home/biocbuild/bbs-3.21-bioc/R/bin/R CMD INSTALL AssessORFData
StartedAt: 2025-02-13 10:56:42 -0500 (Thu, 13 Feb 2025)
EndedAt: 2025-02-13 10:57:26 -0500 (Thu, 13 Feb 2025)
EllapsedTime: 44.2 seconds
RetCode: 0
Status:   OK  

Command output

##############################################################################
##############################################################################
###
### Running command:
###
###   /home/biocbuild/bbs-3.21-bioc/R/bin/R CMD INSTALL AssessORFData
###
##############################################################################
##############################################################################


* installing to library ‘/home/biocbuild/bbs-3.21-bioc/R/site-library’
* installing *source* package ‘AssessORFData’ ...
** this is package ‘AssessORFData’ version ‘1.25.1’
** using staged installation
** R
** data
** inst
** byte-compile and prepare package for lazy loading
** help
*** installing help indices
** building package indices
** installing vignettes
** testing if installed package can be loaded from temporary location
** testing if installed package can be loaded from final location
** testing if installed package keeps a record of temporary installation path
* DONE (AssessORFData)