Back to Build/check report for BioC 3.21 experimental data
ABC[D]EFGHIJKLMNOPQRSTUVWXYZ

This page was generated on 2025-02-06 15:01 -0500 (Thu, 06 Feb 2025).

HostnameOSArch (*)R versionInstalled pkgs
nebbiolo1Linux (Ubuntu 24.04.1 LTS)x86_64R Under development (unstable) (2025-01-20 r87609) -- "Unsuffered Consequences" 4719
Click on any hostname to see more info about the system (e.g. compilers)      (*) as reported by 'uname -p', except on Windows and Mac OS X

Package 93/430HostnameOS / ArchINSTALLBUILDCHECK
DeSousa2013 1.43.0  (landing page)
Xin Wang
Snapshot Date: 2025-02-06 07:30 -0500 (Thu, 06 Feb 2025)
git_url: https://git.bioconductor.org/packages/DeSousa2013
git_branch: devel
git_last_commit: 43ecfae
git_last_commit_date: 2024-10-29 09:36:40 -0500 (Tue, 29 Oct 2024)
nebbiolo1Linux (Ubuntu 24.04.1 LTS) / x86_64  ERROR    ERROR  skipped


INSTALL results for DeSousa2013 on nebbiolo1

To the developers/maintainers of the DeSousa2013 package:
- Use the following Renviron settings to reproduce errors and warnings.
- If 'R CMD check' started to fail recently on the Linux builder(s) over a missing dependency, add the missing dependency to 'Suggests:' in your DESCRIPTION file. See Renviron.bioc for more information.

raw results


Summary

Package: DeSousa2013
Version: 1.43.0
Command: /home/biocbuild/bbs-3.21-bioc/R/bin/R CMD INSTALL DeSousa2013
StartedAt: 2025-02-06 11:00:15 -0500 (Thu, 06 Feb 2025)
EndedAt: 2025-02-06 11:00:16 -0500 (Thu, 06 Feb 2025)
EllapsedTime: 1.0 seconds
RetCode: 1
Status:   ERROR  

Command output

##############################################################################
##############################################################################
###
### Running command:
###
###   /home/biocbuild/bbs-3.21-bioc/R/bin/R CMD INSTALL DeSousa2013
###
##############################################################################
##############################################################################


* installing to library ‘/home/biocbuild/bbs-3.21-bioc/R/site-library’
ERROR: dependency ‘frma’ is not available for package ‘DeSousa2013’
Perhaps try a variation of:
install.packages('frma')
* removing ‘/home/biocbuild/bbs-3.21-bioc/R/site-library/DeSousa2013’