Back to Build/check report for BioC 3.21 experimental data
ABCDEFGHIJK[L]MNOPQRSTUVWXYZ

This page was generated on 2025-02-13 15:01 -0500 (Thu, 13 Feb 2025).

HostnameOSArch (*)R versionInstalled pkgs
nebbiolo1Linux (Ubuntu 24.04.1 LTS)x86_64R Under development (unstable) (2025-01-20 r87609) -- "Unsuffered Consequences" 4719
Click on any hostname to see more info about the system (e.g. compilers)      (*) as reported by 'uname -p', except on Windows and Mac OS X

Package 212/430HostnameOS / ArchINSTALLBUILDCHECK
LegATo 1.1.1  (landing page)
Aubrey Odom
Snapshot Date: 2025-02-13 07:30 -0500 (Thu, 13 Feb 2025)
git_url: https://git.bioconductor.org/packages/LegATo
git_branch: devel
git_last_commit: e9be343
git_last_commit_date: 2025-02-06 15:46:02 -0500 (Thu, 06 Feb 2025)
nebbiolo1Linux (Ubuntu 24.04.1 LTS) / x86_64  OK    OK    OK  UNNEEDED, same version is already published


BUILD results for LegATo on nebbiolo1

To the developers/maintainers of the LegATo package:
- Use the following Renviron settings to reproduce errors and warnings.
- If 'R CMD check' started to fail recently on the Linux builder(s) over a missing dependency, add the missing dependency to 'Suggests:' in your DESCRIPTION file. See Renviron.bioc for more information.

raw results


Summary

Package: LegATo
Version: 1.1.1
Command: /home/biocbuild/bbs-3.21-bioc/R/bin/R CMD build --keep-empty-dirs --no-resave-data LegATo
StartedAt: 2025-02-13 11:25:55 -0500 (Thu, 13 Feb 2025)
EndedAt: 2025-02-13 11:27:18 -0500 (Thu, 13 Feb 2025)
EllapsedTime: 83.3 seconds
RetCode: 0
Status:   OK  
PackageFile: LegATo_1.1.1.tar.gz
PackageFileSize: 1.115 MiB

Command output

##############################################################################
##############################################################################
###
### Running command:
###
###   /home/biocbuild/bbs-3.21-bioc/R/bin/R CMD build --keep-empty-dirs --no-resave-data LegATo
###
##############################################################################
##############################################################################


* checking for file ‘LegATo/DESCRIPTION’ ... OK
* preparing ‘LegATo’:
* checking DESCRIPTION meta-information ... OK
* installing the package to build vignettes
* creating vignettes ... OK
* checking for LF line-endings in source and make files and shell scripts
* checking for empty or unneeded directories
Omitted ‘LazyData’ from DESCRIPTION
* building ‘LegATo_1.1.1.tar.gz’