Back to Build/check report for BioC 3.21 experimental data |
|
This page was generated on 2025-02-04 15:01 -0500 (Tue, 04 Feb 2025).
Hostname | OS | Arch (*) | R version | Installed pkgs |
---|---|---|---|---|
nebbiolo1 | Linux (Ubuntu 24.04.1 LTS) | x86_64 | R Under development (unstable) (2025-01-20 r87609) -- "Unsuffered Consequences" | 4716 |
Click on any hostname to see more info about the system (e.g. compilers) (*) as reported by 'uname -p', except on Windows and Mac OS X |
Package 291/430 | Hostname | OS / Arch | INSTALL | BUILD | CHECK | ||||||||
pd.atdschip.tiling 0.45.0 (landing page) Kristof De Beuf
| nebbiolo1 | Linux (Ubuntu 24.04.1 LTS) / x86_64 | ERROR | OK | ERROR | ||||||||
To the developers/maintainers of the pd.atdschip.tiling package: - Use the following Renviron settings to reproduce errors and warnings. - If 'R CMD check' started to fail recently on the Linux builder(s) over a missing dependency, add the missing dependency to 'Suggests:' in your DESCRIPTION file. See Renviron.bioc for more information. |
Package: pd.atdschip.tiling |
Version: 0.45.0 |
Command: /home/biocbuild/bbs-3.21-bioc/R/bin/R CMD INSTALL pd.atdschip.tiling |
StartedAt: 2025-02-04 11:00:03 -0500 (Tue, 04 Feb 2025) |
EndedAt: 2025-02-04 11:00:05 -0500 (Tue, 04 Feb 2025) |
EllapsedTime: 1.2 seconds |
RetCode: 1 |
Status: ERROR |
############################################################################## ############################################################################## ### ### Running command: ### ### /home/biocbuild/bbs-3.21-bioc/R/bin/R CMD INSTALL pd.atdschip.tiling ### ############################################################################## ############################################################################## * installing to library ‘/home/biocbuild/bbs-3.21-bioc/R/site-library’ ERROR: dependency ‘oligo’ is not available for package ‘pd.atdschip.tiling’ Perhaps try a variation of: install.packages('oligo') * removing ‘/home/biocbuild/bbs-3.21-bioc/R/site-library/pd.atdschip.tiling’