Back to Build/check report for BioC 3.21 experimental data |
|
This page was generated on 2025-02-04 15:01 -0500 (Tue, 04 Feb 2025).
Hostname | OS | Arch (*) | R version | Installed pkgs |
---|---|---|---|---|
nebbiolo1 | Linux (Ubuntu 24.04.1 LTS) | x86_64 | R Under development (unstable) (2025-01-20 r87609) -- "Unsuffered Consequences" | 4716 |
Click on any hostname to see more info about the system (e.g. compilers) (*) as reported by 'uname -p', except on Windows and Mac OS X |
Package 355/430 | Hostname | OS / Arch | INSTALL | BUILD | CHECK | ||||||||
scRNAseq 2.21.1 (landing page) Aaron Lun
| nebbiolo1 | Linux (Ubuntu 24.04.1 LTS) / x86_64 | OK | OK | OK | ||||||||
To the developers/maintainers of the scRNAseq package: - Use the following Renviron settings to reproduce errors and warnings. - If 'R CMD check' started to fail recently on the Linux builder(s) over a missing dependency, add the missing dependency to 'Suggests:' in your DESCRIPTION file. See Renviron.bioc for more information. |
Package: scRNAseq |
Version: 2.21.1 |
Command: /home/biocbuild/bbs-3.21-bioc/R/bin/R CMD check --install=check:scRNAseq.install-out.txt --library=/home/biocbuild/bbs-3.21-bioc/R/site-library --timings scRNAseq_2.21.1.tar.gz |
StartedAt: 2025-02-04 12:40:47 -0500 (Tue, 04 Feb 2025) |
EndedAt: 2025-02-04 12:56:48 -0500 (Tue, 04 Feb 2025) |
EllapsedTime: 961.1 seconds |
RetCode: 0 |
Status: OK |
CheckDir: scRNAseq.Rcheck |
Warnings: 0 |
############################################################################## ############################################################################## ### ### Running command: ### ### /home/biocbuild/bbs-3.21-bioc/R/bin/R CMD check --install=check:scRNAseq.install-out.txt --library=/home/biocbuild/bbs-3.21-bioc/R/site-library --timings scRNAseq_2.21.1.tar.gz ### ############################################################################## ############################################################################## * using log directory ‘/home/biocbuild/bbs-3.21-data-experiment/meat/scRNAseq.Rcheck’ * using R Under development (unstable) (2025-01-20 r87609) * using platform: x86_64-pc-linux-gnu * R was compiled by gcc (Ubuntu 13.3.0-6ubuntu2~24.04) 13.3.0 GNU Fortran (Ubuntu 13.3.0-6ubuntu2~24.04) 13.3.0 * running under: Ubuntu 24.04.1 LTS * using session charset: UTF-8 * checking for file ‘scRNAseq/DESCRIPTION’ ... OK * this is package ‘scRNAseq’ version ‘2.21.1’ * package encoding: UTF-8 * checking package namespace information ... OK * checking package dependencies ... OK * checking if this is a source package ... OK * checking if there is a namespace ... OK * checking for hidden files and directories ... NOTE Found the following hidden files and directories: .BBSoptions These were most likely included in error. See section ‘Package structure’ in the ‘Writing R Extensions’ manual. * checking for portable file names ... OK * checking for sufficient/correct file permissions ... OK * checking whether package ‘scRNAseq’ can be installed ... OK * checking installed package size ... OK * checking package directory ... OK * checking ‘build’ directory ... OK * checking DESCRIPTION meta-information ... OK * checking top-level files ... OK * checking for left-over files ... OK * checking index information ... OK * checking package subdirectories ... OK * checking code files for non-ASCII characters ... OK * checking R files for syntax errors ... OK * checking whether the package can be loaded ... OK * checking whether the package can be loaded with stated dependencies ... OK * checking whether the package can be unloaded cleanly ... OK * checking whether the namespace can be loaded with stated dependencies ... OK * checking whether the namespace can be unloaded cleanly ... OK * checking loading without being on the library search path ... OK * checking dependencies in R code ... OK * checking S3 generic/method consistency ... OK * checking replacement functions ... OK * checking foreign function calls ... OK * checking R code for possible problems ... OK * checking Rd files ... OK * checking Rd metadata ... OK * checking Rd cross-references ... OK * checking for missing documentation entries ... OK * checking for code/documentation mismatches ... OK * checking Rd \usage sections ... OK * checking Rd contents ... OK * checking for unstated dependencies in examples ... OK * checking files in ‘vignettes’ ... OK * checking examples ... OK Examples with CPU (user + system) or elapsed time > 5s user system elapsed BhaduriOrganoidData 24.180 9.704 34.189 BacherTCellData 17.125 5.715 23.870 ZeiselNervousData 14.464 6.189 22.263 HeOrganAtlasData 12.178 8.101 20.806 JessaBrainData 10.851 5.256 17.270 ErnstSpermatogenesisData 10.221 4.565 16.291 StoeckiusHashingData 8.981 1.476 11.316 ZhaoImmuneLiverData 6.374 3.167 10.272 BachMammaryData 7.028 1.381 9.634 AztekinTailData 7.431 0.760 8.403 LunSpikeInData 6.269 1.579 8.346 GiladiHSCData 4.779 2.891 8.247 ZilionisLungData 4.139 1.560 6.066 NestorowaHSCData 4.500 0.992 6.001 MessmerESCData 3.792 1.082 5.173 * checking for unstated dependencies in ‘tests’ ... OK * checking tests ... Running ‘testthat.R’ OK * checking for unstated dependencies in vignettes ... OK * checking package vignettes ... OK * checking re-building of vignette outputs ... OK * checking PDF version of manual ... OK * DONE Status: 1 NOTE See ‘/home/biocbuild/bbs-3.21-data-experiment/meat/scRNAseq.Rcheck/00check.log’ for details.
scRNAseq.Rcheck/00install.out
############################################################################## ############################################################################## ### ### Running command: ### ### /home/biocbuild/bbs-3.21-bioc/R/bin/R CMD INSTALL scRNAseq ### ############################################################################## ############################################################################## * installing to library ‘/home/biocbuild/bbs-3.21-bioc/R/site-library’ * installing *source* package ‘scRNAseq’ ... ** this is package ‘scRNAseq’ version ‘2.21.1’ ** using staged installation ** R ** inst ** byte-compile and prepare package for lazy loading ** help *** installing help indices ** building package indices ** installing vignettes ** testing if installed package can be loaded from temporary location ** testing if installed package can be loaded from final location ** testing if installed package keeps a record of temporary installation path * DONE (scRNAseq)
scRNAseq.Rcheck/tests/testthat.Rout
R Under development (unstable) (2025-01-20 r87609) -- "Unsuffered Consequences" Copyright (C) 2025 The R Foundation for Statistical Computing Platform: x86_64-pc-linux-gnu R is free software and comes with ABSOLUTELY NO WARRANTY. You are welcome to redistribute it under certain conditions. Type 'license()' or 'licence()' for distribution details. R is a collaborative project with many contributors. Type 'contributors()' for more information and 'citation()' on how to cite R or R packages in publications. Type 'demo()' for some demos, 'help()' for on-line help, or 'help.start()' for an HTML browser interface to help. Type 'q()' to quit R. > library(testthat) > library(scRNAseq) Loading required package: SingleCellExperiment Loading required package: SummarizedExperiment Loading required package: MatrixGenerics Loading required package: matrixStats Attaching package: 'MatrixGenerics' The following objects are masked from 'package:matrixStats': colAlls, colAnyNAs, colAnys, colAvgsPerRowSet, colCollapse, colCounts, colCummaxs, colCummins, colCumprods, colCumsums, colDiffs, colIQRDiffs, colIQRs, colLogSumExps, colMadDiffs, colMads, colMaxs, colMeans2, colMedians, colMins, colOrderStats, colProds, colQuantiles, colRanges, colRanks, colSdDiffs, colSds, colSums2, colTabulates, colVarDiffs, colVars, colWeightedMads, colWeightedMeans, colWeightedMedians, colWeightedSds, colWeightedVars, rowAlls, rowAnyNAs, rowAnys, rowAvgsPerColSet, rowCollapse, rowCounts, rowCummaxs, rowCummins, rowCumprods, rowCumsums, rowDiffs, rowIQRDiffs, rowIQRs, rowLogSumExps, rowMadDiffs, rowMads, rowMaxs, rowMeans2, rowMedians, rowMins, rowOrderStats, rowProds, rowQuantiles, rowRanges, rowRanks, rowSdDiffs, rowSds, rowSums2, rowTabulates, rowVarDiffs, rowVars, rowWeightedMads, rowWeightedMeans, rowWeightedMedians, rowWeightedSds, rowWeightedVars Loading required package: GenomicRanges Loading required package: stats4 Loading required package: BiocGenerics Loading required package: generics Attaching package: 'generics' The following objects are masked from 'package:base': as.difftime, as.factor, as.ordered, intersect, is.element, setdiff, setequal, union Attaching package: 'BiocGenerics' The following objects are masked from 'package:stats': IQR, mad, sd, var, xtabs The following objects are masked from 'package:base': Filter, Find, Map, Position, Reduce, anyDuplicated, aperm, append, as.data.frame, basename, cbind, colnames, dirname, do.call, duplicated, eval, evalq, get, grep, grepl, is.unsorted, lapply, mapply, match, mget, order, paste, pmax, pmax.int, pmin, pmin.int, rank, rbind, rownames, sapply, saveRDS, table, tapply, unique, unsplit, which.max, which.min Loading required package: S4Vectors Attaching package: 'S4Vectors' The following object is masked from 'package:utils': findMatches The following objects are masked from 'package:base': I, expand.grid, unname Loading required package: IRanges Loading required package: GenomeInfoDb Loading required package: Biobase Welcome to Bioconductor Vignettes contain introductory material; view with 'browseVignettes()'. To cite Bioconductor, see 'citation("Biobase")', and for packages 'citation("pkgname")'. Attaching package: 'Biobase' The following object is masked from 'package:MatrixGenerics': rowMedians The following objects are masked from 'package:matrixStats': anyMissing, rowMedians > test_check("scRNAseq") [ FAIL 0 | WARN 35 | SKIP 1 | PASS 186 ] ══ Skipped tests (1) ═══════════════════════════════════════════════════════════ • is.null(gh_token) is TRUE (1): 'test-uploadDirectory.R:59:5' [ FAIL 0 | WARN 35 | SKIP 1 | PASS 186 ] Warning message: call dbDisconnect() when finished working with a connection > > proc.time() user system elapsed 294.567 70.137 382.444
scRNAseq.Rcheck/scRNAseq-Ex.timings
name | user | system | elapsed | |
AztekinTailData | 7.431 | 0.760 | 8.403 | |
BachMammaryData | 7.028 | 1.381 | 9.634 | |
BacherTCellData | 17.125 | 5.715 | 23.870 | |
BaronPancreasData | 0.980 | 0.176 | 1.191 | |
BhaduriOrganoidData | 24.180 | 9.704 | 34.189 | |
BuettnerESCData | 3.073 | 0.780 | 4.156 | |
BunisHSPCData | 0.991 | 0.479 | 1.611 | |
CampbellBrainData | 1.777 | 0.977 | 3.023 | |
ChenBrainData | 1.077 | 0.454 | 1.835 | |
DarmanisBrainData | 0.244 | 0.037 | 0.290 | |
ERCCSpikeInConcentrations | 0.018 | 0.001 | 0.020 | |
ErnstSpermatogenesisData | 10.221 | 4.565 | 16.291 | |
FletcherOlfactoryData | 0.825 | 0.356 | 1.194 | |
GiladiHSCData | 4.779 | 2.891 | 8.247 | |
GrunHSCData | 0.223 | 0.053 | 0.282 | |
GrunPancreasData | 0.656 | 0.428 | 1.097 | |
HeOrganAtlasData | 12.178 | 8.101 | 20.806 | |
HermannSpermatogenesisData | 0.810 | 0.285 | 1.123 | |
HuCortexData | 0.502 | 0.235 | 0.794 | |
JessaBrainData | 10.851 | 5.256 | 17.270 | |
KolodziejczykESCData | 3.306 | 1.019 | 4.589 | |
KotliarovPBMCData | 2.328 | 0.766 | 3.382 | |
LaMannoBrainData | 1.563 | 0.380 | 1.988 | |
LawlorPancreasData | 0.806 | 0.212 | 1.019 | |
LedergorMyelomaData | 1.427 | 0.363 | 1.979 | |
LengESCData | 0.485 | 0.111 | 0.599 | |
LunSpikeInData | 6.269 | 1.579 | 8.346 | |
MacoskoRetinaData | 1.688 | 0.719 | 2.645 | |
MairPBMCData | 0.611 | 0.171 | 0.790 | |
MarquesBrainData | 0.681 | 0.117 | 0.873 | |
MessmerESCData | 3.792 | 1.082 | 5.173 | |
MuraroPancreasData | 0.955 | 0.318 | 1.294 | |
NestorowaHSCData | 4.500 | 0.992 | 6.001 | |
NowakowskiCortexData | 1.466 | 0.321 | 1.814 | |
PaulHSCData | 2.968 | 0.551 | 3.584 | |
PollenGliaData | 0.309 | 0.138 | 0.456 | |
ReprocessedData | 1.991 | 0.278 | 2.277 | |
RichardTCellData | 3.131 | 0.676 | 4.062 | |
RomanovBrainData | 0.474 | 0.157 | 0.649 | |
SegerstolpePancreasData | 1.167 | 0.357 | 1.623 | |
ShekharRetinaData | 2.068 | 0.682 | 2.964 | |
StoeckiusHashingData | 8.981 | 1.476 | 11.316 | |
TasicBrainData | 1.813 | 0.377 | 2.192 | |
UsoskinBrainData | 0.500 | 0.054 | 0.580 | |
WuKidneyData | 0.347 | 0.064 | 0.428 | |
XinPancreasData | 0.774 | 0.246 | 1.035 | |
ZeiselBrainData | 1.042 | 0.167 | 1.232 | |
ZeiselNervousData | 14.464 | 6.189 | 22.263 | |
ZhaoImmuneLiverData | 6.374 | 3.167 | 10.272 | |
ZhongPrefrontalData | 0.610 | 0.144 | 0.821 | |
ZilionisLungData | 4.139 | 1.560 | 6.066 | |
countErccMolecules | 0.035 | 0.001 | 0.036 | |
fetchDataset | 0.427 | 0.055 | 0.482 | |
listDatasets | 0.010 | 0.002 | 0.012 | |
listPaths | 0.601 | 0.096 | 1.649 | |
listVersions | 0.017 | 0.002 | 0.350 | |
polishDataset | 0.125 | 0.049 | 0.175 | |
saveDataset | 0.952 | 0.157 | 1.021 | |
searchDatasets | 1.769 | 0.273 | 2.196 | |
surveyDatasets | 0.895 | 0.040 | 0.944 | |