Back to Build/check report for BioC 3.21 experimental data |
|
This page was generated on 2025-02-13 15:01 -0500 (Thu, 13 Feb 2025).
Hostname | OS | Arch (*) | R version | Installed pkgs |
---|---|---|---|---|
nebbiolo1 | Linux (Ubuntu 24.04.1 LTS) | x86_64 | R Under development (unstable) (2025-01-20 r87609) -- "Unsuffered Consequences" | 4719 |
Click on any hostname to see more info about the system (e.g. compilers) (*) as reported by 'uname -p', except on Windows and Mac OS X |
Package 423/430 | Hostname | OS / Arch | INSTALL | BUILD | CHECK | ||||||||
xcoredata 1.11.0 (landing page) Maciej Migdał
| nebbiolo1 | Linux (Ubuntu 24.04.1 LTS) / x86_64 | OK | OK | OK | ![]() | |||||||
To the developers/maintainers of the xcoredata package: - Use the following Renviron settings to reproduce errors and warnings. - If 'R CMD check' started to fail recently on the Linux builder(s) over a missing dependency, add the missing dependency to 'Suggests:' in your DESCRIPTION file. See Renviron.bioc for more information. |
Package: xcoredata |
Version: 1.11.0 |
Command: /home/biocbuild/bbs-3.21-bioc/R/bin/R CMD check --install=check:xcoredata.install-out.txt --library=/home/biocbuild/bbs-3.21-bioc/R/site-library --timings xcoredata_1.11.0.tar.gz |
StartedAt: 2025-02-13 12:56:37 -0500 (Thu, 13 Feb 2025) |
EndedAt: 2025-02-13 13:01:22 -0500 (Thu, 13 Feb 2025) |
EllapsedTime: 284.8 seconds |
RetCode: 0 |
Status: OK |
CheckDir: xcoredata.Rcheck |
Warnings: 0 |
############################################################################## ############################################################################## ### ### Running command: ### ### /home/biocbuild/bbs-3.21-bioc/R/bin/R CMD check --install=check:xcoredata.install-out.txt --library=/home/biocbuild/bbs-3.21-bioc/R/site-library --timings xcoredata_1.11.0.tar.gz ### ############################################################################## ############################################################################## * using log directory ‘/home/biocbuild/bbs-3.21-data-experiment/meat/xcoredata.Rcheck’ * using R Under development (unstable) (2025-01-20 r87609) * using platform: x86_64-pc-linux-gnu * R was compiled by gcc (Ubuntu 13.3.0-6ubuntu2~24.04) 13.3.0 GNU Fortran (Ubuntu 13.3.0-6ubuntu2~24.04) 13.3.0 * running under: Ubuntu 24.04.2 LTS * using session charset: UTF-8 * checking for file ‘xcoredata/DESCRIPTION’ ... OK * checking extension type ... Package * this is package ‘xcoredata’ version ‘1.11.0’ * package encoding: UTF-8 * checking package namespace information ... OK * checking package dependencies ... OK * checking if this is a source package ... OK * checking if there is a namespace ... OK * checking for hidden files and directories ... OK * checking for portable file names ... OK * checking for sufficient/correct file permissions ... OK * checking whether package ‘xcoredata’ can be installed ... OK * checking installed package size ... OK * checking package directory ... OK * checking ‘build’ directory ... OK * checking DESCRIPTION meta-information ... OK * checking top-level files ... OK * checking for left-over files ... OK * checking index information ... OK * checking package subdirectories ... OK * checking code files for non-ASCII characters ... OK * checking R files for syntax errors ... OK * checking whether the package can be loaded ... OK * checking whether the package can be loaded with stated dependencies ... OK * checking whether the package can be unloaded cleanly ... OK * checking whether the namespace can be loaded with stated dependencies ... OK * checking whether the namespace can be unloaded cleanly ... OK * checking loading without being on the library search path ... OK * checking whether startup messages can be suppressed ... OK * checking dependencies in R code ... OK * checking S3 generic/method consistency ... OK * checking replacement functions ... OK * checking foreign function calls ... OK * checking R code for possible problems ... OK * checking Rd files ... OK * checking Rd metadata ... OK * checking Rd cross-references ... OK * checking for missing documentation entries ... OK * checking for code/documentation mismatches ... OK * checking Rd \usage sections ... OK * checking Rd contents ... OK * checking for unstated dependencies in examples ... OK * checking files in ‘vignettes’ ... OK * checking examples ... OK Examples with CPU (user + system) or elapsed time > 5s user system elapsed chip_atlas_promoters_f5 33.965 2.167 36.211 remap_promoters_f5 31.060 1.830 32.966 * checking for unstated dependencies in vignettes ... OK * checking package vignettes ... OK * checking re-building of vignette outputs ... OK * checking PDF version of manual ... OK * DONE Status: OK
xcoredata.Rcheck/00install.out
############################################################################## ############################################################################## ### ### Running command: ### ### /home/biocbuild/bbs-3.21-bioc/R/bin/R CMD INSTALL xcoredata ### ############################################################################## ############################################################################## * installing to library ‘/home/biocbuild/bbs-3.21-bioc/R/site-library’ * installing *source* package ‘xcoredata’ ... ** this is package ‘xcoredata’ version ‘1.11.0’ ** using staged installation ** R ** inst ** byte-compile and prepare package for lazy loading ** help *** installing help indices ** building package indices ** installing vignettes ** testing if installed package can be loaded from temporary location ** testing if installed package can be loaded from final location ** testing if installed package keeps a record of temporary installation path * DONE (xcoredata)
xcoredata.Rcheck/xcoredata-Ex.timings
name | user | system | elapsed | |
chip_atlas_meta | 2.039 | 0.690 | 3.032 | |
chip_atlas_promoters_f5 | 33.965 | 2.167 | 36.211 | |
entrez2fantom | 1.253 | 0.509 | 1.844 | |
promoters_f5 | 2.061 | 0.090 | 2.231 | |
promoters_f5_core | 0.949 | 0.044 | 1.075 | |
remap_meta | 0.895 | 0.314 | 1.289 | |
remap_promoters_f5 | 31.060 | 1.830 | 32.966 | |
symbol2fantom | 0.973 | 0.442 | 1.502 | |