Back to Workflows build report for BioC 3.21

This page was generated on 2025-01-31 16:30 -0500 (Fri, 31 Jan 2025).

HostnameOSArch (*)R versionInstalled pkgs
nebbiolo1Linux (Ubuntu 24.04.1 LTS)x86_64R Under development (unstable) (2025-01-20 r87609) -- "Unsuffered Consequences" 4703
palomino7Windows Server 2022 Datacenterx64R Under development (unstable) (2025-01-21 r87610 ucrt) -- "Unsuffered Consequences" 4466
lconwaymacOS 12.7.1 Montereyx86_64R Under development (unstable) (2025-01-22 r87618) -- "Unsuffered Consequences" 4477
Click on any hostname to see more info about the system (e.g. compilers)      (*) as reported by 'uname -p', except on Windows and Mac OS X

Package 3/30HostnameOS / ArchINSTALLBUILD
BiocMetaWorkflow 1.29.1  (landing page)
Mike Smith
Snapshot Date: 2025-01-31 12:45 -0500 (Fri, 31 Jan 2025)
git_url: https://git.bioconductor.org/packages/BiocMetaWorkflow
git_branch: devel
git_last_commit: 0dfafc1
git_last_commit_date: 2024-11-14 11:42:55 -0500 (Thu, 14 Nov 2024)
nebbiolo1Linux (Ubuntu 24.04.1 LTS) / x86_64  ERROR    ERROR  
palomino7Windows Server 2022 Datacenter / x64  ERROR    ERROR  
lconwaymacOS 12.7.1 Monterey / x86_64  ERROR    ERROR  


INSTALL results for BiocMetaWorkflow on nebbiolo1

To the developers/maintainers of the BiocMetaWorkflow package:
- Use the following Renviron settings to reproduce errors and warnings.
- If 'R CMD check' started to fail recently on the Linux builder(s) over a missing dependency, add the missing dependency to 'Suggests:' in your DESCRIPTION file. See Renviron.bioc for more information.

raw results


Summary

Package: BiocMetaWorkflow
Version: 1.29.1
Command: /home/biocbuild/bbs-3.21-bioc/R/bin/R CMD INSTALL BiocMetaWorkflow
StartedAt: 2025-01-31 13:00:12 -0500 (Fri, 31 Jan 2025)
EndedAt: 2025-01-31 13:00:17 -0500 (Fri, 31 Jan 2025)
EllapsedTime: 4.4 seconds
RetCode: 1
Status:   ERROR  

Command output

##############################################################################
##############################################################################
###
### Running command:
###
###   /home/biocbuild/bbs-3.21-bioc/R/bin/R CMD INSTALL BiocMetaWorkflow
###
##############################################################################
##############################################################################


* installing to library ‘/home/biocbuild/bbs-3.21-bioc/R/site-library’
* installing *source* package ‘BiocMetaWorkflow’ ...
** this is package ‘BiocMetaWorkflow’ version ‘1.29.1’
** using staged installation
ERROR: a 'NAMESPACE' file is required
* removing ‘/home/biocbuild/bbs-3.21-bioc/R/site-library/BiocMetaWorkflow’