Back to Workflows build report for BioC 3.21

This page was generated on 2025-02-07 16:30 -0500 (Fri, 07 Feb 2025).

HostnameOSArch (*)R versionInstalled pkgs
nebbiolo1Linux (Ubuntu 24.04.1 LTS)x86_64R Under development (unstable) (2025-01-20 r87609) -- "Unsuffered Consequences" 4719
palomino7Windows Server 2022 Datacenterx64R Under development (unstable) (2025-01-21 r87610 ucrt) -- "Unsuffered Consequences" 4480
lconwaymacOS 12.7.1 Montereyx86_64R Under development (unstable) (2025-01-22 r87618) -- "Unsuffered Consequences" 4491
Click on any hostname to see more info about the system (e.g. compilers)      (*) as reported by 'uname -p', except on Windows and Mac OS X

Package 2/30HostnameOS / ArchINSTALLBUILD
arrays 1.33.0  (landing page)
Bioconductor Package Maintainer
Snapshot Date: 2025-02-07 12:45 -0500 (Fri, 07 Feb 2025)
git_url: https://git.bioconductor.org/packages/arrays
git_branch: devel
git_last_commit: 0816c2e
git_last_commit_date: 2024-10-29 10:02:02 -0500 (Tue, 29 Oct 2024)
nebbiolo1Linux (Ubuntu 24.04.1 LTS) / x86_64  OK    OK  YES
palomino7Windows Server 2022 Datacenter / x64  OK    OK  
lconwaymacOS 12.7.1 Monterey / x86_64  OK    OK  


INSTALL results for arrays on lconway

To the developers/maintainers of the arrays package:
- Use the following Renviron settings to reproduce errors and warnings.
- If 'R CMD check' started to fail recently on the Linux builder(s) over a missing dependency, add the missing dependency to 'Suggests:' in your DESCRIPTION file. See Renviron.bioc for more information.

raw results


Summary

Package: arrays
Version: 1.33.0
Command: /Library/Frameworks/R.framework/Resources/bin/R CMD INSTALL arrays
StartedAt: 2025-02-07 13:00:18 -0500 (Fri, 07 Feb 2025)
EndedAt: 2025-02-07 13:00:22 -0500 (Fri, 07 Feb 2025)
EllapsedTime: 4.1 seconds
RetCode: 0
Status:   OK  

Command output

##############################################################################
##############################################################################
###
### Running command:
###
###   /Library/Frameworks/R.framework/Resources/bin/R CMD INSTALL arrays
###
##############################################################################
##############################################################################


* installing to library ‘/Library/Frameworks/R.framework/Versions/4.5-x86_64/Resources/library’
* installing *source* package ‘arrays’ ...
** this is package ‘arrays’ version ‘1.33.0’
** using staged installation
** inst
** help
No man pages found in package  ‘arrays’ 
*** installing help indices
** building package indices
** installing vignettes
** testing if installed package can be loaded from temporary location
** testing if installed package can be loaded from final location
** testing if installed package keeps a record of temporary installation path
* DONE (arrays)