Back to the "Multiple platform build/check report"[A] B  C  D  E  F  G  H  I  J  K  L  M  N  O  P  Q  R  S  T  U  V  W  X  Y  Z 

BioC 3.3: INSTALL report for AnnotationForge on linux2.bioconductor.org

This page was generated on 2015-10-27 12:12:08 -0400 (Tue, 27 Oct 2015).

Package 45/1104HostnameOS / ArchINSTALLBUILDCHECKBUILD BIN
AnnotationForge 1.13.1
Bioconductor Package Maintainer
Snapshot Date: 2015-10-26 20:20:04 -0400 (Mon, 26 Oct 2015)
URL: https://hedgehog.fhcrc.org/bioconductor/trunk/madman/Rpacks/AnnotationForge
Last Changed Rev: 109924 / Revision: 109948
Last Changed Date: 2015-10-26 13:26:32 -0400 (Mon, 26 Oct 2015)
linux2.bioconductor.org Linux (Ubuntu 14.04.2 LTS) / x86_64 [ OK ] OK  OK YES, new version is higher than in internal repository
windows2.bioconductor.org Windows Server 2012 R2 Enterprise SP1 (64-bit) / x64  OK  OK  OK  OK YES, new version is higher than in internal repository

Summary

Package: AnnotationForge
Version: 1.13.1
Command: /home/biocbuild/bbs-3.3-bioc/R/bin/R CMD INSTALL AnnotationForge
StartedAt: 2015-10-26 21:03:59 -0400 (Mon, 26 Oct 2015)
EndedAt: 2015-10-26 21:04:05 -0400 (Mon, 26 Oct 2015)
EllapsedTime: 5.5 seconds
RetCode: 0
Status:  OK 

Command output

##############################################################################
##############################################################################
###
### Running command:
###
###   /home/biocbuild/bbs-3.3-bioc/R/bin/R CMD INSTALL AnnotationForge
###
##############################################################################
##############################################################################


* installing to library ‘/home/biocbuild/bbs-3.3-bioc/R/library’
* installing *source* package ‘AnnotationForge’ ...
** R
** inst
** preparing package for lazy loading
** help
*** installing help indices
** building package indices
** installing vignettes
** testing if installed package can be loaded
* DONE (AnnotationForge)