BiocInstaller 1.21.1 Bioconductor Package Maintainer
Snapshot Date: 2015-10-26 20:20:04 -0400 (Mon, 26 Oct 2015) | URL: https://hedgehog.fhcrc.org/bioconductor/trunk/madman/Rpacks/BiocInstaller | Last Changed Rev: 109625 / Revision: 109948 | Last Changed Date: 2015-10-14 15:15:32 -0400 (Wed, 14 Oct 2015) |
| linux2.bioconductor.org | Linux (Ubuntu 14.04.2 LTS) / x86_64 | OK | OK | OK | | ![UNNEEDED, same version exists in internal repository UNNEEDED, same version exists in internal repository](../120px-Blue_Light_Icon.svg.png) |
windows2.bioconductor.org | Windows Server 2012 R2 Enterprise SP1 (64-bit) / x64 | OK | OK | [ OK ] | OK | ![UNNEEDED, same version exists in internal repository UNNEEDED, same version exists in internal repository](../120px-Blue_Light_Icon.svg.png) |
##############################################################################
##############################################################################
###
### Running command:
###
### rm -rf BiocInstaller.buildbin-libdir BiocInstaller.Rcheck && mkdir BiocInstaller.buildbin-libdir BiocInstaller.Rcheck && c:\biocbld\bbs-3.3-bioc\R\bin\R.exe CMD INSTALL --build --merge-multiarch --library=BiocInstaller.buildbin-libdir BiocInstaller_1.21.1.tar.gz >BiocInstaller.Rcheck\00install.out 2>&1 && cp BiocInstaller.Rcheck\00install.out BiocInstaller-install.out && c:\biocbld\bbs-3.3-bioc\R\bin\R.exe CMD check --library=BiocInstaller.buildbin-libdir --install="check:BiocInstaller-install.out" --force-multiarch --no-vignettes --timings BiocInstaller_1.21.1.tar.gz
###
##############################################################################
##############################################################################
* using log directory 'c:/biocbld/bbs-3.3-bioc/meat/BiocInstaller.Rcheck'
* using R Under development (unstable) (2015-09-22 r69418)
* using platform: x86_64-w64-mingw32 (64-bit)
* using session charset: ISO8859-1
* using option '--no-vignettes'
* checking for file 'BiocInstaller/DESCRIPTION' ... OK
* this is package 'BiocInstaller' version '1.21.1'
* checking package namespace information ... OK
* checking package dependencies ... OK
* checking if this is a source package ... OK
* checking if there is a namespace ... OK
* checking for hidden files and directories ... OK
* checking for portable file names ... OK
* checking whether package 'BiocInstaller' can be installed ... OK
* checking installed package size ... OK
* checking package directory ... OK
* checking DESCRIPTION meta-information ... OK
* checking top-level files ... OK
* checking for left-over files ... OK
* checking index information ... OK
* checking package subdirectories ... OK
* checking R files for non-ASCII characters ... OK
* checking R files for syntax errors ... OK
* loading checks for arch 'i386'
** checking whether the package can be loaded ... OK
** checking whether the package can be loaded with stated dependencies ... OK
** checking whether the package can be unloaded cleanly ... OK
** checking whether the namespace can be loaded with stated dependencies ... OK
** checking whether the namespace can be unloaded cleanly ... OK
* loading checks for arch 'x64'
** checking whether the package can be loaded ... OK
** checking whether the package can be loaded with stated dependencies ... OK
** checking whether the package can be unloaded cleanly ... OK
** checking whether the namespace can be loaded with stated dependencies ... OK
** checking whether the namespace can be unloaded cleanly ... OK
* checking dependencies in R code ... NOTE
'library' or 'require' call to 'utils' in package code.
Please use :: or requireNamespace() instead.
See section 'Suggested packages' in the 'Writing R Extensions' manual.
Unexported object imported by a ':::' call: 'utils:::.clean_up_dependencies'
See the note in ?`:::` about the use of this operator.
There are ::: calls to the package's namespace in its code. A package
almost never needs to use ::: for its own objects:
'.updateBiocInstallerFinish' '.updateFinish'
* checking S3 generic/method consistency ... OK
* checking replacement functions ... OK
* checking foreign function calls ... OK
* checking R code for possible problems ... OK
* checking Rd files ... OK
* checking Rd metadata ... OK
* checking Rd cross-references ... OK
* checking for missing documentation entries ... OK
* checking for code/documentation mismatches ... OK
* checking Rd \usage sections ... OK
* checking Rd contents ... OK
* checking for unstated dependencies in examples ... OK
* checking examples ...
** running examples for arch 'i386' ... [4s] OK
** running examples for arch 'x64' ... [4s] OK
* checking for unstated dependencies in 'tests' ... OK
* checking tests ...
** running tests for arch 'i386' ...
Running 'BiocInstaller_unit_tests.R' [1s]
[1s] OK
** running tests for arch 'x64' ...
Running 'BiocInstaller_unit_tests.R' [1s]
[1s] OK
* checking PDF version of manual ... OK
* DONE
Status: 1 NOTE
See
'c:/biocbld/bbs-3.3-bioc/meat/BiocInstaller.Rcheck/00check.log'
for details.
install for i386
* installing *source* package 'BiocInstaller' ...
** R
** inst
** preparing package for lazy loading
** help
*** installing help indices
** building package indices
** testing if installed package can be loaded
Bioconductor version 3.3 (BiocInstaller 1.21.1), ?biocLite for help
install for x64
* installing *source* package 'BiocInstaller' ...
** testing if installed package can be loaded
Bioconductor version 3.3 (BiocInstaller 1.21.1), ?biocLite for help
* MD5 sums
packaged installation of 'BiocInstaller' as BiocInstaller_1.21.1.zip
* DONE (BiocInstaller)