DAVIDQuery 1.31.0 Roger Day
Snapshot Date: 2015-10-26 20:20:04 -0400 (Mon, 26 Oct 2015) | URL: https://hedgehog.fhcrc.org/bioconductor/trunk/madman/Rpacks/DAVIDQuery | Last Changed Rev: 109592 / Revision: 109948 | Last Changed Date: 2015-10-13 15:59:53 -0400 (Tue, 13 Oct 2015) |
| linux2.bioconductor.org | Linux (Ubuntu 14.04.2 LTS) / x86_64 | OK | OK | ERROR | | |
windows2.bioconductor.org | Windows Server 2012 R2 Enterprise SP1 (64-bit) / x64 | OK | [ ERROR ] | skipped | skipped | |
##############################################################################
##############################################################################
###
### Running command:
###
### chmod a+r DAVIDQuery -R && c:\biocbld\bbs-3.3-bioc\R\bin\R.exe CMD build --keep-empty-dirs --no-resave-data DAVIDQuery
###
##############################################################################
##############################################################################
* checking for file 'DAVIDQuery/DESCRIPTION' ... OK
* preparing 'DAVIDQuery':
* checking DESCRIPTION meta-information ... OK
* installing the package to build vignettes
* creating vignettes ...Warning: running command '"c:/biocbld/bbs-3.3-bioc/R/bin/x64/Rscript" --vanilla --default-packages= -e "tools::buildVignettes(dir = '.', tangle = TRUE)"' had status 1
ERROR
Loading required package: RCurl
Loading required package: bitops
Warning: Package 'DAVIDQuery' is deprecated and will be removed from
Bioconductor version 3.3
Error: processing vignette 'DAVIDQuery.Rnw' failed with diagnostics:
chunk 1 (label = chunk1)
Error in function (type, msg, asError = TRUE) :
Unknown SSL protocol error in connection to david.abcc.ncifcrf.gov:443
Execution halted