DESeq 1.23.0 Simon Anders
Snapshot Date: 2015-10-26 20:20:04 -0400 (Mon, 26 Oct 2015) | URL: https://hedgehog.fhcrc.org/bioconductor/trunk/madman/Rpacks/DESeq | Last Changed Rev: 109592 / Revision: 109948 | Last Changed Date: 2015-10-13 15:59:53 -0400 (Tue, 13 Oct 2015) |
| linux2.bioconductor.org | Linux (Ubuntu 14.04.2 LTS) / x86_64 | OK | OK | OK | | ![UNNEEDED, same version exists in internal repository UNNEEDED, same version exists in internal repository](../120px-Blue_Light_Icon.svg.png) |
windows2.bioconductor.org | Windows Server 2012 R2 Enterprise SP1 (64-bit) / x64 | OK | OK | OK | [ OK ] | ![UNNEEDED, same version exists in internal repository UNNEEDED, same version exists in internal repository](../120px-Blue_Light_Icon.svg.png) |
##############################################################################
##############################################################################
###
### Running command:
###
### cd DESeq.buildbin-libdir/DESeq && zip -r ../../DESeq_1.23.0.zip . & cd ../..
###
##############################################################################
##############################################################################
adding: CITATION (188 bytes security) (deflated 54%)
adding: DESCRIPTION (188 bytes security) (deflated 40%)
adding: doc/ (208 bytes security) (stored 0%)
adding: doc/DESeq.pdf (188 bytes security) (deflated 15%)
adding: doc/DESeq.R (188 bytes security) (deflated 81%)
adding: doc/DESeq.Rnw (188 bytes security) (deflated 66%)
adding: doc/index.html (188 bytes security) (deflated 57%)
adding: extra/ (208 bytes security) (stored 0%)
adding: extra/scvBiasCorrectionFits.rda (188 bytes security) (deflated 3%)
adding: extra/TagSeqExample.tab (188 bytes security) (deflated 66%)
adding: help/ (208 bytes security) (stored 0%)
adding: help/aliases.rds (188 bytes security) (stored 0%)
adding: help/AnIndex (188 bytes security) (deflated 72%)
adding: help/DESeq.rdb (188 bytes security) (deflated 2%)
adding: help/DESeq.rdx (188 bytes security) (stored 0%)
adding: help/paths.rds (188 bytes security) (stored 0%)
adding: html/ (208 bytes security) (stored 0%)
adding: html/00Index.html (188 bytes security) (deflated 77%)
adding: html/R.css (188 bytes security) (deflated 75%)
adding: INDEX (188 bytes security) (deflated 69%)
adding: libs/ (208 bytes security) (stored 0%)
adding: libs/i386/ (208 bytes security) (stored 0%)
adding: libs/i386/DESeq.dll (188 bytes security) (deflated 57%)
adding: libs/x64/ (208 bytes security) (stored 0%)
adding: libs/x64/DESeq.dll (188 bytes security) (deflated 58%)
adding: MD5 (188 bytes security) (deflated 41%)
adding: Meta/ (208 bytes security) (stored 0%)
adding: Meta/hsearch.rds (188 bytes security) (stored 0%)
adding: Meta/links.rds (188 bytes security) (stored 0%)
adding: Meta/nsInfo.rds (188 bytes security) (stored 0%)
adding: Meta/package.rds (188 bytes security) (stored 0%)
adding: Meta/Rd.rds (188 bytes security) (stored 0%)
adding: Meta/vignette.rds (188 bytes security) (stored 0%)
adding: NAMESPACE (188 bytes security) (deflated 55%)
adding: NEWS (188 bytes security) (deflated 60%)
adding: R/ (208 bytes security) (stored 0%)
adding: R/DESeq (188 bytes security) (deflated 41%)
adding: R/DESeq.rdb (188 bytes security) (deflated 5%)
adding: R/DESeq.rdx (188 bytes security) (deflated 1%)
adding: scripts/ (208 bytes security) (stored 0%)
adding: scripts/testVarianceStabilizingTransformation.R (188 bytes security) (deflated 43%)