GeneSelectMMD 2.15.0 Weiliang Qiu
Snapshot Date: 2015-10-26 20:20:04 -0400 (Mon, 26 Oct 2015) | URL: https://hedgehog.fhcrc.org/bioconductor/trunk/madman/Rpacks/GeneSelectMMD | Last Changed Rev: 109592 / Revision: 109948 | Last Changed Date: 2015-10-13 15:59:53 -0400 (Tue, 13 Oct 2015) |
| linux2.bioconductor.org | Linux (Ubuntu 14.04.2 LTS) / x86_64 | OK | OK | OK | | ![UNNEEDED, same version exists in internal repository UNNEEDED, same version exists in internal repository](../120px-Blue_Light_Icon.svg.png) |
windows2.bioconductor.org | Windows Server 2012 R2 Enterprise SP1 (64-bit) / x64 | [ OK ] | OK | OK | OK | ![UNNEEDED, same version exists in internal repository UNNEEDED, same version exists in internal repository](../120px-Blue_Light_Icon.svg.png) |
##############################################################################
##############################################################################
###
### Running command:
###
### C:\cygwin64\bin\curl.exe -O http://linux2.bioconductor.org/BBS/3.3/bioc/src/contrib/GeneSelectMMD_2.15.0.tar.gz && c:\biocbld\bbs-3.3-bioc\R\bin\R.exe CMD INSTALL --merge-multiarch GeneSelectMMD_2.15.0.tar.gz && rm GeneSelectMMD_2.15.0.tar.gz
###
##############################################################################
##############################################################################
% Total % Received % Xferd Average Speed Time Time Time Current
Dload Upload Total Spent Left Speed
0 0 0 0 0 0 0 0 --:--:-- --:--:-- --:--:-- 0
100 77592 100 77592 0 0 14.4M 0 --:--:-- --:--:-- --:--:-- 73.9M
install for i386
* installing to library 'c:/biocbld/bbs-3.3-bioc/R/library'
* installing *source* package 'GeneSelectMMD' ...
** libs
gfortran -m32 -O3 -mtune=core2 -c Qfunc.f -o Qfunc.o
gfortran -m32 -O3 -mtune=core2 -c blas.f -o blas.o
gcc -m32 -I"c:/biocbld/BBS-3˜1.3-B/R/include" -DNDEBUG -I"d:/RCompile/r-compiling/local/local320/include" -O3 -Wall -std=gnu99 -mtune=core2 -c isnan.c -o isnan.o
gfortran -m32 -O3 -mtune=core2 -c lbfgsb.f -o lbfgsb.o
gfortran -m32 -O3 -mtune=core2 -c lbfgsbDriver.f -o lbfgsbDriver.o
gfortran -m32 -O3 -mtune=core2 -c linpack.f -o linpack.o
gfortran -m32 -O3 -mtune=core2 -c llkhFun.f -o llkhFun.o
gfortran -m32 -O3 -mtune=core2 -c myTtest.f -o myTtest.o
gfortran -m32 -O3 -mtune=core2 -c paraEstLoop.f -o paraEstLoop.o
gcc -m32 -I"c:/biocbld/BBS-3˜1.3-B/R/include" -DNDEBUG -I"d:/RCompile/r-compiling/local/local320/include" -O3 -Wall -std=gnu99 -mtune=core2 -c pt.c -o pt.o
gfortran -m32 -O3 -mtune=core2 -c timer.f -o timer.o
gfortran -m32 -O3 -mtune=core2 -c wiFun.f -o wiFun.o
gcc -m32 -shared -s -static-libgcc -o GeneSelectMMD.dll tmp.def Qfunc.o blas.o isnan.o lbfgsb.o lbfgsbDriver.o linpack.o llkhFun.o myTtest.o paraEstLoop.o pt.o timer.o wiFun.o -Ld:/RCompile/r-compiling/local/local320/lib/i386 -Ld:/RCompile/r-compiling/local/local320/lib -lgfortran -lm -lquadmath -Lc:/biocbld/BBS-3˜1.3-B/R/bin/i386 -lR
installing to c:/biocbld/bbs-3.3-bioc/R/library/GeneSelectMMD/libs/i386
** R
** preparing package for lazy loading
** help
*** installing help indices
** building package indices
** installing vignettes
** testing if installed package can be loaded
install for x64
* installing to library 'c:/biocbld/bbs-3.3-bioc/R/library'
* installing *source* package 'GeneSelectMMD' ...
** libs
gfortran -m64 -O2 -mtune=core2 -c Qfunc.f -o Qfunc.o
gfortran -m64 -O2 -mtune=core2 -c blas.f -o blas.o
gcc -m64 -I"c:/biocbld/BBS-3˜1.3-B/R/include" -DNDEBUG -I"d:/RCompile/r-compiling/local/local320/include" -O2 -Wall -std=gnu99 -mtune=core2 -c isnan.c -o isnan.o
gfortran -m64 -O2 -mtune=core2 -c lbfgsb.f -o lbfgsb.o
gfortran -m64 -O2 -mtune=core2 -c lbfgsbDriver.f -o lbfgsbDriver.o
gfortran -m64 -O2 -mtune=core2 -c linpack.f -o linpack.o
gfortran -m64 -O2 -mtune=core2 -c llkhFun.f -o llkhFun.o
gfortran -m64 -O2 -mtune=core2 -c myTtest.f -o myTtest.o
gfortran -m64 -O2 -mtune=core2 -c paraEstLoop.f -o paraEstLoop.o
gcc -m64 -I"c:/biocbld/BBS-3˜1.3-B/R/include" -DNDEBUG -I"d:/RCompile/r-compiling/local/local320/include" -O2 -Wall -std=gnu99 -mtune=core2 -c pt.c -o pt.o
gfortran -m64 -O2 -mtune=core2 -c timer.f -o timer.o
gfortran -m64 -O2 -mtune=core2 -c wiFun.f -o wiFun.o
gcc -m64 -shared -s -static-libgcc -o GeneSelectMMD.dll tmp.def Qfunc.o blas.o isnan.o lbfgsb.o lbfgsbDriver.o linpack.o llkhFun.o myTtest.o paraEstLoop.o pt.o timer.o wiFun.o -Ld:/RCompile/r-compiling/local/local320/lib/x64 -Ld:/RCompile/r-compiling/local/local320/lib -lgfortran -lm -lquadmath -Lc:/biocbld/BBS-3˜1.3-B/R/bin/x64 -lR
installing to c:/biocbld/bbs-3.3-bioc/R/library/GeneSelectMMD/libs/x64
** testing if installed package can be loaded
* DONE (GeneSelectMMD)