Back to the "Multiple platform build/check report" A  B  C  D  E  F  G  H  I  J  K  L [M] N  O  P  Q  R  S  T  U  V  W  X  Y  Z 

BioC 3.3: INSTALL report for MotIV on linux2.bioconductor.org

This page was generated on 2015-10-27 12:11:49 -0400 (Tue, 27 Oct 2015).

Package 672/1104HostnameOS / ArchINSTALLBUILDCHECKBUILD BIN
MotIV 1.27.0
Eloi Mercier , Raphael Gottardo
Snapshot Date: 2015-10-26 20:20:04 -0400 (Mon, 26 Oct 2015)
URL: https://hedgehog.fhcrc.org/bioconductor/trunk/madman/Rpacks/MotIV
Last Changed Rev: 109592 / Revision: 109948
Last Changed Date: 2015-10-13 15:59:53 -0400 (Tue, 13 Oct 2015)
linux2.bioconductor.org Linux (Ubuntu 14.04.2 LTS) / x86_64 [ OK ] OK  OK UNNEEDED, same version exists in internal repository
windows2.bioconductor.org Windows Server 2012 R2 Enterprise SP1 (64-bit) / x64  OK  OK  OK  OK UNNEEDED, same version exists in internal repository

Summary

Package: MotIV
Version: 1.27.0
Command: /home/biocbuild/bbs-3.3-bioc/R/bin/R CMD INSTALL MotIV
StartedAt: 2015-10-26 21:13:25 -0400 (Mon, 26 Oct 2015)
EndedAt: 2015-10-26 21:13:41 -0400 (Mon, 26 Oct 2015)
EllapsedTime: 15.5 seconds
RetCode: 0
Status:  OK 

Command output

##############################################################################
##############################################################################
###
### Running command:
###
###   /home/biocbuild/bbs-3.3-bioc/R/bin/R CMD INSTALL MotIV
###
##############################################################################
##############################################################################


* installing to library ‘/home/biocbuild/bbs-3.3-bioc/R/library’
* installing *source* package ‘MotIV’ ...
checking for gcc... gcc -std=gnu99
checking for C compiler default output file name... a.out
checking whether the C compiler works... yes
checking whether we are cross compiling... no
checking for suffix of executables... 
checking for suffix of object files... o
checking whether we are using the GNU C compiler... yes
checking whether gcc -std=gnu99 accepts -g... yes
checking for gcc -std=gnu99 option to accept ISO C89... none needed
checking for gsl-config... /usr/bin/gsl-config
checking for GSL - version >= 1.6... yes
configure: creating ./config.status
config.status: creating src/Makevars
** libs
g++ -I/home/biocbuild/bbs-3.3-bioc/R/include -DNDEBUG  -I/usr/local/include    -fpic  -g -O2  -c Alignment.cpp -o Alignment.o
g++ -I/home/biocbuild/bbs-3.3-bioc/R/include -DNDEBUG  -I/usr/local/include    -fpic  -g -O2  -c ColumnComp.cpp -o ColumnComp.o
g++ -I/home/biocbuild/bbs-3.3-bioc/R/include -DNDEBUG  -I/usr/local/include    -fpic  -g -O2  -c DeclareAll.cpp -o DeclareAll.o
g++ -I/home/biocbuild/bbs-3.3-bioc/R/include -DNDEBUG  -I/usr/local/include    -fpic  -g -O2  -c Motif.cpp -o Motif.o
g++ -I/home/biocbuild/bbs-3.3-bioc/R/include -DNDEBUG  -I/usr/local/include    -fpic  -g -O2  -c MotifDistances.cpp -o MotifDistances.o
g++ -I/home/biocbuild/bbs-3.3-bioc/R/include -DNDEBUG  -I/usr/local/include    -fpic  -g -O2  -c MotifMatch.cpp -o MotifMatch.o
g++ -I/home/biocbuild/bbs-3.3-bioc/R/include -DNDEBUG  -I/usr/local/include    -fpic  -g -O2  -c PlatformSupport.cpp -o PlatformSupport.o
g++ -I/home/biocbuild/bbs-3.3-bioc/R/include -DNDEBUG  -I/usr/local/include    -fpic  -g -O2  -c RandPSSMGen.cpp -o RandPSSMGen.o
g++ -I/home/biocbuild/bbs-3.3-bioc/R/include -DNDEBUG  -I/usr/local/include    -fpic  -g -O2  -c generateScoresDB.cpp -o generateScoresDB.o
g++ -shared -L/home/biocbuild/bbs-3.3-bioc/R/lib -L/usr/local/lib -o MotIV.so Alignment.o ColumnComp.o DeclareAll.o Motif.o MotifDistances.o MotifMatch.o PlatformSupport.o RandPSSMGen.o generateScoresDB.o -lgsl -lgslcblas -lm -L/home/biocbuild/bbs-3.3-bioc/R/lib -lR
installing to /home/biocbuild/bbs-3.3-bioc/R/library/MotIV/libs
** R
** data
** inst
** preparing package for lazy loading
Creating a new generic function for ‘filter’ in package ‘MotIV’
Creating a generic function for ‘plot’ from package ‘graphics’ in package ‘MotIV’
** help
*** installing help indices
** building package indices
** installing vignettes
** testing if installed package can be loaded
* DONE (MotIV)