MotifDb 1.13.0 Paul Shannon
Snapshot Date: 2015-10-26 20:20:04 -0400 (Mon, 26 Oct 2015) | URL: https://hedgehog.fhcrc.org/bioconductor/trunk/madman/Rpacks/MotifDb | Last Changed Rev: 109592 / Revision: 109948 | Last Changed Date: 2015-10-13 15:59:53 -0400 (Tue, 13 Oct 2015) |
| linux2.bioconductor.org | Linux (Ubuntu 14.04.2 LTS) / x86_64 | OK | OK | OK | | |
windows2.bioconductor.org | Windows Server 2012 R2 Enterprise SP1 (64-bit) / x64 | OK | OK | OK | [ OK ] | |
##############################################################################
##############################################################################
###
### Running command:
###
### cd MotifDb.buildbin-libdir/MotifDb && zip -r ../../MotifDb_1.13.0.zip . & cd ../..
###
##############################################################################
##############################################################################
adding: DESCRIPTION (188 bytes security) (deflated 35%)
adding: doc/ (208 bytes security) (stored 0%)
adding: doc/index.html (188 bytes security) (deflated 58%)
adding: doc/MotifDb.pdf (188 bytes security) (deflated 4%)
adding: doc/MotifDb.R (188 bytes security) (deflated 82%)
adding: doc/MotifDb.Rnw (188 bytes security) (deflated 62%)
adding: extdata/ (208 bytes security) (stored 0%)
adding: extdata/cisbp.RData (188 bytes security) (deflated 1%)
adding: extdata/flyFactorSurvey.RData (188 bytes security) (deflated 2%)
adding: extdata/hPDI.RData (188 bytes security) (deflated 2%)
adding: extdata/jaspar.RData (188 bytes security) (deflated 2%)
adding: extdata/jaspar2014.RData (188 bytes security) (deflated 1%)
adding: extdata/jolma2013.RData (188 bytes security) (deflated 0%)
adding: extdata/ScerTF.RData (188 bytes security) (deflated 0%)
adding: extdata/stamlab.RData (188 bytes security) (deflated 2%)
adding: extdata/uniprobe.RData (188 bytes security) (deflated 1%)
adding: help/ (208 bytes security) (stored 0%)
adding: help/aliases.rds (188 bytes security) (stored 0%)
adding: help/AnIndex (188 bytes security) (deflated 65%)
adding: help/MotifDb.rdb (188 bytes security) (deflated 1%)
adding: help/MotifDb.rdx (188 bytes security) (stored 0%)
adding: help/paths.rds (188 bytes security) (stored 0%)
adding: html/ (208 bytes security) (stored 0%)
adding: html/00Index.html (188 bytes security) (deflated 68%)
adding: html/R.css (188 bytes security) (deflated 75%)
adding: INDEX (188 bytes security) (deflated 51%)
adding: LICENSE (188 bytes security) (deflated 48%)
adding: makefile (188 bytes security) (deflated 64%)
adding: MD5 (188 bytes security) (deflated 53%)
adding: Meta/ (208 bytes security) (stored 0%)
adding: Meta/hsearch.rds (188 bytes security) (stored 0%)
adding: Meta/links.rds (188 bytes security) (stored 0%)
adding: Meta/nsInfo.rds (188 bytes security) (stored 0%)
adding: Meta/package.rds (188 bytes security) (stored 0%)
adding: Meta/Rd.rds (188 bytes security) (stored 0%)
adding: Meta/vignette.rds (188 bytes security) (stored 0%)
adding: NAMESPACE (188 bytes security) (deflated 38%)
adding: NEWS (188 bytes security) (deflated 40%)
adding: R/ (208 bytes security) (stored 0%)
adding: R/MotifDb (188 bytes security) (deflated 41%)
adding: R/MotifDb.rdb (188 bytes security) (deflated 32%)
adding: R/MotifDb.rdx (188 bytes security) (stored 0%)
adding: scripts/ (208 bytes security) (stored 0%)
adding: scripts/import/ (208 bytes security) (stored 0%)
adding: scripts/import/cisbp/ (208 bytes security) (stored 0%)
adding: scripts/import/cisbp/cisbp-metadata-6559-matrices.Rdata (188 bytes security) (deflated 11%)
adding: scripts/import/cisbp/import.R (188 bytes security) (deflated 71%)
adding: scripts/import/cisbp/test.R (188 bytes security) (deflated 69%)
adding: scripts/import/demo/ (208 bytes security) (stored 0%)
adding: scripts/import/demo/import.R (188 bytes security) (deflated 70%)
adding: scripts/import/demo/md-raw.tsv (188 bytes security) (deflated 47%)
adding: scripts/import/demo/sample.pcm (188 bytes security) (deflated 55%)
adding: scripts/import/fbgns.RData (188 bytes security) (stored 0%)
adding: scripts/import/flyFactorSurvey/ (208 bytes security) (stored 0%)
adding: scripts/import/flyFactorSurvey/import.R (188 bytes security) (deflated 72%)
adding: scripts/import/flyFactorSurvey/test.R (188 bytes security) (deflated 74%)
adding: scripts/import/HOCOMOCO/ (208 bytes security) (stored 0%)
adding: scripts/import/HOCOMOCO/import.R (188 bytes security) (deflated 69%)
adding: scripts/import/HOCOMOCO/import_functional_only_matrices.R (188 bytes security) (deflated 69%)
adding: scripts/import/HOCOMOCO/test.R (188 bytes security) (deflated 76%)
adding: scripts/import/HOCOMOCO/test.txt (188 bytes security) (stored 0%)
adding: scripts/import/hPDI/ (208 bytes security) (stored 0%)
adding: scripts/import/hPDI/import.R (188 bytes security) (deflated 73%)
adding: scripts/import/hPDI/test.R (188 bytes security) (deflated 77%)
adding: scripts/import/importAll.R (188 bytes security) (deflated 53%)
adding: scripts/import/jaspar/ (208 bytes security) (stored 0%)
adding: scripts/import/jaspar/import.R (188 bytes security) (deflated 71%)
adding: scripts/import/jaspar/test.R (188 bytes security) (deflated 73%)
adding: scripts/import/jaspar2014/ (208 bytes security) (stored 0%)
adding: scripts/import/jaspar2014/import.R (188 bytes security) (deflated 72%)
adding: scripts/import/jaspar2014/jaspar2014/ (208 bytes security) (stored 0%)
adding: scripts/import/jaspar2014/jaspar2014/Matrix.txt (188 bytes security) (deflated 68%)
adding: scripts/import/jaspar2014/jaspar2014/MATRIX_ANNOTATION.txt (188 bytes security) (deflated 82%)
adding: scripts/import/jaspar2014/jaspar2014/matrix_data.txt (188 bytes security) (deflated 58%)
adding: scripts/import/jaspar2014/jaspar2014/MATRIX_PROTEIN.txt (188 bytes security) (deflated 56%)
adding: scripts/import/jaspar2014/jaspar2014/MATRIX_SPECIES.txt (188 bytes security) (deflated 79%)
adding: scripts/import/jaspar2014/md-raw.tsv (188 bytes security) (deflated 47%)
adding: scripts/import/jaspar2014/sample.pcm (188 bytes security) (deflated 55%)
adding: scripts/import/jaspar2014/test.R (188 bytes security) (deflated 75%)
adding: scripts/import/jolma2013/ (208 bytes security) (stored 0%)
adding: scripts/import/jolma2013/import.R (188 bytes security) (deflated 72%)
adding: scripts/import/jolma2013/test.R (188 bytes security) (deflated 74%)
adding: scripts/import/README (188 bytes security) (deflated 17%)
adding: scripts/import/ScerTF/ (208 bytes security) (stored 0%)
adding: scripts/import/ScerTF/import.R (188 bytes security) (deflated 70%)
adding: scripts/import/ScerTF/test.R (188 bytes security) (deflated 76%)
adding: scripts/import/stamlab/ (208 bytes security) (stored 0%)
adding: scripts/import/stamlab/import.R (188 bytes security) (deflated 74%)
adding: scripts/import/stamlab/test.R (188 bytes security) (deflated 74%)
adding: scripts/import/uniprobe/ (208 bytes security) (stored 0%)
adding: scripts/import/uniprobe/import.R (188 bytes security) (deflated 73%)
adding: scripts/import/uniprobe/test.R (188 bytes security) (deflated 74%)
adding: unitTests/ (208 bytes security) (stored 0%)
adding: unitTests/test_MotifDb.R (188 bytes security) (deflated 76%)
adding: vanillaTest.R (188 bytes security) (deflated 10%)