Back to the "Multiple platform build/check report" A  B  C  D  E  F  G  H  I  J  K  L  M  N  O  P  Q  R [S] T  U  V  W  X  Y  Z 

BioC 3.3: CHECK report for SLGI on linux2.bioconductor.org

This page was generated on 2015-10-27 12:11:38 -0400 (Tue, 27 Oct 2015).

Package 986/1104HostnameOS / ArchINSTALLBUILDCHECKBUILD BIN
SLGI 1.31.0
Nolwenn Le Meur
Snapshot Date: 2015-10-26 20:20:04 -0400 (Mon, 26 Oct 2015)
URL: https://hedgehog.fhcrc.org/bioconductor/trunk/madman/Rpacks/SLGI
Last Changed Rev: 109592 / Revision: 109948
Last Changed Date: 2015-10-13 15:59:53 -0400 (Tue, 13 Oct 2015)
linux2.bioconductor.org Linux (Ubuntu 14.04.2 LTS) / x86_64  OK  OK [ OK ]UNNEEDED, same version exists in internal repository
windows2.bioconductor.org Windows Server 2012 R2 Enterprise SP1 (64-bit) / x64  OK  OK  OK  OK UNNEEDED, same version exists in internal repository

Summary

Package: SLGI
Version: 1.31.0
Command: /home/biocbuild/bbs-3.3-bioc/R/bin/R CMD check --no-vignettes --timings SLGI_1.31.0.tar.gz
StartedAt: 2015-10-27 08:10:59 -0400 (Tue, 27 Oct 2015)
EndedAt: 2015-10-27 08:13:55 -0400 (Tue, 27 Oct 2015)
EllapsedTime: 176.1 seconds
RetCode: 0
Status:  OK 
CheckDir: SLGI.Rcheck
Warnings: 0

Command output

##############################################################################
##############################################################################
###
### Running command:
###
###   /home/biocbuild/bbs-3.3-bioc/R/bin/R CMD check --no-vignettes --timings SLGI_1.31.0.tar.gz
###
##############################################################################
##############################################################################


* using log directory ‘/home/biocbuild/bbs-3.3-bioc/meat/SLGI.Rcheck’
* using R Under development (unstable) (2015-09-09 r69333)
* using platform: x86_64-pc-linux-gnu (64-bit)
* using session charset: UTF-8
* using option ‘--no-vignettes’
* checking for file ‘SLGI/DESCRIPTION’ ... OK
* this is package ‘SLGI’ version ‘1.31.0’
* checking package namespace information ... OK
* checking package dependencies ... OK
* checking if this is a source package ... OK
* checking if there is a namespace ... OK
* checking for hidden files and directories ... OK
* checking for portable file names ... OK
* checking for sufficient/correct file permissions ... OK
* checking whether package ‘SLGI’ can be installed ... [9s/9s] OK
* checking installed package size ... NOTE
  installed size is 15.9Mb
  sub-directories of 1Mb or more:
    data      4.2Mb
    extdata  11.3Mb
* checking package directory ... OK
* checking ‘build’ directory ... OK
* checking DESCRIPTION meta-information ... NOTE
Malformed Description field: should contain one or more complete sentences.
Packages listed in more than one of Depends, Imports, Suggests, Enhances:
  ‘ScISI’ ‘lattice’ ‘GO.db’
A package should be listed in only one of these fields.
* checking top-level files ... OK
* checking for left-over files ... OK
* checking index information ... OK
* checking package subdirectories ... OK
* checking R files for non-ASCII characters ... OK
* checking R files for syntax errors ... OK
* checking whether the package can be loaded ... OK
* checking whether the package can be loaded with stated dependencies ... OK
* checking whether the package can be unloaded cleanly ... OK
* checking whether the namespace can be loaded with stated dependencies ... OK
* checking whether the namespace can be unloaded cleanly ... OK
* checking dependencies in R code ... NOTE
'library' or 'require' call to ‘GO.db’ in package code.
  Please use :: or requireNamespace() instead.
  See section 'Suggested packages' in the 'Writing R Extensions' manual.
* checking S3 generic/method consistency ... OK
* checking replacement functions ... OK
* checking foreign function calls ... OK
* checking R code for possible problems ... OK
* checking Rd files ... OK
* checking Rd metadata ... OK
* checking Rd cross-references ... OK
* checking for missing documentation entries ... OK
* checking for code/documentation mismatches ... OK
* checking Rd \usage sections ... OK
* checking Rd contents ... OK
* checking for unstated dependencies in examples ... OK
* checking contents of ‘data’ directory ... OK
* checking data for non-ASCII characters ... OK
* checking data for ASCII and uncompressed saves ... OK
* checking installed files from ‘inst/doc’ ... OK
* checking files in ‘vignettes’ ... OK
* checking examples ... [89s/89s] OK
Examples with CPU or elapsed time > 5s
                 user system elapsed
iSummary       19.071  0.076  19.154
compare        10.729  0.017  10.754
plot            9.876  0.008   9.883
modelSLGI       8.947  0.012   8.963
siResult-class  8.650  0.000   8.660
twoWayTable     5.361  0.028   5.397
* checking for unstated dependencies in vignettes ... OK
* checking package vignettes in ‘inst/doc’ ... OK
* checking running R code from vignettes ... SKIPPED
* checking re-building of vignette outputs ... SKIPPED
* checking PDF version of manual ... OK
* DONE

Status: 3 NOTEs
See
  ‘/home/biocbuild/bbs-3.3-bioc/meat/SLGI.Rcheck/00check.log’
for details.


SLGI.Rcheck/00install.out:

* installing *source* package ‘SLGI’ ...
** R
** data
** inst
** preparing package for lazy loading
No methods found in "Biobase" for requests: listlen
No methods found in "annotate" for requests: pubmed, buildPubMedAbst
No methods found in "BiocGenerics" for requests: plot
** help
*** installing help indices
** building package indices
** installing vignettes
** testing if installed package can be loaded
No methods found in "Biobase" for requests: listlen
No methods found in "annotate" for requests: pubmed, buildPubMedAbst
No methods found in "BiocGenerics" for requests: plot
* DONE (SLGI)

SLGI.Rcheck/SLGI-Ex.timings:

nameusersystemelapsed
Atong0.0170.0000.018
AtongFnDomain4.5650.0474.617
AtongPair0.0330.0200.053
SDL0.0020.0030.005
SGA0.0050.0010.005
SGD.SL0.1600.0070.168
TFmat0.060.000.06
byComplex0.5450.0080.553
comemberIn0.5910.0240.614
compare10.729 0.01710.754
congruence0.0020.0000.002
createSquareMatrix0.2580.0030.262
domainDist2.0080.0162.026
essglist0.0070.0000.007
getInteraction0.0030.0000.003
getSharedDomains0.010.000.01
getSharedInteraction0.0010.0000.001
getTestedPairs0.0090.0000.009
getUniquePairs0.0150.0000.014
gi20050.0340.0040.038
gi20070.1090.0040.113
gi2Interactome0.0010.0000.001
hyperG0.0060.0000.005
iSummary19.071 0.07619.154
modelSLGI8.9470.0128.963
normInteraction4.6400.0004.644
plot9.8760.0089.883
seqMatcherAlign0.0010.0000.001
sharedBy2.4880.0402.529
sharedInt0.0030.0000.002
siResult-class8.650.008.66
test2Interact0.0030.0000.003
topInteraction4.7730.0044.784
twoWayTable5.3610.0285.397
withinComplex0.8130.0160.829