biocViews 1.39.1 Bioconductor Package Maintainer
Snapshot Date: 2015-10-26 20:20:04 -0400 (Mon, 26 Oct 2015) | URL: https://hedgehog.fhcrc.org/bioconductor/trunk/madman/Rpacks/biocViews | Last Changed Rev: 109748 / Revision: 109948 | Last Changed Date: 2015-10-19 16:47:41 -0400 (Mon, 19 Oct 2015) |
| linux2.bioconductor.org | Linux (Ubuntu 14.04.2 LTS) / x86_64 | OK | OK | OK | | |
windows2.bioconductor.org | Windows Server 2012 R2 Enterprise SP1 (64-bit) / x64 | OK | OK | OK | [ OK ] | |
##############################################################################
##############################################################################
###
### Running command:
###
### cd biocViews.buildbin-libdir/biocViews && zip -r ../../biocViews_1.39.1.zip . & cd ../..
###
##############################################################################
##############################################################################
adding: css/ (208 bytes security) (stored 0%)
adding: css/package-detail.css.in (188 bytes security) (deflated 56%)
adding: css/repository-detail.css.in (188 bytes security) (deflated 54%)
adding: data/ (208 bytes security) (stored 0%)
adding: data/biocViewsVocab.rda (188 bytes security) (deflated 2%)
adding: DESCRIPTION (188 bytes security) (deflated 44%)
adding: doc/ (208 bytes security) (stored 0%)
adding: doc/createReposHtml.pdf (188 bytes security) (deflated 8%)
adding: doc/createReposHtml.R (188 bytes security) (deflated 69%)
adding: doc/createReposHtml.Rnw (188 bytes security) (deflated 60%)
adding: doc/HOWTO-BCV.pdf (188 bytes security) (deflated 8%)
adding: doc/HOWTO-BCV.R (188 bytes security) (deflated 70%)
adding: doc/HOWTO-BCV.Rnw (188 bytes security) (deflated 57%)
adding: doc/index.html (188 bytes security) (deflated 68%)
adding: doc/VIEWS (188 bytes security) (deflated 66%)
adding: dot/ (208 bytes security) (stored 0%)
adding: dot/biocViewsVocab.dot (188 bytes security) (deflated 77%)
adding: extdata/ (208 bytes security) (stored 0%)
adding: extdata/biocViewsVocab.sqlite (188 bytes security) (deflated 62%)
adding: help/ (208 bytes security) (stored 0%)
adding: help/aliases.rds (188 bytes security) (stored 0%)
adding: help/AnIndex (188 bytes security) (deflated 79%)
adding: help/biocViews.rdb (188 bytes security) (deflated 2%)
adding: help/biocViews.rdx (188 bytes security) (stored 0%)
adding: help/paths.rds (188 bytes security) (stored 0%)
adding: html/ (208 bytes security) (stored 0%)
adding: html/00Index.html (188 bytes security) (deflated 83%)
adding: html/R.css (188 bytes security) (deflated 75%)
adding: htmlfrags/ (208 bytes security) (stored 0%)
adding: htmlfrags/topfrag.html (188 bytes security) (deflated 40%)
adding: INDEX (188 bytes security) (deflated 69%)
adding: MD5 (188 bytes security) (deflated 45%)
adding: Meta/ (208 bytes security) (stored 0%)
adding: Meta/data.rds (188 bytes security) (stored 0%)
adding: Meta/hsearch.rds (188 bytes security) (stored 0%)
adding: Meta/links.rds (188 bytes security) (stored 0%)
adding: Meta/nsInfo.rds (188 bytes security) (stored 0%)
adding: Meta/package.rds (188 bytes security) (stored 0%)
adding: Meta/Rd.rds (188 bytes security) (stored 0%)
adding: Meta/vignette.rds (188 bytes security) (stored 0%)
adding: NAMESPACE (188 bytes security) (deflated 59%)
adding: NEWS (188 bytes security) (deflated 24%)
adding: R/ (208 bytes security) (stored 0%)
adding: R/biocViews (188 bytes security) (deflated 41%)
adding: R/biocViews.rdb (188 bytes security) (deflated 23%)
adding: R/biocViews.rdx (188 bytes security) (stored 0%)
adding: script/ (208 bytes security) (stored 0%)
adding: script/recommend_biocViews_rpacks.R (188 bytes security) (deflated 62%)
adding: script/reviseBiocViews.R (188 bytes security) (deflated 69%)
adding: script/revisebiocViews2014.R (188 bytes security) (deflated 68%)
adding: script/revise_expt_biocViews.R (188 bytes security) (deflated 66%)
adding: unitTests/ (208 bytes security) (stored 0%)
adding: unitTests/CITATION (188 bytes security) (deflated 47%)
adding: unitTests/test_biocViews.R (188 bytes security) (deflated 70%)
adding: unitTests/test_citations.R (188 bytes security) (deflated 80%)