Back to the "Multiple platform build/check report" A  B  C  D  E [F] G  H  I  J  K  L  M  N  O  P  Q  R  S  T  U  V  W  X  Y  Z 

BioC 3.3: CHECK report for fabia on linux2.bioconductor.org

This page was generated on 2015-10-27 12:11:51 -0400 (Tue, 27 Oct 2015).

Package 332/1104HostnameOS / ArchINSTALLBUILDCHECKBUILD BIN
fabia 2.17.0
Sepp Hochreiter
Snapshot Date: 2015-10-26 20:20:04 -0400 (Mon, 26 Oct 2015)
URL: https://hedgehog.fhcrc.org/bioconductor/trunk/madman/Rpacks/fabia
Last Changed Rev: 109592 / Revision: 109948
Last Changed Date: 2015-10-13 15:59:53 -0400 (Tue, 13 Oct 2015)
linux2.bioconductor.org Linux (Ubuntu 14.04.2 LTS) / x86_64  OK  OK [ OK ]UNNEEDED, same version exists in internal repository
windows2.bioconductor.org Windows Server 2012 R2 Enterprise SP1 (64-bit) / x64  OK  OK  OK  OK UNNEEDED, same version exists in internal repository

Summary

Package: fabia
Version: 2.17.0
Command: /home/biocbuild/bbs-3.3-bioc/R/bin/R CMD check --no-vignettes --timings fabia_2.17.0.tar.gz
StartedAt: 2015-10-27 03:44:48 -0400 (Tue, 27 Oct 2015)
EndedAt: 2015-10-27 03:45:30 -0400 (Tue, 27 Oct 2015)
EllapsedTime: 42.1 seconds
RetCode: 0
Status:  OK 
CheckDir: fabia.Rcheck
Warnings: 0

Command output

##############################################################################
##############################################################################
###
### Running command:
###
###   /home/biocbuild/bbs-3.3-bioc/R/bin/R CMD check --no-vignettes --timings fabia_2.17.0.tar.gz
###
##############################################################################
##############################################################################


* using log directory ‘/home/biocbuild/bbs-3.3-bioc/meat/fabia.Rcheck’
* using R Under development (unstable) (2015-09-09 r69333)
* using platform: x86_64-pc-linux-gnu (64-bit)
* using session charset: UTF-8
* using option ‘--no-vignettes’
* checking for file ‘fabia/DESCRIPTION’ ... OK
* this is package ‘fabia’ version ‘2.17.0’
* checking package namespace information ... OK
* checking package dependencies ... OK
* checking if this is a source package ... OK
* checking if there is a namespace ... OK
* checking for hidden files and directories ... OK
* checking for portable file names ... OK
* checking for sufficient/correct file permissions ... OK
* checking whether package ‘fabia’ can be installed ... [6s/6s] OK
* checking installed package size ... OK
* checking package directory ... OK
* checking ‘build’ directory ... OK
* checking DESCRIPTION meta-information ... OK
* checking top-level files ... OK
* checking for left-over files ... OK
* checking index information ... OK
* checking package subdirectories ... OK
* checking R files for non-ASCII characters ... OK
* checking R files for syntax errors ... OK
* checking whether the package can be loaded ... OK
* checking whether the package can be loaded with stated dependencies ... OK
* checking whether the package can be unloaded cleanly ... OK
* checking whether the namespace can be loaded with stated dependencies ... OK
* checking whether the namespace can be unloaded cleanly ... OK
* checking dependencies in R code ... OK
* checking S3 generic/method consistency ... OK
* checking replacement functions ... OK
* checking foreign function calls ... OK
* checking R code for possible problems ... NOTE
File ‘fabia/R/zzz.R’:
  .onLoad calls:
    packageStartupMessage("+----------------------------+                                          \n",     "|............................|                                          \n",     "|............................|                                          \n",     "|..............########......|  #######    #    ######    ###      #    \n",     "|..............########......|  #         # #   #     #    #      # #   \n",     "|.....####.....########......|  #        #   #  #     #    #     #   #  \n",     "|.....####.....########......|  #####   #     # ######     #    #     # \n",     "|.....####...................|  #       ####### #     #    #    ####### \n",     "|.....####...........###.....|  #       #     # #     #    #    #     # \n",     "|....................###.....|  #       #     # ######    ###   #     # \n",     "|....................###.....|                                          \n",     "|............................|                                          \n",     "+----------------------------+                                          \n")
    packageStartupMessage("Citation: S. Hochreiter et al.,", "\n",     "FABIA: Factor Analysis for Bicluster Acquisition,", "\n",     "Bioinformatics 26(12):1520-1527, 2010.", "\n", "BibTex: enter 'toBibtex(citation(\"fabia\"))'",     "\n\n", "Homepage: http://www.bioinf.jku.at/software/fabia/fabia.html",     "\n\n", "FABIA Package Version ", version, "\n")

See section ‘Good practice’ in '?.onAttach'.

plot,Factorization-missing: warning in symbols(ll[isel, 1], ll[isel,
  2], circle = sqs[isel], inches = FALSE, lwd = 3, add = TRUE, fg =
  colors[2]): partial argument match of 'circle' to 'circles'
plot,Factorization-missing: warning in symbols(zz[ii, 1], zz[ii, 2],
  square = sqs, inches = FALSE, lwd = 3, add = TRUE, fg = colors[2 +
  iGroup[i]]): partial argument match of 'square' to 'squares'
* checking Rd files ... OK
* checking Rd metadata ... OK
* checking Rd cross-references ... OK
* checking for missing documentation entries ... OK
* checking for code/documentation mismatches ... OK
* checking Rd \usage sections ... OK
* checking Rd contents ... OK
* checking for unstated dependencies in examples ... OK
* checking line endings in C/C++/Fortran sources/headers ... OK
* checking line endings in Makefiles ... OK
* checking compilation flags in Makevars ... OK
* checking for GNU extensions in Makefiles ... OK
* checking for portable use of $(BLAS_LIBS) and $(LAPACK_LIBS) ... OK
* checking compiled code ... OK
* checking installed files from ‘inst/doc’ ... OK
* checking files in ‘vignettes’ ... OK
* checking examples ... [3s/3s] OK
* checking for unstated dependencies in vignettes ... OK
* checking package vignettes in ‘inst/doc’ ... OK
* checking running R code from vignettes ... SKIPPED
* checking re-building of vignette outputs ... SKIPPED
* checking PDF version of manual ... OK
* DONE

Status: 1 NOTE
See
  ‘/home/biocbuild/bbs-3.3-bioc/meat/fabia.Rcheck/00check.log’
for details.


fabia.Rcheck/00install.out:

* installing *source* package ‘fabia’ ...
checking for gcc... gcc -std=gnu99
checking for C compiler default output file name... a.out
checking whether the C compiler works... yes
checking whether we are cross compiling... no
checking for suffix of executables... 
checking for suffix of object files... o
checking whether we are using the GNU C compiler... yes
checking whether gcc -std=gnu99 accepts -g... yes
checking for gcc -std=gnu99 option to accept ANSI C... none needed
checking how to run the C preprocessor... gcc -std=gnu99 -E
configure: creating ./config.status
config.status: creating src/Makevars
** libs
gcc -std=gnu99 -I/home/biocbuild/bbs-3.3-bioc/R/include -DNDEBUG -I/usr/local/include -I/usr/local/include   -g -O2 -fpic  -g -O2  -c fabiac.c -o fabiac.o
gcc -std=gnu99 -shared -L/home/biocbuild/bbs-3.3-bioc/R/lib -L/usr/local/lib -o fabia.so fabiac.o -L/home/biocbuild/bbs-3.3-bioc/R/lib -lR
installing to /home/biocbuild/bbs-3.3-bioc/meat/fabia.Rcheck/fabia/libs
** R
** demo
** inst
** preparing package for lazy loading
Creating a generic function for ‘summary’ from package ‘base’ in package ‘fabia’
Creating a generic function for ‘plot’ from package ‘graphics’ in package ‘fabia’
** help
*** installing help indices
** building package indices
** installing vignettes
** testing if installed package can be loaded
* DONE (fabia)

fabia.Rcheck/fabia-Ex.timings:

nameusersystemelapsed
Factorization-class0.4020.0000.402
estimateMode0.0160.0000.017
extractBic0.0370.0030.039
extractPlot0.1180.0050.124
fabi0.1460.0030.150
fabia0.0420.0000.041
fabiaDemo000
fabiaVersion0.0010.0000.001
fabiap0.0430.0000.043
fabias0.0370.0030.042
fabiasp0.1950.0000.195
makeFabiaData0.1040.0040.108
makeFabiaDataBlocks0.0650.0000.065
makeFabiaDataBlocksPos0.0640.0000.065
makeFabiaDataPos0.0630.0030.068
matrixImagePlot0.0550.0070.063
mfsc0.0850.0040.088
nmfdiv0.1050.0040.109
nmfeu0.0990.0000.099
nmfsc0.0290.0030.033
plotBicluster0.1090.0080.117
projFunc0.0020.0000.003
projFuncPos0.0020.0000.002
readSamplesSpfabia0.0010.0000.001
samplesPerFeature0.0010.0000.001
spfabia0.0410.0080.049