Back to the "Multiple platform build/check report" A  B  C  D  E  F [G] H  I  J  K  L  M  N  O  P  Q  R  S  T  U  V  W  X  Y  Z 

BioC 3.3: CHECK report for gQTLstats on windows2.bioconductor.org

This page was generated on 2015-10-27 12:15:53 -0400 (Tue, 27 Oct 2015).

Package 460/1104HostnameOS / ArchINSTALLBUILDCHECKBUILD BIN
gQTLstats 1.3.6
VJ Carey
Snapshot Date: 2015-10-26 20:20:04 -0400 (Mon, 26 Oct 2015)
URL: https://hedgehog.fhcrc.org/bioconductor/trunk/madman/Rpacks/gQTLstats
Last Changed Rev: 109726 / Revision: 109948
Last Changed Date: 2015-10-18 06:56:13 -0400 (Sun, 18 Oct 2015)
linux2.bioconductor.org Linux (Ubuntu 14.04.2 LTS) / x86_64  OK  OK  OK UNNEEDED, same version exists in internal repository
windows2.bioconductor.org Windows Server 2012 R2 Enterprise SP1 (64-bit) / x64  OK  OK [ OK ] OK UNNEEDED, same version exists in internal repository

Summary

Package: gQTLstats
Version: 1.3.6
Command: rm -rf gQTLstats.buildbin-libdir gQTLstats.Rcheck && mkdir gQTLstats.buildbin-libdir gQTLstats.Rcheck && c:\biocbld\bbs-3.3-bioc\R\bin\R.exe CMD INSTALL --build --merge-multiarch --library=gQTLstats.buildbin-libdir gQTLstats_1.3.6.tar.gz >gQTLstats.Rcheck\00install.out 2>&1 && cp gQTLstats.Rcheck\00install.out gQTLstats-install.out && c:\biocbld\bbs-3.3-bioc\R\bin\R.exe CMD check --library=gQTLstats.buildbin-libdir --install="check:gQTLstats-install.out" --force-multiarch --no-vignettes --timings gQTLstats_1.3.6.tar.gz
StartedAt: 2015-10-27 03:00:13 -0400 (Tue, 27 Oct 2015)
EndedAt: 2015-10-27 03:22:17 -0400 (Tue, 27 Oct 2015)
EllapsedTime: 1323.9 seconds
RetCode: 0
Status:  OK  
CheckDir: gQTLstats.Rcheck
Warnings: 0

Command output

##############################################################################
##############################################################################
###
### Running command:
###
###   rm -rf gQTLstats.buildbin-libdir gQTLstats.Rcheck && mkdir gQTLstats.buildbin-libdir gQTLstats.Rcheck && c:\biocbld\bbs-3.3-bioc\R\bin\R.exe CMD INSTALL --build --merge-multiarch --library=gQTLstats.buildbin-libdir gQTLstats_1.3.6.tar.gz >gQTLstats.Rcheck\00install.out 2>&1 && cp gQTLstats.Rcheck\00install.out gQTLstats-install.out  && c:\biocbld\bbs-3.3-bioc\R\bin\R.exe CMD check --library=gQTLstats.buildbin-libdir --install="check:gQTLstats-install.out" --force-multiarch --no-vignettes --timings gQTLstats_1.3.6.tar.gz
###
##############################################################################
##############################################################################


* using log directory 'c:/biocbld/bbs-3.3-bioc/meat/gQTLstats.Rcheck'
* using R Under development (unstable) (2015-09-22 r69418)
* using platform: x86_64-w64-mingw32 (64-bit)
* using session charset: ISO8859-1
* using option '--no-vignettes'
* checking for file 'gQTLstats/DESCRIPTION' ... OK
* this is package 'gQTLstats' version '1.3.6'
* checking package namespace information ... OK
* checking package dependencies ... OK
* checking if this is a source package ... OK
* checking if there is a namespace ... OK
* checking for hidden files and directories ... OK
* checking for portable file names ... OK
* checking whether package 'gQTLstats' can be installed ... OK
* checking installed package size ... NOTE
  installed size is 16.6Mb
  sub-directories of 1Mb or more:
    data   9.6Mb
    vcf    5.6Mb
* checking package directory ... OK
* checking 'build' directory ... OK
* checking DESCRIPTION meta-information ... OK
* checking top-level files ... OK
* checking for left-over files ... OK
* checking index information ... OK
* checking package subdirectories ... OK
* checking R files for non-ASCII characters ... OK
* checking R files for syntax errors ... OK
* loading checks for arch 'i386'
** checking whether the package can be loaded ... OK
** checking whether the package can be loaded with stated dependencies ... OK
** checking whether the package can be unloaded cleanly ... OK
** checking whether the namespace can be loaded with stated dependencies ... OK
** checking whether the namespace can be unloaded cleanly ... OK
* loading checks for arch 'x64'
** checking whether the package can be loaded ... OK
** checking whether the package can be loaded with stated dependencies ... OK
** checking whether the package can be unloaded cleanly ... OK
** checking whether the namespace can be loaded with stated dependencies ... OK
** checking whether the namespace can be unloaded cleanly ... OK
* checking dependencies in R code ... OK
* checking S3 generic/method consistency ... OK
* checking replacement functions ... OK
* checking foreign function calls ... OK
* checking R code for possible problems ... NOTE
.eqBox: no visible global function definition for
  'SnpMatrixCisToSummex'
.eqDesc: no visible global function definition for
  'SnpMatrixCisToSummex'
cisAssoc: no visible global function definition for 'DNAStringSetList'
cisCount: no visible global function definition for 'DNAStringSetList'
gmod2: no visible binding for global variable 'Homo.sapiens'
gmod2: no visible binding for global variable 'exonsBy'
manhWngr: no visible binding for global variable 'ml10fdr'
maxByFeature: no visible binding for global variable 'snp'
maxByFeature: no visible binding for global variable 'chisq'
maxByFeature: no visible binding for global variable 'probeid'
maxByProbeOLD: no visible binding for global variable 'snp'
maxByProbeOLD: no visible binding for global variable 'probeid'
maxByProbeOLD: no visible binding for global variable 'chisq'
maxByProbeOLD: no visible binding for global variable 'permScore_1'
maxByProbeOLD: no visible binding for global variable 'permScore_2'
maxByProbeOLD: no visible binding for global variable 'permScore_3'
plot.senstab: no visible binding for global variable 'MAF'
plot.senstab: no visible binding for global variable 'value'
plot.senstab: no visible binding for global variable 'criterion'
plot.table.sensobj: no visible binding for global variable 'maf'
plot.table.sensobj: no visible binding for global variable 'calls'
prep.cisAssocNB: no visible global function definition for
  'DNAStringSetList'
storeToHist: no visible binding for global variable 'x'
storeToMaxAssocBySNP: no visible binding for global variable 'snp'
storeToMaxAssocBySNP: no visible binding for global variable 'chisq'
storeToMaxAssocBySNP: no visible binding for global variable
  'permScore_1'
storeToMaxAssocBySNP: no visible binding for global variable
  'permScore_2'
storeToMaxAssocBySNP: no visible binding for global variable
  'permScore_3'
storeToMaxAssocBySNP: no visible global function definition for 'nth'
storeToMaxAssocBySNP: no visible binding for global variable 'MAF'
storeToMaxAssocBySNP: no visible binding for global variable 'probeid'
storeToMaxAssocBySNP: no visible binding for global variable 'mindist'
Undefined global functions or variables:
  DNAStringSetList Homo.sapiens MAF SnpMatrixCisToSummex calls chisq
  criterion exonsBy maf mindist ml10fdr nth permScore_1 permScore_2
  permScore_3 probeid snp value x
* checking Rd files ... NOTE
prepare_Rd: qqStore.Rd:66-68: Dropping empty section \details
* checking Rd metadata ... OK
* checking Rd cross-references ... OK
* checking for missing documentation entries ... OK
* checking for code/documentation mismatches ... OK
* checking Rd \usage sections ... OK
* checking Rd contents ... OK
* checking for unstated dependencies in examples ... OK
* checking contents of 'data' directory ... OK
* checking data for non-ASCII characters ... NOTE
  Note: found 8 marked Latin-1 strings
  Note: found 8 marked UTF-8 strings
* checking data for ASCII and uncompressed saves ... OK
* checking installed files from 'inst/doc' ... OK
* checking files in 'vignettes' ... OK
* checking examples ...
** running examples for arch 'i386' ... [300s] OK
Examples with CPU or elapsed time > 5s
                 user system elapsed
storeToStats   156.47   3.47  164.83
enumerateByFDR  47.58   2.33   51.75
clipPCs         37.36   0.87   38.24
cisAssoc        10.97   0.36   11.38
eqBox2           9.10   0.24    9.33
queryVCF         9.09   0.17    9.28
** running examples for arch 'x64' ... [266s] OK
Examples with CPU or elapsed time > 5s
                 user system elapsed
storeToStats   139.56   2.11  141.75
enumerateByFDR  41.20   2.01   43.22
clipPCs         33.89   0.92   34.83
cisAssoc        11.55   0.24   11.78
eqBox2           9.16   0.25    9.40
queryVCF         8.40   0.14    8.54
* checking for unstated dependencies in 'tests' ... OK
* checking tests ...
** running tests for arch 'i386' ...
  Running 'test-all.R' [246s]
 [246s] OK
** running tests for arch 'x64' ...
  Running 'test-all.R' [231s]
 [231s] OK
* checking for unstated dependencies in vignettes ... OK
* checking package vignettes in 'inst/doc' ... OK
* checking running R code from vignettes ... SKIPPED
* checking re-building of vignette outputs ... SKIPPED
* checking PDF version of manual ... OK
* DONE

Status: 4 NOTEs
See
  'c:/biocbld/bbs-3.3-bioc/meat/gQTLstats.Rcheck/00check.log'
for details.


gQTLstats.Rcheck/00install.out:


install for i386

* installing *source* package 'gQTLstats' ...
** R
** data
** inst
** preparing package for lazy loading
** help
*** installing help indices
** building package indices
** installing vignettes
** testing if installed package can be loaded

install for x64

* installing *source* package 'gQTLstats' ...
** testing if installed package can be loaded
* MD5 sums
packaged installation of 'gQTLstats' as gQTLstats_1.3.6.zip
* DONE (gQTLstats)

gQTLstats.Rcheck/examples_i386/gQTLstats-Ex.timings:

nameusersystemelapsed
FDRsupp-class000
cisAssoc10.97 0.3611.38
clipPCs37.36 0.8738.24
directPlot0.030.000.03
enumerateByFDR47.58 2.3351.75
eqBox29.100.249.33
filtFDR0.030.000.03
hmm8780.980.000.98
manhWngr3.690.153.85
qqStore000
queryVCF9.090.179.28
senstab1.330.001.32
setFDRfunc0.010.020.03
storeToStats156.47 3.47164.83
txsPlot0.030.000.03

gQTLstats.Rcheck/examples_x64/gQTLstats-Ex.timings:

nameusersystemelapsed
FDRsupp-class000
cisAssoc11.55 0.2411.78
clipPCs33.89 0.9234.83
directPlot0.030.000.03
enumerateByFDR41.20 2.0143.22
eqBox29.160.259.40
filtFDR0.030.000.03
hmm8781.010.031.04
manhWngr2.920.153.06
qqStore000
queryVCF8.400.148.54
senstab1.190.001.19
setFDRfunc0.030.000.03
storeToStats139.56 2.11141.75
txsPlot0.020.010.03