genomation 1.3.1 Altuna Akalin , Vedran Franke
Snapshot Date: 2015-10-26 20:20:04 -0400 (Mon, 26 Oct 2015) | URL: https://hedgehog.fhcrc.org/bioconductor/trunk/madman/Rpacks/genomation | Last Changed Rev: 109920 / Revision: 109948 | Last Changed Date: 2015-10-26 09:03:56 -0400 (Mon, 26 Oct 2015) |
| linux2.bioconductor.org | Linux (Ubuntu 14.04.2 LTS) / x86_64 | OK | OK | ERROR | | |
windows2.bioconductor.org | Windows Server 2012 R2 Enterprise SP1 (64-bit) / x64 | OK | OK | ERROR | [ OK ] | |
##############################################################################
##############################################################################
###
### Running command:
###
### cd genomation.buildbin-libdir/genomation && zip -r ../../genomation_1.3.1.zip . & cd ../..
###
##############################################################################
##############################################################################
adding: CITATION (188 bytes security) (deflated 51%)
adding: data/ (208 bytes security) (stored 0%)
adding: data/cage.RData (188 bytes security) (deflated 0%)
adding: data/cpgi.RData (188 bytes security) (stored 0%)
adding: data/genes.RData (188 bytes security) (stored 0%)
adding: data/promoters.RData (188 bytes security) (stored 0%)
adding: DESCRIPTION (188 bytes security) (deflated 47%)
adding: doc/ (208 bytes security) (stored 0%)
adding: doc/GenomationManual-knitr.html (188 bytes security) (deflated 75%)
adding: doc/GenomationManual-knitr.Rmd (188 bytes security) (deflated 69%)
adding: doc/index.html (188 bytes security) (deflated 59%)
adding: extdata/ (208 bytes security) (stored 0%)
adding: extdata/chr21.CpGi.hg19.bed (188 bytes security) (deflated 67%)
adding: extdata/chr21.refseq.hg19.bed (188 bytes security) (deflated 71%)
adding: extdata/chr21.refseq.hg19.gtf (188 bytes security) (deflated 94%)
adding: extdata/EnhancersEncode.txt.Test (188 bytes security) (deflated 53%)
adding: extdata/ex.broadPeak (188 bytes security) (deflated 38%)
adding: extdata/ex.narrowPeak (188 bytes security) (deflated 40%)
adding: extdata/Fantom4.Cage.Test (188 bytes security) (deflated 63%)
adding: extdata/tab1.bed (188 bytes security) (deflated 40%)
adding: extdata/tab2.bed (188 bytes security) (deflated 43%)
adding: extdata/tab3.bed (188 bytes security) (deflated 46%)
adding: help/ (208 bytes security) (stored 0%)
adding: help/aliases.rds (188 bytes security) (stored 0%)
adding: help/AnIndex (188 bytes security) (deflated 84%)
adding: help/genomation.rdb (188 bytes security) (deflated 2%)
adding: help/genomation.rdx (188 bytes security) (stored 0%)
adding: help/paths.rds (188 bytes security) (stored 0%)
adding: html/ (208 bytes security) (stored 0%)
adding: html/00Index.html (188 bytes security) (deflated 85%)
adding: html/R.css (188 bytes security) (deflated 75%)
adding: INDEX (188 bytes security) (deflated 76%)
adding: MD5 (188 bytes security) (deflated 47%)
adding: Meta/ (208 bytes security) (stored 0%)
adding: Meta/data.rds (188 bytes security) (stored 0%)
adding: Meta/hsearch.rds (188 bytes security) (stored 0%)
adding: Meta/links.rds (188 bytes security) (stored 0%)
adding: Meta/nsInfo.rds (188 bytes security) (stored 0%)
adding: Meta/package.rds (188 bytes security) (stored 0%)
adding: Meta/Rd.rds (188 bytes security) (stored 0%)
adding: Meta/vignette.rds (188 bytes security) (stored 0%)
adding: NAMESPACE (188 bytes security) (deflated 69%)
adding: NEWS (188 bytes security) (deflated 67%)
adding: R/ (208 bytes security) (stored 0%)
adding: R/genomation (188 bytes security) (deflated 41%)
adding: R/genomation.rdb (188 bytes security) (deflated 34%)
adding: R/genomation.rdx (188 bytes security) (deflated 1%)
adding: scripts/ (208 bytes security) (stored 0%)
adding: scripts/devtools_test.R (188 bytes security) (deflated 58%)
adding: scripts/FunctionNames.txt (188 bytes security) (deflated 26%)
adding: scripts/produceDataForExamples.R (188 bytes security) (deflated 64%)
adding: tests/ (208 bytes security) (stored 0%)
adding: unitTests/ (208 bytes security) (stored 0%)
adding: unitTests/tab.test1 (188 bytes security) (deflated 14%)
adding: unitTests/tab.test2 (188 bytes security) (deflated 21%)
adding: unitTests/tab.test3 (188 bytes security) (deflated 16%)
adding: unitTests/tab.test3.zip (188 bytes security) (stored 0%)
adding: unitTests/tab.test4 (188 bytes security) (deflated 32%)
adding: unitTests/test.bam (188 bytes security) (deflated 9%)
adding: unitTests/test.bam.bai (188 bytes security) (deflated 69%)
adding: unitTests/test.bedGraph (188 bytes security) (deflated 53%)
adding: unitTests/test.bw (188 bytes security) (deflated 99%)
adding: unitTests/test.gtf (188 bytes security) (deflated 65%)
adding: unitTests/test_pairedend.bam (188 bytes security) (deflated 8%)
adding: unitTests/test_pairedend.bam.bai (188 bytes security) (deflated 59%)
adding: unitTests/test_PatternMatrix.R (188 bytes security) (deflated 79%)
adding: unitTests/test_readData.R (188 bytes security) (deflated 76%)
adding: unitTests/test_ScoreMatrix.R (188 bytes security) (deflated 77%)
adding: unitTests/test_ScoreMatrixBin.R (188 bytes security) (deflated 76%)
adding: unitTests/test_ScoreMatrixList.R (188 bytes security) (deflated 80%)