motifStack 1.15.0 Jianhong Ou
Snapshot Date: 2015-10-26 20:20:04 -0400 (Mon, 26 Oct 2015) | URL: https://hedgehog.fhcrc.org/bioconductor/trunk/madman/Rpacks/motifStack | Last Changed Rev: 109592 / Revision: 109948 | Last Changed Date: 2015-10-13 15:59:53 -0400 (Tue, 13 Oct 2015) |
| linux2.bioconductor.org | Linux (Ubuntu 14.04.2 LTS) / x86_64 | OK | OK | OK | | ![UNNEEDED, same version exists in internal repository UNNEEDED, same version exists in internal repository](../120px-Blue_Light_Icon.svg.png) |
windows2.bioconductor.org | Windows Server 2012 R2 Enterprise SP1 (64-bit) / x64 | OK | OK | OK | [ OK ] | ![UNNEEDED, same version exists in internal repository UNNEEDED, same version exists in internal repository](../120px-Blue_Light_Icon.svg.png) |
##############################################################################
##############################################################################
###
### Running command:
###
### cd motifStack.buildbin-libdir/motifStack && zip -r ../../motifStack_1.15.0.zip . & cd ../..
###
##############################################################################
##############################################################################
adding: DESCRIPTION (188 bytes security) (deflated 51%)
adding: doc/ (208 bytes security) (stored 0%)
adding: doc/index.html (188 bytes security) (deflated 67%)
adding: doc/motifStack.pdf (188 bytes security) (deflated 13%)
adding: doc/motifStack.Rnw (188 bytes security) (deflated 68%)
adding: doc/motifStack_HTML.html (188 bytes security) (deflated 31%)
adding: doc/motifStack_HTML.Rmd (188 bytes security) (deflated 66%)
adding: extdata/ (208 bytes security) (stored 0%)
adding: extdata/bin_SOLEXA.pcm (188 bytes security) (deflated 29%)
adding: extdata/cap.txt (188 bytes security) (deflated 67%)
adding: extdata/fd64A_SOLEXA.pcm (188 bytes security) (deflated 30%)
adding: extdata/fkh_NAR.pcm (188 bytes security) (deflated 37%)
adding: extdata/foxo_SOLEXA.pcm (188 bytes security) (deflated 29%)
adding: extdata/FoxP_SOLEXA.pcm (188 bytes security) (deflated 32%)
adding: extdata/slp1_SOLEXA.pcm (188 bytes security) (deflated 34%)
adding: extdata/slp2_SOLEXA.pcm (188 bytes security) (deflated 34%)
adding: help/ (208 bytes security) (stored 0%)
adding: help/aliases.rds (188 bytes security) (stored 0%)
adding: help/AnIndex (188 bytes security) (deflated 76%)
adding: help/motifStack.rdb (188 bytes security) (deflated 1%)
adding: help/motifStack.rdx (188 bytes security) (stored 0%)
adding: help/paths.rds (188 bytes security) (stored 0%)
adding: html/ (208 bytes security) (stored 0%)
adding: html/00Index.html (188 bytes security) (deflated 83%)
adding: html/R.css (188 bytes security) (deflated 75%)
adding: INDEX (188 bytes security) (deflated 68%)
adding: MD5 (188 bytes security) (deflated 44%)
adding: Meta/ (208 bytes security) (stored 0%)
adding: Meta/hsearch.rds (188 bytes security) (stored 0%)
adding: Meta/links.rds (188 bytes security) (stored 0%)
adding: Meta/nsInfo.rds (188 bytes security) (stored 0%)
adding: Meta/package.rds (188 bytes security) (stored 0%)
adding: Meta/Rd.rds (188 bytes security) (stored 0%)
adding: Meta/vignette.rds (188 bytes security) (stored 0%)
adding: NAMESPACE (188 bytes security) (deflated 54%)
adding: NEWS (188 bytes security) (deflated 84%)
adding: R/ (208 bytes security) (stored 0%)
adding: R/motifStack (188 bytes security) (deflated 41%)
adding: R/motifStack.rdb (188 bytes security) (deflated 27%)
adding: R/motifStack.rdx (188 bytes security) (deflated 1%)
adding: unitTests/ (208 bytes security) (stored 0%)
adding: unitTests/test_motifStack.R (188 bytes security) (deflated 78%)