nem 2.45.0 Holger Froehlich
Snapshot Date: 2015-10-26 20:20:04 -0400 (Mon, 26 Oct 2015) | URL: https://hedgehog.fhcrc.org/bioconductor/trunk/madman/Rpacks/nem | Last Changed Rev: 109592 / Revision: 109948 | Last Changed Date: 2015-10-13 15:59:53 -0400 (Tue, 13 Oct 2015) |
| linux2.bioconductor.org | Linux (Ubuntu 14.04.2 LTS) / x86_64 | OK | OK | OK | | |
windows2.bioconductor.org | Windows Server 2012 R2 Enterprise SP1 (64-bit) / x64 | [ OK ] | OK | OK | OK | |
##############################################################################
##############################################################################
###
### Running command:
###
### C:\cygwin64\bin\curl.exe -O http://linux2.bioconductor.org/BBS/3.3/bioc/src/contrib/nem_2.45.0.tar.gz && c:\biocbld\bbs-3.3-bioc\R\bin\R.exe CMD INSTALL --merge-multiarch nem_2.45.0.tar.gz && rm nem_2.45.0.tar.gz
###
##############################################################################
##############################################################################
% Total % Received % Xferd Average Speed Time Time Time Current
Dload Upload Total Spent Left Speed
0 0 0 0 0 0 0 0 --:--:-- --:--:-- --:--:-- 0
100 4182k 100 4182k 0 0 139M 0 --:--:-- --:--:-- --:--:-- 157M
install for i386
* installing to library 'c:/biocbld/bbs-3.3-bioc/R/library'
* installing *source* package 'nem' ...
** libs
gcc -m32 -I"c:/biocbld/BBS-3˜1.3-B/R/include" -DNDEBUG -I"d:/RCompile/r-compiling/local/local320/include" -O3 -Wall -std=gnu99 -mtune=core2 -c MCMC.c -o MCMC.o
MCMC.c: In function 'network_likelihood':
MCMC.c:116:41: warning: suggest parentheses around comparison in operand of '&' [-Wparentheses]
MCMC.c:125:6: warning: suggest parentheses around comparison in operand of '&' [-Wparentheses]
MCMC.c: In function 'MCMCrun':
MCMC.c:403:10: warning: unused variable 'stored2' [-Wunused-variable]
MCMC.c:402:10: warning: unused variable 'stored' [-Wunused-variable]
MCMC.c:359:35: warning: unused variable 'mutinf' [-Wunused-variable]
MCMC.c: In function 'network_likelihood':
MCMC.c:108:6: warning: 'max_loglik0_idx' may be used uninitialized in this function [-Wuninitialized]
MCMC.c: In function 'MCMCrun':
MCMC.c:455:24: warning: 'delta_poss_operations' may be used uninitialized in this function [-Wuninitialized]
MCMC.c:28:48: warning: 'logPrior_cur' may be used uninitialized in this function [-Wuninitialized]
MCMC.c:407:24: note: 'logPrior_cur' was declared here
MCMC.c:28:20: warning: 'likelihood' may be used uninitialized in this function [-Wuninitialized]
MCMC.c:407:12: note: 'likelihood' was declared here
gcc -m32 -I"c:/biocbld/BBS-3˜1.3-B/R/include" -DNDEBUG -I"d:/RCompile/r-compiling/local/local320/include" -O3 -Wall -std=gnu99 -mtune=core2 -c netlearn.c -o netlearn.o
netlearn.c: In function 'learn_network':
netlearn.c:168:9: warning: unused variable 'lik_switch' [-Wunused-variable]
gcc -m32 -I"c:/biocbld/BBS-3˜1.3-B/R/include" -DNDEBUG -I"d:/RCompile/r-compiling/local/local320/include" -O3 -Wall -std=gnu99 -mtune=core2 -c wrapper.c -o wrapper.o
wrapper.c: In function 'MCMCrunWrapper':
wrapper.c:107:5: warning: suggest parentheses around comparison in operand of '&' [-Wparentheses]
gcc -m32 -shared -s -static-libgcc -o nem.dll tmp.def MCMC.o netlearn.o wrapper.o -Ld:/RCompile/r-compiling/local/local320/lib/i386 -Ld:/RCompile/r-compiling/local/local320/lib -Lc:/biocbld/BBS-3˜1.3-B/R/bin/i386 -lR
installing to c:/biocbld/bbs-3.3-bioc/R/library/nem/libs/i386
** R
** data
** inst
** preparing package for lazy loading
** help
*** installing help indices
** building package indices
** installing vignettes
'nem.Rnw' using 'latin1'
** testing if installed package can be loaded
install for x64
* installing to library 'c:/biocbld/bbs-3.3-bioc/R/library'
* installing *source* package 'nem' ...
** libs
gcc -m64 -I"c:/biocbld/BBS-3˜1.3-B/R/include" -DNDEBUG -I"d:/RCompile/r-compiling/local/local320/include" -O2 -Wall -std=gnu99 -mtune=core2 -c MCMC.c -o MCMC.o
MCMC.c: In function 'network_likelihood':
MCMC.c:116:41: warning: suggest parentheses around comparison in operand of '&' [-Wparentheses]
MCMC.c:125:6: warning: suggest parentheses around comparison in operand of '&' [-Wparentheses]
MCMC.c: In function 'MCMCrun':
MCMC.c:403:10: warning: unused variable 'stored2' [-Wunused-variable]
MCMC.c:402:10: warning: unused variable 'stored' [-Wunused-variable]
MCMC.c:359:35: warning: unused variable 'mutinf' [-Wunused-variable]
MCMC.c: In function 'network_likelihood':
MCMC.c:108:6: warning: 'max_loglik0_idx' may be used uninitialized in this function [-Wuninitialized]
MCMC.c: In function 'MCMCrun':
MCMC.c:455:24: warning: 'delta_poss_operations' may be used uninitialized in this function [-Wuninitialized]
MCMC.c:455:10: warning: 'logPrior_cur' may be used uninitialized in this function [-Wuninitialized]
MCMC.c:455:10: warning: 'logPriorOld' may be used uninitialized in this function [-Wuninitialized]
MCMC.c:455:10: warning: 'likelihood' may be used uninitialized in this function [-Wuninitialized]
gcc -m64 -I"c:/biocbld/BBS-3˜1.3-B/R/include" -DNDEBUG -I"d:/RCompile/r-compiling/local/local320/include" -O2 -Wall -std=gnu99 -mtune=core2 -c netlearn.c -o netlearn.o
netlearn.c: In function 'learn_network':
netlearn.c:168:9: warning: unused variable 'lik_switch' [-Wunused-variable]
gcc -m64 -I"c:/biocbld/BBS-3˜1.3-B/R/include" -DNDEBUG -I"d:/RCompile/r-compiling/local/local320/include" -O2 -Wall -std=gnu99 -mtune=core2 -c wrapper.c -o wrapper.o
wrapper.c: In function 'MCMCrunWrapper':
wrapper.c:107:5: warning: suggest parentheses around comparison in operand of '&' [-Wparentheses]
gcc -m64 -shared -s -static-libgcc -o nem.dll tmp.def MCMC.o netlearn.o wrapper.o -Ld:/RCompile/r-compiling/local/local320/lib/x64 -Ld:/RCompile/r-compiling/local/local320/lib -Lc:/biocbld/BBS-3˜1.3-B/R/bin/x64 -lR
installing to c:/biocbld/bbs-3.3-bioc/R/library/nem/libs/x64
** testing if installed package can be loaded
* DONE (nem)