Back to the "Multiple platform build/check report" A  B  C  D  E  F  G  H  I  J  K  L  M  N [O] P  Q  R  S  T  U  V  W  X  Y  Z 

BioC 3.3: CHECK report for oligoClasses on windows2.bioconductor.org

This page was generated on 2015-10-27 12:14:20 -0400 (Tue, 27 Oct 2015).

Package 722/1104HostnameOS / ArchINSTALLBUILDCHECKBUILD BIN
oligoClasses 1.33.0
Benilton Carvalho and Robert Scharpf
Snapshot Date: 2015-10-26 20:20:04 -0400 (Mon, 26 Oct 2015)
URL: https://hedgehog.fhcrc.org/bioconductor/trunk/madman/Rpacks/oligoClasses
Last Changed Rev: 109592 / Revision: 109948
Last Changed Date: 2015-10-13 15:59:53 -0400 (Tue, 13 Oct 2015)
linux2.bioconductor.org Linux (Ubuntu 14.04.2 LTS) / x86_64  OK  OK  OK UNNEEDED, same version exists in internal repository
windows2.bioconductor.org Windows Server 2012 R2 Enterprise SP1 (64-bit) / x64  OK  OK [ OK ] OK UNNEEDED, same version exists in internal repository

Summary

Package: oligoClasses
Version: 1.33.0
Command: rm -rf oligoClasses.buildbin-libdir oligoClasses.Rcheck && mkdir oligoClasses.buildbin-libdir oligoClasses.Rcheck && c:\biocbld\bbs-3.3-bioc\R\bin\R.exe CMD INSTALL --build --merge-multiarch --library=oligoClasses.buildbin-libdir oligoClasses_1.33.0.tar.gz >oligoClasses.Rcheck\00install.out 2>&1 && cp oligoClasses.Rcheck\00install.out oligoClasses-install.out && c:\biocbld\bbs-3.3-bioc\R\bin\R.exe CMD check --library=oligoClasses.buildbin-libdir --install="check:oligoClasses-install.out" --force-multiarch --no-vignettes --timings oligoClasses_1.33.0.tar.gz
StartedAt: 2015-10-27 04:41:25 -0400 (Tue, 27 Oct 2015)
EndedAt: 2015-10-27 04:44:56 -0400 (Tue, 27 Oct 2015)
EllapsedTime: 211.2 seconds
RetCode: 0
Status:  OK  
CheckDir: oligoClasses.Rcheck
Warnings: 0

Command output

##############################################################################
##############################################################################
###
### Running command:
###
###   rm -rf oligoClasses.buildbin-libdir oligoClasses.Rcheck && mkdir oligoClasses.buildbin-libdir oligoClasses.Rcheck && c:\biocbld\bbs-3.3-bioc\R\bin\R.exe CMD INSTALL --build --merge-multiarch --library=oligoClasses.buildbin-libdir oligoClasses_1.33.0.tar.gz >oligoClasses.Rcheck\00install.out 2>&1 && cp oligoClasses.Rcheck\00install.out oligoClasses-install.out  && c:\biocbld\bbs-3.3-bioc\R\bin\R.exe CMD check --library=oligoClasses.buildbin-libdir --install="check:oligoClasses-install.out" --force-multiarch --no-vignettes --timings oligoClasses_1.33.0.tar.gz
###
##############################################################################
##############################################################################


* using log directory 'c:/biocbld/bbs-3.3-bioc/meat/oligoClasses.Rcheck'
* using R Under development (unstable) (2015-09-22 r69418)
* using platform: x86_64-w64-mingw32 (64-bit)
* using session charset: ISO8859-1
* using option '--no-vignettes'
* checking for file 'oligoClasses/DESCRIPTION' ... OK
* this is package 'oligoClasses' version '1.33.0'
* checking package namespace information ... OK
* checking package dependencies ... NOTE
Packages which this enhances but not available for checking:
  'doMC' 'doRedis'
* checking if this is a source package ... OK
* checking if there is a namespace ... OK
* checking for hidden files and directories ... OK
* checking for portable file names ... OK
* checking whether package 'oligoClasses' can be installed ... OK
* checking installed package size ... OK
* checking package directory ... OK
* checking DESCRIPTION meta-information ... OK
* checking top-level files ... OK
* checking for left-over files ... OK
* checking index information ... OK
* checking package subdirectories ... OK
* checking R files for non-ASCII characters ... OK
* checking R files for syntax errors ... OK
* loading checks for arch 'i386'
** checking whether the package can be loaded ... OK
** checking whether the package can be loaded with stated dependencies ... OK
** checking whether the package can be unloaded cleanly ... OK
** checking whether the namespace can be loaded with stated dependencies ... OK
** checking whether the namespace can be unloaded cleanly ... OK
* loading checks for arch 'x64'
** checking whether the package can be loaded ... OK
** checking whether the package can be loaded with stated dependencies ... OK
** checking whether the package can be unloaded cleanly ... OK
** checking whether the namespace can be loaded with stated dependencies ... OK
** checking whether the namespace can be unloaded cleanly ... OK
* checking dependencies in R code ... NOTE
Unexported object imported by a ':::' call: 'Biobase:::assayDataEnvLock'
  See the note in ?`:::` about the use of this operator.
* checking S3 generic/method consistency ... OK
* checking replacement functions ... OK
* checking foreign function calls ... OK
* checking R code for possible problems ... NOTE
getSequenceLengths: no visible binding for global variable 'seqlengths'
chromosome,gSetList: no visible global function definition for
  'chromosomeList'
coerce,CNSet-CopyNumberSet: no visible global function definition for
  'totalCopynumber'
geometry,FeatureSet: no visible global function definition for 'getPD'
Undefined global functions or variables:
  chromosomeList getPD seqlengths totalCopynumber
* checking Rd files ... OK
* checking Rd metadata ... OK
* checking Rd cross-references ... OK
* checking for missing documentation entries ... OK
* checking for code/documentation mismatches ... OK
* checking Rd \usage sections ... OK
* checking Rd contents ... OK
* checking for unstated dependencies in examples ... OK
* checking contents of 'data' directory ... OK
* checking data for non-ASCII characters ... OK
* checking data for ASCII and uncompressed saves ... OK
* checking line endings in Makefiles ... OK
* checking for GNU extensions in Makefiles ... OK
* checking files in 'vignettes' ... OK
* checking examples ...
** running examples for arch 'i386' ... [30s] OK
Examples with CPU or elapsed time > 5s
                               user system elapsed
GenomeAnnotatedDataFrame-class 0.73   0.14   18.28
** running examples for arch 'x64' ... [14s] OK
* checking for unstated dependencies in 'tests' ... OK
* checking tests ...
** running tests for arch 'i386' ...
  Running 'doRUnit.R' [19s]
 [19s] OK
** running tests for arch 'x64' ...
  Running 'doRUnit.R' [20s]
 [20s] OK
* checking PDF version of manual ... OK
* DONE

Status: 3 NOTEs
See
  'c:/biocbld/bbs-3.3-bioc/meat/oligoClasses.Rcheck/00check.log'
for details.


oligoClasses.Rcheck/00install.out:


install for i386

* installing *source* package 'oligoClasses' ...
** R
** data
** inst
** preparing package for lazy loading
Creating a generic function for 'open' from package 'base' in package 'oligoClasses'
Creating a generic function for 'close' from package 'base' in package 'oligoClasses'
** help
*** installing help indices
** building package indices
** installing vignettes
** testing if installed package can be loaded

install for x64

* installing *source* package 'oligoClasses' ...
** testing if installed package can be loaded
* MD5 sums
packaged installation of 'oligoClasses' as oligoClasses_1.33.0.zip
* DONE (oligoClasses)

oligoClasses.Rcheck/examples_i386/oligoClasses-Ex.timings:

nameusersystemelapsed
AlleleSet-class0.090.000.09
AssayData-methods2.030.132.16
AssayDataList0.020.000.01
BeadStudioSet-class0.030.000.03
CNSet-class0.030.020.05
CopyNumberSet-class0.030.000.03
CopyNumberSet-methods0.190.010.20
FeatureSetExtensions-class0.090.000.10
GRanges-methods0.420.000.42
GenomeAnnotatedDataFrame-class 0.73 0.1418.28
GenomeAnnotatedDataFrameFrom-methods0.860.051.30
SnpSet-methods0.030.000.03
SnpSet2-class0.010.000.01
SnpSuperSet-class0.050.000.05
affyPlatforms000
batch0.020.000.02
celfileDate0.000.010.08
celfileName000
checkExists000
checkOrder0.490.000.49
chromosome-methods000
chromosome2integer000
clusterOpts000
data-efsExample0.010.000.01
data-scqsExample000
data-sfsExample000
data-sqsExample000
db000
ff_matrix000
ff_or_matrix-class000
fileConnections000
flags0.040.000.03
gSet-class000
gSetList-class000
genomeBuild000
geometry-methods0.230.020.25
getBar000
getSequenceLengths0.090.000.09
i2p_p2i000
integerMatrix000
is.ffmatrix000
isPackageLoaded000
kind0.170.000.17
largeObjects000
ldOpts000
library20.030.000.03
list.celfiles0.000.000.13
locusLevelData0.070.000.06
makeFeatureGRanges2.040.042.14
oligoSetExample0.240.020.25
pdPkgFromBioC000
requireAnnotation000
splitVec000

oligoClasses.Rcheck/examples_x64/oligoClasses-Ex.timings:

nameusersystemelapsed
AlleleSet-class0.110.000.11
AssayData-methods2.690.032.72
AssayDataList000
BeadStudioSet-class0.040.000.05
CNSet-class0.050.000.05
CopyNumberSet-class0.030.000.03
CopyNumberSet-methods0.150.060.22
FeatureSetExtensions-class0.170.020.19
GRanges-methods0.390.010.41
GenomeAnnotatedDataFrame-class1.110.081.19
GenomeAnnotatedDataFrameFrom-methods0.850.000.86
SnpSet-methods0.050.000.05
SnpSet2-class0.030.000.03
SnpSuperSet-class0.070.000.06
affyPlatforms000
batch0.030.000.04
celfileDate0.010.000.01
celfileName000
checkExists0.020.000.02
checkOrder0.190.000.18
chromosome-methods000
chromosome2integer000
clusterOpts000
data-efsExample000
data-scqsExample0.010.000.02
data-sfsExample000
data-sqsExample000
db000
ff_matrix000
ff_or_matrix-class000
fileConnections000
flags0.440.000.44
gSet-class000
gSetList-class0.010.000.01
genomeBuild000
geometry-methods0.190.010.21
getBar000
getSequenceLengths0.160.020.17
i2p_p2i0.010.000.01
integerMatrix000
is.ffmatrix000
isPackageLoaded000
kind0.140.030.18
largeObjects000
ldOpts000
library20.050.000.04
list.celfiles0.020.000.02
locusLevelData0.070.000.08
makeFeatureGRanges2.570.062.62
oligoSetExample0.110.020.13
pdPkgFromBioC000
requireAnnotation000
splitVec000